BEGIN:VCALENDAR
VERSION:2.0
PRODID:-//Carnaval de C&aacute;diz - ECPv6.15.20//NONSGML v1.0//EN
CALSCALE:GREGORIAN
METHOD:PUBLISH
X-WR-CALNAME:Carnaval de C&aacute;diz
X-ORIGINAL-URL:https://www.carnavaldecadiz.com
X-WR-CALDESC:Eventos para Carnaval de C&aacute;diz
REFRESH-INTERVAL;VALUE=DURATION:PT1H
X-Robots-Tag:noindex
X-PUBLISHED-TTL:PT1H
BEGIN:VTIMEZONE
TZID:Europe/Madrid
BEGIN:DAYLIGHT
TZOFFSETFROM:+0100
TZOFFSETTO:+0200
TZNAME:CEST
DTSTART:20240331T010000
END:DAYLIGHT
BEGIN:STANDARD
TZOFFSETFROM:+0200
TZOFFSETTO:+0100
TZNAME:CET
DTSTART:20241027T010000
END:STANDARD
BEGIN:DAYLIGHT
TZOFFSETFROM:+0100
TZOFFSETTO:+0200
TZNAME:CEST
DTSTART:20250330T010000
END:DAYLIGHT
BEGIN:STANDARD
TZOFFSETFROM:+0200
TZOFFSETTO:+0100
TZNAME:CET
DTSTART:20251026T010000
END:STANDARD
BEGIN:DAYLIGHT
TZOFFSETFROM:+0100
TZOFFSETTO:+0200
TZNAME:CEST
DTSTART:20260329T010000
END:DAYLIGHT
BEGIN:STANDARD
TZOFFSETFROM:+0200
TZOFFSETTO:+0100
TZNAME:CET
DTSTART:20261025T010000
END:STANDARD
END:VTIMEZONE
BEGIN:VEVENT
DTSTART;VALUE=DATE:20250602
DTEND;VALUE=DATE:20250918
DTSTAMP:20260420T102817
CREATED:20250601T202215Z
LAST-MODIFIED:20250918T214552Z
UID:21198-1748822400-1758153599@www.carnavaldecadiz.com
SUMMARY:Actuaciones de la Antología de la Chirigota del Sofri
DESCRIPTION:La chirigota del Sofri\, participó en el pasado COAC con el nombre de ‘LOS GOLPES DE PECHO’\, causando un muy buena impresión entre los aficionados.
URL:https://www.carnavaldecadiz.com/event/actuaciones-de-la-antologia-de-la-chirigota-del-sofri/
LOCATION:La Casa inquieta\, Conil\, Plaza de España 16\, Conil de la Frontera\, Cádiz\, 11140
CATEGORIES:actuaciones de carnaval
END:VEVENT
BEGIN:VEVENT
DTSTART;VALUE=DATE:20250724
DTEND;VALUE=DATE:20250727
DTSTAMP:20260420T102817
CREATED:20250527T191829Z
LAST-MODIFIED:20250717T124054Z
UID:21025-1753315200-1753574399@www.carnavaldecadiz.com
SUMMARY:Concurso de Antologías Carnavalescas\, AVV Murallas de San Carlos
DESCRIPTION:ORDEN DE ACTUACIÓN:\nJueves 24 de julio \n\n21:00h – Mélody y sus gorilas\n21:30h – Savia nueva\n22:00h – Dando la lata\n22:30h – Acordes de Cádiz\n23:00h – Los cleriguillos\n23:30h – Los tercios de Cádiz\n00:00h – Los hermanos hasta el fin\n\nViernes 25 de julio \n\n21:00h – Los setenteros\n21:30h – Desde la frantera\n22:00h – Piando por Cai\n22:30h – Los tuyos\n23:00h – Un trío de toda la vida\n23:30h – Los afortunados\n00:00h – Paté de gabacho\n\nSábado 26 de julio\, Gran Final. \nA la espera de grupos clasificados y orden de actuación. \nEvento público de libre acceso.
URL:https://www.carnavaldecadiz.com/event/concurso-de-antologias-carnavalescas/
LOCATION:AAVV San Carlos-Los negritos\, calle San Germán 2\, Cádiz\, Cádiz\, 11004\, España
CATEGORIES:actuaciones de carnaval
END:VEVENT
BEGIN:VEVENT
DTSTART;VALUE=DATE:20250724
DTEND;VALUE=DATE:20250727
DTSTAMP:20260420T102817
CREATED:20250717T123932Z
LAST-MODIFIED:20250717T123932Z
UID:22168-1753315200-1753574399@www.carnavaldecadiz.com
SUMMARY:I Concurso de Antologías 'Plaza del Mentidero'
DESCRIPTION:A la espera de recibir información de grupos inscritos y orden de actuación
URL:https://www.carnavaldecadiz.com/event/i-concurso-de-antologias-plaza-del-mentidero/
LOCATION:Plaza del Mentidero. Cádiz\, Plaza del Mentidero\, Cádiz\, Cádiz\, 11003\, España
CATEGORIES:actuaciones de carnaval
END:VEVENT
BEGIN:VEVENT
DTSTART;VALUE=DATE:20250725
DTEND;VALUE=DATE:20250727
DTSTAMP:20260420T102817
CREATED:20250620T205759Z
LAST-MODIFIED:20250620T205759Z
UID:21661-1753401600-1753574399@www.carnavaldecadiz.com
SUMMARY:VI Certamen de dúos\, y tríos de carnaval de Tarifa
DESCRIPTION:A la espera de recibir información de los grupos inscritos y orden de actuación. \nEvento público de libre acceso.
URL:https://www.carnavaldecadiz.com/event/vi-certamen-de-duos-y-trios-de-carnaval-de-tarifa/
LOCATION:Hogar del Pensionista\, Tarifa\, Paseo Retiro s/n\, Tarifa\, Cádiz\, 11380\, España
CATEGORIES:actuaciones de carnaval,concurso de carnaval
END:VEVENT
BEGIN:VEVENT
DTSTART;TZID=Europe/Madrid:20250725T220000
DTEND;TZID=Europe/Madrid:20250726T003000
DTSTAMP:20260420T102817
CREATED:20250709T195936Z
LAST-MODIFIED:20250709T195936Z
UID:21996-1753480800-1753489800@www.carnavaldecadiz.com
SUMMARY:Festival de Carnaval en Úbeda
DESCRIPTION:Actuarán: \n\nChirigota – QUIEN GUARDA HALLA\nChirigota – APARTAMENTOS TURÍSTICOS JUANI WAINJAUS\nChirigota – LOS CALAITA\nComparsa – LOS CUERVOS\nComparsa-LOS MANIPULADORES\nChirigota – UNA CHIRIGOTA AMENA\n\nCompra on-line de LOCALIDADES
URL:https://www.carnavaldecadiz.com/event/festival-de-carnaval-en-ubeda/
LOCATION:Plaza de Toros de Úbeda\, Avenida de la Constitución 3\, Úbeda\, Jaén\, 23400\, España
CATEGORIES:actuaciones de carnaval
END:VEVENT
BEGIN:VEVENT
DTSTART;TZID=Europe/Madrid:20250725T230000
DTEND;TZID=Europe/Madrid:20250726T010000
DTSTAMP:20260420T102817
CREATED:20250722T193341Z
LAST-MODIFIED:20250722T193341Z
UID:22228-1753484400-1753491600@www.carnavaldecadiz.com
SUMMARY:Carnaval en 'El Sotillo'\, Chiclana
DESCRIPTION:Actuarán: \n\nEl Romancero de ‘El Karo’ – PEPE\, EL ESPÍA\nLa chirigota callejera – PSEUDOCHIRIGOTA CALLEJOSA\n\nEvento público de libre acceso. Risas garantizadas
URL:https://www.carnavaldecadiz.com/event/carnaval-en-el-sotillo-chiclana/
LOCATION:Escenario Fantastic\, El Sotillo\, Chiclana\, Finca 'El Sotillo' camino del Lago Ladoga\, Chiclana de la Frontera\, Cádiz\, Spain
CATEGORIES:actuaciones de carnaval
END:VEVENT
BEGIN:VEVENT
DTSTART;VALUE=DATE:20250726
DTEND;VALUE=DATE:20250728
DTSTAMP:20260420T102817
CREATED:20250725T113406Z
LAST-MODIFIED:20250725T113552Z
UID:22362-1753488000-1753660799@www.carnavaldecadiz.com
SUMMARY:La Chirigota de la Meme en Zahora
DESCRIPTION:La chirigota callejera de la Meme\, es una de las que cuenta con las componentes más veteranas\, lo que les da un plus de experiencia que aporta mucho carácter a esta peculiar agrupación. \nDos actuaciones 26 y 27 de julio a las 22:15h \nSi quieres conocer el historial de esta agrupación pincha aqui \nCompra on-line de LOCALIDADES \nMás info 664833040
URL:https://www.carnavaldecadiz.com/event/la-chirigota-de-la-meme-en-zahora/
LOCATION:Anfi Teatro Zahora\, Pago Zahora 317\, Barbate\, Cádiz\, 11159\, Spain
CATEGORIES:actuaciones de carnaval
ATTACH;FMTTYPE=image/png:https://www.carnavaldecadiz.com/wp-content/uploads/2025/07/0726Zahora.png
END:VEVENT
BEGIN:VEVENT
DTSTART;TZID=Europe/Madrid:20250726T200000
DTEND;TZID=Europe/Madrid:20250726T233000
DTSTAMP:20260420T102817
CREATED:20250716T190016Z
LAST-MODIFIED:20250716T190016Z
UID:22143-1753560000-1753572600@www.carnavaldecadiz.com
SUMMARY:Moraga de Carnaval
DESCRIPTION:Actuarán:\n\nComparsa – LOS MAJARETAS DE LA BICICLETA\nComparsa – LA PUREZA\nChirigota – VENIMOS DE VUELTA\n\nEspetos de sardinas para todos los asistentes. \nEvento público de libre acceso.
URL:https://www.carnavaldecadiz.com/event/moraga-de-carnaval/
LOCATION:Playa del Cable\, Playa del Cable\, Marbella\, Málaga\, España
CATEGORIES:actuaciones de carnaval
END:VEVENT
BEGIN:VEVENT
DTSTART;TZID=Europe/Madrid:20250726T210000
DTEND;TZID=Europe/Madrid:20250726T223000
DTSTAMP:20260420T102818
CREATED:20250709T201046Z
LAST-MODIFIED:20250722T131421Z
UID:21999-1753563600-1753569000@www.carnavaldecadiz.com
SUMMARY:Comparsa 'LOS DEL OTRO BARRIO' en Barcelona APLAZADO
DESCRIPTION:Compra on-line de LOCALIDADES
URL:https://www.carnavaldecadiz.com/event/comparsa-los-del-otro-barrio-en-barcelona/
LOCATION:Teatro Poliorama\, Barcelona\, Rambla dels Estudis 115\, Ciutat Vella\, Barcelona\, Barcelona\, 08002\, Spain
CATEGORIES:actuaciones de carnaval
END:VEVENT
BEGIN:VEVENT
DTSTART;TZID=Europe/Madrid:20250726T210000
DTEND;TZID=Europe/Madrid:20250726T233000
DTSTAMP:20260420T102818
CREATED:20250709T204635Z
LAST-MODIFIED:20250709T204635Z
UID:22002-1753563600-1753572600@www.carnavaldecadiz.com
SUMMARY:Tamara Beardo en el Pay-pay
DESCRIPTION:Compra y reserva de localidades en Café Teatro Pay-pay
URL:https://www.carnavaldecadiz.com/event/tamara-beardo-en-el-pay-pay-2/
LOCATION:Café Tatro Pay Pay\, C/ Silencio\, Cádiz\, Cádiz\, 11002
CATEGORIES:actuaciones de carnaval
END:VEVENT
BEGIN:VEVENT
DTSTART;TZID=Europe/Madrid:20250726T210000
DTEND;TZID=Europe/Madrid:20250726T233000
DTSTAMP:20260420T102818
CREATED:20250722T195652Z
LAST-MODIFIED:20250722T195652Z
UID:22236-1753563600-1753572600@www.carnavaldecadiz.com
SUMMARY:Actuación del Coro de Barbate
DESCRIPTION:II Gala Solidaria: Unidos por la Investigación \nPrecio de las entradas: \n\nCompra anticipada – 20€\nEn taquilla – 23€:\n\nPuntos de venta en Barbate: \n\nDon Precio\nJoyería Natalia\nBar ‘El Nani’\n\nDonaciones: \nNº de cuenta – ES56 2100 4159 4422 0038 9566 \nCódigo Bizum – 11958 (Alias: Fibavida Barbate)
URL:https://www.carnavaldecadiz.com/event/actuacion-del-coro-de-barbate/
LOCATION:Auditorio Parque Infanta Elena\, Barbate\, Parque Infanta Elena\, calle Pío XII\, Barbate\, Cádiz\, 11160\, Spain
CATEGORIES:actuaciones de carnaval
END:VEVENT
BEGIN:VEVENT
DTSTART;TZID=Europe/Madrid:20250726T210000
DTEND;TZID=Europe/Madrid:20250726T233000
DTSTAMP:20260420T102818
CREATED:20250725T114155Z
LAST-MODIFIED:20250725T114155Z
UID:22366-1753563600-1753572600@www.carnavaldecadiz.com
SUMMARY:Araka' Veraniega
DESCRIPTION:Actuarán: \n\nComparsa- LA TREGUA\nChirigota – LOS CALAITAS\nY el grupo PETA-Z\n\nPrecio de las entradas: \n\nCompra anticipada 13€\nEn taquilla 15€
URL:https://www.carnavaldecadiz.com/event/araka-veraniega/
LOCATION:CEIP Maestro Manuel Aparcero – Chipiona\, Avenida de Granada 3\, Chipiona\, Cádiz\, 11550\, España
CATEGORIES:actuaciones de carnaval
END:VEVENT
BEGIN:VEVENT
DTSTART;TZID=Europe/Madrid:20250726T210000
DTEND;TZID=Europe/Madrid:20250727T010000
DTSTAMP:20260420T102818
CREATED:20250714T194406Z
LAST-MODIFIED:20250714T194406Z
UID:22068-1753563600-1753578000@www.carnavaldecadiz.com
SUMMARY:IV Muestra del Carnaval Gaditano
DESCRIPTION:Organizado por la Asociación de Coristas Gaditanos ASCOGA. En el trascurso del evento se entregará la insignia de oro de la entidad a José Manuel Pedrosa; la de plata a Pilar Tejada y Juan Ignacio Moreno; y se homenajeará a Fernando Migueles Santander\, autor de ‘El coro de los niños’ \nActuarán: \n\nCoro Infantil de Chiclana – LA PROMOCIÓN\nCoro Juvenil – EL CORO DE LA IA\nCoro – EL GALLINERO\nAntología – CÁDIZ DE MIL COLORES\nComparsa – LA MALA\nAntología – LOS CLERIGUILLOS\n\nEl evento contará con una degustación gratuita de chacinas de la empresa Sabores de Paterna\, picos Franjose y cerveza Cruzcampo. La entrada será libre hasta completar aforo. \n  \n  \n 
URL:https://www.carnavaldecadiz.com/event/iv-muestra-del-carnaval-gaditano/
LOCATION:Patio Casa del Niño Jesús\, Cádiz\, Casa del Niño Jasús\, Cádiz\, Cádiz\, 11008\, España
CATEGORIES:actuaciones de carnaval,evento gastronómico
END:VEVENT
BEGIN:VEVENT
DTSTART;TZID=Europe/Madrid:20250726T210000
DTEND;TZID=Europe/Madrid:20250727T040000
DTSTAMP:20260420T102818
CREATED:20250701T122904Z
LAST-MODIFIED:20250701T122904Z
UID:21872-1753563600-1753588800@www.carnavaldecadiz.com
SUMMARY:Carnaval de Verano
DESCRIPTION:Evento que se desarrolla por el ‘casco antiguo’ de Cádiz de manera espontánea y sin organización previa\, que consiste en la actuación de agrupaciones de carnaval callejeras\, que interpretan el repertorio del carnaval 2025 o bien desarrollan repertorios escritos expresamente para esta cita veraniega. \nEvento público de libre acceso. \n 
URL:https://www.carnavaldecadiz.com/event/carnaval-de-verano/
LOCATION:Cádiz\, Cádiz\, Cádiz\, España
CATEGORIES:actuaciones de carnaval
ATTACH;FMTTYPE=image/jpeg:https://www.carnavaldecadiz.com/wp-content/uploads/2025/07/0726Chiquito400.jpg
END:VEVENT
BEGIN:VEVENT
DTSTART;TZID=Europe/Madrid:20250726T223000
DTEND;TZID=Europe/Madrid:20250726T233000
DTSTAMP:20260420T102818
CREATED:20250725T115006Z
LAST-MODIFIED:20250725T115006Z
UID:22369-1753569000-1753572600@www.carnavaldecadiz.com
SUMMARY:Antología 'Cádiz de mil colores' en Potito
DESCRIPTION:Aforo limitado. \nEvento público de libre acceso
URL:https://www.carnavaldecadiz.com/event/antologia-cadiz-de-mil-colores-en-potito/
LOCATION:Chiringuito Potito\, Paseo Marítimo s/n\, Cádiz\, Cádiz\, 11010\, Spain
CATEGORIES:actuaciones de carnaval
END:VEVENT
BEGIN:VEVENT
DTSTART;TZID=Europe/Madrid:20250726T223000
DTEND;TZID=Europe/Madrid:20250727T013000
DTSTAMP:20260420T102818
CREATED:20250722T201525Z
LAST-MODIFIED:20250722T201525Z
UID:22239-1753569000-1753579800@www.carnavaldecadiz.com
SUMMARY:Noche de Carnaval en Castellar de la Frontera
DESCRIPTION:Actuarán: \n\nComparsa – LAS RATAS\nChirigota – LOS CALAITAS\nComparsa – LOS GORDOS\n\nEvento público de libre acceso.
URL:https://www.carnavaldecadiz.com/event/noche-de-carnaval-en-castellar-de-la-frontera-2/
LOCATION:Calle Montaser Kattani\, Castellar de la Frontera\, calle Montaser Kattani\, Castellar de la Frontera\, Cádiz\, 11351\, Spain
CATEGORIES:actuaciones de carnaval
END:VEVENT
END:VCALENDAR