BEGIN:VCALENDAR
VERSION:2.0
PRODID:-//Carnaval de C&aacute;diz - ECPv6.15.20//NONSGML v1.0//EN
CALSCALE:GREGORIAN
METHOD:PUBLISH
X-WR-CALNAME:Carnaval de C&aacute;diz
X-ORIGINAL-URL:https://www.carnavaldecadiz.com
X-WR-CALDESC:Eventos para Carnaval de C&aacute;diz
REFRESH-INTERVAL;VALUE=DURATION:PT1H
X-Robots-Tag:noindex
X-PUBLISHED-TTL:PT1H
BEGIN:VTIMEZONE
TZID:Europe/Madrid
BEGIN:DAYLIGHT
TZOFFSETFROM:+0100
TZOFFSETTO:+0200
TZNAME:CEST
DTSTART:20240331T010000
END:DAYLIGHT
BEGIN:STANDARD
TZOFFSETFROM:+0200
TZOFFSETTO:+0100
TZNAME:CET
DTSTART:20241027T010000
END:STANDARD
BEGIN:DAYLIGHT
TZOFFSETFROM:+0100
TZOFFSETTO:+0200
TZNAME:CEST
DTSTART:20250330T010000
END:DAYLIGHT
BEGIN:STANDARD
TZOFFSETFROM:+0200
TZOFFSETTO:+0100
TZNAME:CET
DTSTART:20251026T010000
END:STANDARD
BEGIN:DAYLIGHT
TZOFFSETFROM:+0100
TZOFFSETTO:+0200
TZNAME:CEST
DTSTART:20260329T010000
END:DAYLIGHT
BEGIN:STANDARD
TZOFFSETFROM:+0200
TZOFFSETTO:+0100
TZNAME:CET
DTSTART:20261025T010000
END:STANDARD
END:VTIMEZONE
BEGIN:VEVENT
DTSTART;VALUE=DATE:20250602
DTEND;VALUE=DATE:20250918
DTSTAMP:20260420T102756
CREATED:20250601T202215Z
LAST-MODIFIED:20250918T214552Z
UID:21198-1748822400-1758153599@www.carnavaldecadiz.com
SUMMARY:Actuaciones de la Antología de la Chirigota del Sofri
DESCRIPTION:La chirigota del Sofri\, participó en el pasado COAC con el nombre de ‘LOS GOLPES DE PECHO’\, causando un muy buena impresión entre los aficionados.
URL:https://www.carnavaldecadiz.com/event/actuaciones-de-la-antologia-de-la-chirigota-del-sofri/
LOCATION:La Casa inquieta\, Conil\, Plaza de España 16\, Conil de la Frontera\, Cádiz\, 11140
CATEGORIES:actuaciones de carnaval
END:VEVENT
BEGIN:VEVENT
DTSTART;TZID=Europe/Madrid:20250705T190000
DTEND;TZID=Europe/Madrid:20250705T230000
DTSTAMP:20260420T102756
CREATED:20250515T193451Z
LAST-MODIFIED:20250515T193451Z
UID:20857-1751742000-1751756400@www.carnavaldecadiz.com
SUMMARY:I Festival de Carnaval de Verano
DESCRIPTION:Grupos que participan: \n\nChirigota Ecija – AL CIELO CON ÉL\nLa Chirigota del Selu – APARTAMENTOS TURÍSTICOS JUANI WAINJAUS\nChirigota de Mérida 2024 Juego de Tronos\nLAS IGUALES\nLOKACOSTAO\nLOS QUE SOBRABAN\nCHIRIGOTA TARATACHIN\nCHIRIGOTA INFANTIL LOS JARAPALES\nCHIRIGOTA LOS MIMITOS\nCHIRIGOTA LOS FARRAGUAS\n\nZona Infantil con Castillos Hinchables y Juegos para los niños. \nCompra de localidades
URL:https://www.carnavaldecadiz.com/event/i-festival-de-carnaval-de-verano/
LOCATION:Plaza de Toros de Mérida\, calle de Vía Ensanche 1\, Mérida\, Badajoz\, 06800\, Spain
CATEGORIES:actuaciones de carnaval
END:VEVENT
BEGIN:VEVENT
DTSTART;TZID=Europe/Madrid:20250705T210000
DTEND;TZID=Europe/Madrid:20250705T223000
DTSTAMP:20260420T102756
CREATED:20250610T211141Z
LAST-MODIFIED:20250610T211213Z
UID:21470-1751749200-1751754600@www.carnavaldecadiz.com
SUMMARY:'Pa´piratas\, nosotros' en Cuatro Gatos
DESCRIPTION:Venta de localidades en taquilla.
URL:https://www.carnavaldecadiz.com/event/papiratas-nosotros-en-cuatro-gatos/
LOCATION:Cuatro Gatos\, Sevilla\, calle Madre Dolores Marquez 11\, Sevilla\, Sevilla\, 41003\, España
CATEGORIES:actuaciones de carnaval
END:VEVENT
BEGIN:VEVENT
DTSTART;TZID=Europe/Madrid:20250705T210000
DTEND;TZID=Europe/Madrid:20250705T233000
DTSTAMP:20260420T102756
CREATED:20250610T210422Z
LAST-MODIFIED:20250610T210422Z
UID:21466-1751749200-1751758200@www.carnavaldecadiz.com
SUMMARY:Noche de Carnaval en Coín
DESCRIPTION:Actuarán: \n\nComparsa – LA TRIBU\nComparsa – LAS RATAS\nComparsa – LA RESISTENCIA\nChirigota – LOS HERMANOS DEL BUEN FIN\nChirigota – LOS CALAITA\n\nCompra on-line de LOCALIDADES
URL:https://www.carnavaldecadiz.com/event/noche-de-carnaval-en-coin/
LOCATION:Auditorio Parque Leonor Princes de Asturias\,Coín\, Zona Sgal. 3\, 115\, Coín\, Málaga\, 29100\, Spain
CATEGORIES:actuaciones de carnaval
END:VEVENT
BEGIN:VEVENT
DTSTART;TZID=Europe/Madrid:20250705T210000
DTEND;TZID=Europe/Madrid:20250705T233000
DTSTAMP:20260420T102756
CREATED:20250610T213152Z
LAST-MODIFIED:20250610T213152Z
UID:21477-1751749200-1751758200@www.carnavaldecadiz.com
SUMMARY:Comparsa 'LA MAJADERÍA' en el Pay-pay
DESCRIPTION:Compra y reserva de localidades en Café Teatro Pay-pay
URL:https://www.carnavaldecadiz.com/event/comparsa-la-majaderia-en-el-pay-pay/
LOCATION:Café Tatro Pay Pay\, C/ Silencio\, Cádiz\, Cádiz\, 11002
CATEGORIES:actuaciones de carnaval
END:VEVENT
BEGIN:VEVENT
DTSTART;TZID=Europe/Madrid:20250705T210000
DTEND;TZID=Europe/Madrid:20250706T010000
DTSTAMP:20260420T102756
CREATED:20250610T212556Z
LAST-MODIFIED:20250610T212556Z
UID:21474-1751749200-1751763600@www.carnavaldecadiz.com
SUMMARY:Carnaval Mágico
DESCRIPTION:Actuarán: \n\nComparsa – LOS CUERVOS\nChirigota – APARTAMENTOS TURÍSTICOS JUANI WAINJAUS\nComparsa – LATRIBU\nChirigota – LOS JAMES BOND QUE DA GLORIA VERLOS\nChirigota – LOS CALAITA\nComparsa – LOS DEL OTRO BARRIO\n\nCompra on-line de LOCALIDADES
URL:https://www.carnavaldecadiz.com/event/carnaval-magico-2/
LOCATION:Estadio Nuevo Mirandilla\, Plaza Madrid s/n\, Cádiz\, Cádiz\, 11010\, España
CATEGORIES:actuaciones de carnaval
END:VEVENT
BEGIN:VEVENT
DTSTART;TZID=Europe/Madrid:20250705T210000
DTEND;TZID=Europe/Madrid:20250707T235900
DTSTAMP:20260420T102756
CREATED:20250610T200028Z
LAST-MODIFIED:20250704T172140Z
UID:21446-1751749200-1751932740@www.carnavaldecadiz.com
SUMMARY:Concurso de Antologías
DESCRIPTION:ORDEN DE ACTUACIÓN: \n\nMini grupo – Savia nueva\nChirigota – Los tuyos\nAntología – Acordes de Cádiz\nMini coro – Paté de Gabacho\nChirigota – Raza Morad\nAntología – Los cleriguillos\n\nEvento público de libre acceso.
URL:https://www.carnavaldecadiz.com/event/concurso-de-antologias/
LOCATION:Asociación Cultural ‘La Catedral del Arte’\, Cádiz\, calle Algodonales s/n\, Cádiz\, Cádiz\, 11011\, Spain
CATEGORIES:actuaciones de carnaval
END:VEVENT
BEGIN:VEVENT
DTSTART;TZID=Europe/Madrid:20250705T220000
DTEND;TZID=Europe/Madrid:20250705T233000
DTSTAMP:20260420T102756
CREATED:20250624T114554Z
LAST-MODIFIED:20250624T114554Z
UID:21739-1751752800-1751758200@www.carnavaldecadiz.com
SUMMARY:'Chulerías por Carnaval' en Caño18
DESCRIPTION:Reservas 658933689
URL:https://www.carnavaldecadiz.com/event/chulerias-por-carnaval-en-cano18/
LOCATION:Caño 18 Gastrobar\, calle San Juan Bautista\, local 7\, San Fernando\, Cádiz\, 11100
CATEGORIES:actuaciones de carnaval
END:VEVENT
END:VCALENDAR