BEGIN:VCALENDAR
VERSION:2.0
PRODID:-//Carnaval de C&aacute;diz - ECPv6.15.20//NONSGML v1.0//EN
CALSCALE:GREGORIAN
METHOD:PUBLISH
X-WR-CALNAME:Carnaval de C&aacute;diz
X-ORIGINAL-URL:https://www.carnavaldecadiz.com
X-WR-CALDESC:Eventos para Carnaval de C&aacute;diz
REFRESH-INTERVAL;VALUE=DURATION:PT1H
X-Robots-Tag:noindex
X-PUBLISHED-TTL:PT1H
BEGIN:VTIMEZONE
TZID:Europe/Madrid
BEGIN:DAYLIGHT
TZOFFSETFROM:+0100
TZOFFSETTO:+0200
TZNAME:CEST
DTSTART:20240331T010000
END:DAYLIGHT
BEGIN:STANDARD
TZOFFSETFROM:+0200
TZOFFSETTO:+0100
TZNAME:CET
DTSTART:20241027T010000
END:STANDARD
BEGIN:DAYLIGHT
TZOFFSETFROM:+0100
TZOFFSETTO:+0200
TZNAME:CEST
DTSTART:20250330T010000
END:DAYLIGHT
BEGIN:STANDARD
TZOFFSETFROM:+0200
TZOFFSETTO:+0100
TZNAME:CET
DTSTART:20251026T010000
END:STANDARD
BEGIN:DAYLIGHT
TZOFFSETFROM:+0100
TZOFFSETTO:+0200
TZNAME:CEST
DTSTART:20260329T010000
END:DAYLIGHT
BEGIN:STANDARD
TZOFFSETFROM:+0200
TZOFFSETTO:+0100
TZNAME:CET
DTSTART:20261025T010000
END:STANDARD
END:VTIMEZONE
BEGIN:VEVENT
DTSTART;TZID=Europe/Madrid:20250525T180000
DTEND;TZID=Europe/Madrid:20250525T200000
DTSTAMP:20260420T131425
CREATED:20250415T113435Z
LAST-MODIFIED:20250415T113435Z
UID:20091-1748196000-1748203200@www.carnavaldecadiz.com
SUMMARY:'El Fantasma del Teatro Falla' en Écija
DESCRIPTION:EL FANTASMA DEL TEATRO FALLA \nProyecto teatral se enmarcaría en la fusión de cultura y tradición popular\, términos coincidentes que otorgan un sentido lúdico y de perpetuación de una tradición.\nEntrelaza varios géneros prevaleciendo la comedia musical sin renunciar a ciertas dosis de drama y teatro crítico. \nInspirada en la novela de Gaston Leroux y el musical de Andrew Lloyd Webber\, El Fantasma de la Ópera\, han querido traerlo a una temática netamente gaditana donde explotan los recursos tanto musicales como cómicos enraizados en la tradición carnavalesca. \nCompra de localidades
URL:https://www.carnavaldecadiz.com/event/el-fantasma-del-teatro-falla-en-ecija/
LOCATION:Teatro Municipal San Juan\, Écija\, calle Comedias 10\, Écija\, Sevilla\, 41400\, Spain
CATEGORIES:actuaciones de carnaval,Mucho más que carnaval
END:VEVENT
BEGIN:VEVENT
DTSTART;TZID=Europe/Madrid:20250525T190000
DTEND;TZID=Europe/Madrid:20250525T203000
DTSTAMP:20260420T131425
CREATED:20250417T173435Z
LAST-MODIFIED:20250417T173435Z
UID:20212-1748199600-1748205000@www.carnavaldecadiz.com
SUMMARY:Chirigota 'LOS CALAÍTA' en Huelva
DESCRIPTION:Compra de LOCALIDADES
URL:https://www.carnavaldecadiz.com/event/chirigota-los-calaita-en-huelva/
LOCATION:Casa Colon\, Huelva\, Plaza del Punto 6\, Huelva\, Huelva\, 21003\, Spain
CATEGORIES:actuaciones de carnaval
END:VEVENT
END:VCALENDAR