BEGIN:VCALENDAR
VERSION:2.0
PRODID:-//Carnaval de C&aacute;diz - ECPv6.15.20//NONSGML v1.0//EN
CALSCALE:GREGORIAN
METHOD:PUBLISH
X-WR-CALNAME:Carnaval de C&aacute;diz
X-ORIGINAL-URL:https://www.carnavaldecadiz.com
X-WR-CALDESC:Eventos para Carnaval de C&aacute;diz
REFRESH-INTERVAL;VALUE=DURATION:PT1H
X-Robots-Tag:noindex
X-PUBLISHED-TTL:PT1H
BEGIN:VTIMEZONE
TZID:Europe/Madrid
BEGIN:DAYLIGHT
TZOFFSETFROM:+0100
TZOFFSETTO:+0200
TZNAME:CEST
DTSTART:20240331T010000
END:DAYLIGHT
BEGIN:STANDARD
TZOFFSETFROM:+0200
TZOFFSETTO:+0100
TZNAME:CET
DTSTART:20241027T010000
END:STANDARD
BEGIN:DAYLIGHT
TZOFFSETFROM:+0100
TZOFFSETTO:+0200
TZNAME:CEST
DTSTART:20250330T010000
END:DAYLIGHT
BEGIN:STANDARD
TZOFFSETFROM:+0200
TZOFFSETTO:+0100
TZNAME:CET
DTSTART:20251026T010000
END:STANDARD
BEGIN:DAYLIGHT
TZOFFSETFROM:+0100
TZOFFSETTO:+0200
TZNAME:CEST
DTSTART:20260329T010000
END:DAYLIGHT
BEGIN:STANDARD
TZOFFSETFROM:+0200
TZOFFSETTO:+0100
TZNAME:CET
DTSTART:20261025T010000
END:STANDARD
END:VTIMEZONE
BEGIN:VEVENT
DTSTART;TZID=Europe/Madrid:20250518T123000
DTEND;TZID=Europe/Madrid:20250518T143000
DTSTAMP:20260420T131426
CREATED:20250415T123322Z
LAST-MODIFIED:20250415T123322Z
UID:20133-1747571400-1747578600@www.carnavaldecadiz.com
SUMMARY:Comparsa 'EL CEMENTERIO' en Madrid
DESCRIPTION:
URL:https://www.carnavaldecadiz.com/event/comparsa-el-cementerio-en-madrid/
LOCATION:Teatro Amaya\, Madrid\, Plaza del General Martínez Campos 9 Chamberí\, Madrid\, Madrid\, 28010\, Spain
CATEGORIES:actuaciones de carnaval
END:VEVENT
BEGIN:VEVENT
DTSTART;TZID=Europe/Madrid:20250518T130000
DTEND;TZID=Europe/Madrid:20250518T170000
DTSTAMP:20260420T131426
CREATED:20250506T114551Z
LAST-MODIFIED:20250506T114551Z
UID:20733-1747573200-1747587600@www.carnavaldecadiz.com
SUMMARY:Peña La Perla de Cádiz con la Cantera del Carnaval
DESCRIPTION:Actuarán: \n\nCoro Infantil: La promoción\nChirigota: Si tu quieres ser feliz\nChirigota Infantil: Academia de Danza Chano Duato\, La charca de los patos\nComparsa Infantil: La centinela\nComparsa Infantil: Donde el sol viene a morir\n\nAgrupaciones invitadas: \n\nChirigota: Cuando tu vas\, yo vengo\nChirigota: Quien guarda haya\nChirigota. Los calaitas\n\nCompra de localidades en la propia peña. \nPrecio de la localidad 10€ \n 
URL:https://www.carnavaldecadiz.com/event/pena-la-perla-de-cadiz-con-la-cantera-del-carnaval/
LOCATION:Peña La Perla\, calle Concepción Arenal s/n\, Cádiz\, Cádiz\, 11006\, España
CATEGORIES:actuaciones de carnaval
END:VEVENT
BEGIN:VEVENT
DTSTART;TZID=Europe/Madrid:20250518T130000
DTEND;TZID=Europe/Madrid:20250518T200000
DTSTAMP:20260420T131426
CREATED:20250507T121527Z
LAST-MODIFIED:20250507T121527Z
UID:20753-1747573200-1747598400@www.carnavaldecadiz.com
SUMMARY:Gala Solidaria CARNAVAL DE LA ILUSIÓN
DESCRIPTION:Actuarán: \n\nChirigota Infantil: ‘Academia de danza de Chano Duato\, la charca de los patos’\nCuarteto Infantil: ‘A que voy yo y lo encuentro’\nCuarteto Juvenil: ‘Este cuarteto no da a basto’\nChirigota Juvenil: ‘Las gitaneras’\nChirigota: ‘Una chirigota con soniket3’\nChirigota: ‘Quien guarda halla’\nCoro: ‘Las entrañas de Cádiz’\nComparsa: ‘Los trastos’\nChirigota ‘Los calaita’\nChirigota: ‘Los James Bond que da gloria verlos’\n\nEntrada/donativo: 12€ anticipada\, 15€ en la puerta. \nPunto de venta: Arte Sacro ‘El relicario’\, c/ Rosario 12\, Cádiz
URL:https://www.carnavaldecadiz.com/event/gala-solidaria-carnaval-de-la-ilusion/
LOCATION:Colegio La Salle Viña\, Cádiz\, calle Martínez Campos 4\, Cádiz\, Cádiz\, 11002\, Spain
CATEGORIES:actuaciones de carnaval
END:VEVENT
BEGIN:VEVENT
DTSTART;TZID=Europe/Madrid:20250518T140000
DTEND;TZID=Europe/Madrid:20250518T170000
DTSTAMP:20260420T131426
CREATED:20250505T144825Z
LAST-MODIFIED:20250505T144825Z
UID:20637-1747576800-1747587600@www.carnavaldecadiz.com
SUMMARY:Chirigota 'LOS MALFO LLAOS' en la Barriada Andalucía
DESCRIPTION:Evento público de libre acceso.
URL:https://www.carnavaldecadiz.com/event/chirigota-los-malfo-llaos-en-la-barriada-andalucia/
LOCATION:Barriada Andalucía\, San Fernando\, Avenida de Andalucía\, San Fernando\, Cádiz\, 11100\, Spain
CATEGORIES:actuaciones de carnaval
END:VEVENT
BEGIN:VEVENT
DTSTART;TZID=Europe/Madrid:20250518T170000
DTEND;TZID=Europe/Madrid:20250518T183000
DTSTAMP:20260420T131426
CREATED:20250415T123013Z
LAST-MODIFIED:20250415T123013Z
UID:20129-1747587600-1747593000@www.carnavaldecadiz.com
SUMMARY:Chirigota 'QUE SEA LO QUE DIOS QUIERA' en Gran Canaria
DESCRIPTION:
URL:https://www.carnavaldecadiz.com/event/chirigota-que-sea-lo-que-dios-quiera-en-gran-canaria/
LOCATION:Teatro Juan Ramón Jiménez\, Telde\, calle Poeta Pablo Neruda 1\, Telde\, Las Palmas\, 35200\, Spain
CATEGORIES:actuaciones de carnaval
END:VEVENT
BEGIN:VEVENT
DTSTART;TZID=Europe/Madrid:20250518T180000
DTEND;TZID=Europe/Madrid:20250518T193000
DTSTAMP:20260420T131426
CREATED:20250415T122528Z
LAST-MODIFIED:20250415T122528Z
UID:20125-1747591200-1747596600@www.carnavaldecadiz.com
SUMMARY:Chirigota 'AL CIELO CON EL' en Gador
DESCRIPTION:
URL:https://www.carnavaldecadiz.com/event/chirigota-al-cielo-con-el-en-gador/
LOCATION:Centro Cultural Eugenio J. Gonzálvez García\, Gador\, Gador\, Almería\, Almería\, 04560\, Spain
CATEGORIES:actuaciones de carnaval
END:VEVENT
BEGIN:VEVENT
DTSTART;TZID=Europe/Madrid:20250518T200000
DTEND;TZID=Europe/Madrid:20250518T213000
DTSTAMP:20260420T131426
CREATED:20250415T123614Z
LAST-MODIFIED:20250415T123614Z
UID:20136-1747598400-1747603800@www.carnavaldecadiz.com
SUMMARY:Chirigota 'LOS HERMANOS DEL BUEN FIN' en Córdoba
DESCRIPTION:
URL:https://www.carnavaldecadiz.com/event/chirigota-los-hermanos-del-buen-fin-en-cordoba/
LOCATION:Teatro El Brillante\, Córdoba\, Colegio la Salle\, Ctra. de las Ermitas Entrada Principal\, Córdoba\, Córdoba\, 14012\, España
CATEGORIES:actuaciones de carnaval
END:VEVENT
END:VCALENDAR