BEGIN:VCALENDAR
VERSION:2.0
PRODID:-//Carnaval de C&aacute;diz - ECPv6.15.20//NONSGML v1.0//EN
CALSCALE:GREGORIAN
METHOD:PUBLISH
X-WR-CALNAME:Carnaval de C&aacute;diz
X-ORIGINAL-URL:https://www.carnavaldecadiz.com
X-WR-CALDESC:Eventos para Carnaval de C&aacute;diz
REFRESH-INTERVAL;VALUE=DURATION:PT1H
X-Robots-Tag:noindex
X-PUBLISHED-TTL:PT1H
BEGIN:VTIMEZONE
TZID:Europe/Madrid
BEGIN:DAYLIGHT
TZOFFSETFROM:+0100
TZOFFSETTO:+0200
TZNAME:CEST
DTSTART:20240331T010000
END:DAYLIGHT
BEGIN:STANDARD
TZOFFSETFROM:+0200
TZOFFSETTO:+0100
TZNAME:CET
DTSTART:20241027T010000
END:STANDARD
BEGIN:DAYLIGHT
TZOFFSETFROM:+0100
TZOFFSETTO:+0200
TZNAME:CEST
DTSTART:20250330T010000
END:DAYLIGHT
BEGIN:STANDARD
TZOFFSETFROM:+0200
TZOFFSETTO:+0100
TZNAME:CET
DTSTART:20251026T010000
END:STANDARD
BEGIN:DAYLIGHT
TZOFFSETFROM:+0100
TZOFFSETTO:+0200
TZNAME:CEST
DTSTART:20260329T010000
END:DAYLIGHT
BEGIN:STANDARD
TZOFFSETFROM:+0200
TZOFFSETTO:+0100
TZNAME:CET
DTSTART:20261025T010000
END:STANDARD
END:VTIMEZONE
BEGIN:VEVENT
DTSTART;TZID=Europe/Madrid:20250511T120000
DTEND;TZID=Europe/Madrid:20250511T150000
DTSTAMP:20260420T131424
CREATED:20250508T112224Z
LAST-MODIFIED:20250508T112224Z
UID:20774-1746964800-1746975600@www.carnavaldecadiz.com
SUMMARY:Entrega de Premios 'LO MEJORCITO DE LO MEJORCITO'
DESCRIPTION:Entradas por invitación.
URL:https://www.carnavaldecadiz.com/event/entrega-de-premios-lo-mejorcito-de-lo-mejorcito/
LOCATION:Gran Teatro Falla\, Plaza Fragela s/n\, Cádiz\, Cádiz\, 11003\, España
CATEGORIES:actuaciones de carnaval
END:VEVENT
BEGIN:VEVENT
DTSTART;TZID=Europe/Madrid:20250511T123000
DTEND;TZID=Europe/Madrid:20250511T140000
DTSTAMP:20260420T131424
CREATED:20250415T120945Z
LAST-MODIFIED:20250415T120945Z
UID:20113-1746966600-1746972000@www.carnavaldecadiz.com
SUMMARY:Chirigota 'LOS CALAÍTA' en Cartagena
DESCRIPTION:
URL:https://www.carnavaldecadiz.com/event/chirigota-los-calaita-en-cartagena/
LOCATION:Auditorio Bosco\, Cartagena\, Avenida San Juan Bosco 33\, Cartagena\, Murcia\, 30310\, Spain
CATEGORIES:actuaciones de carnaval
END:VEVENT
BEGIN:VEVENT
DTSTART;TZID=Europe/Madrid:20250511T123000
DTEND;TZID=Europe/Madrid:20250511T143000
DTSTAMP:20260420T131424
CREATED:20250415T114614Z
LAST-MODIFIED:20250415T114614Z
UID:20097-1746966600-1746973800@www.carnavaldecadiz.com
SUMMARY:'EL FANTASMA DEL TEATRO FALLA' en Madrid
DESCRIPTION:EL FANTASMA DEL TEATRO FALLA \nProyecto teatral se enmarcaría en la fusión de cultura y tradición popular\, términos coincidentes que otorgan un sentido lúdico y de perpetuación de una tradición.\nEntrelaza varios géneros prevaleciendo la comedia musical sin renunciar a ciertas dosis de drama y teatro crítico. \nInspirada en la novela de Gaston Leroux y el musical de Andrew Lloyd Webber\, El Fantasma de la Ópera\, han querido traerlo a una temática netamente gaditana donde explotan los recursos tanto musicales como cómicos enraizados en la tradición carnavalesca. \nCompra de LOCALIDADES
URL:https://www.carnavaldecadiz.com/event/el-fantasma-del-teatro-falla-en-madrid/
LOCATION:Teatro Reina Victoria\, Madrid\, Carrera de San Jerónimo\, 24 centro\, Madrdi\, Madrid\, 28014\, España
CATEGORIES:actuaciones de carnaval
END:VEVENT
BEGIN:VEVENT
DTSTART;TZID=Europe/Madrid:20250511T123000
DTEND;TZID=Europe/Madrid:20250511T143000
DTSTAMP:20260420T131424
CREATED:20250415T115415Z
LAST-MODIFIED:20250415T115415Z
UID:20104-1746966600-1746973800@www.carnavaldecadiz.com
SUMMARY:Chirigota 'LOS HERMANOS DEL BUEN FIN' en Madrid
DESCRIPTION:
URL:https://www.carnavaldecadiz.com/event/chirigota-los-hermanos-del-buen-fin-en-madrid/
LOCATION:Teatro la Latina\, Plaza de la cebada 2\, Madrid\, Madrid\, 28005\, España
CATEGORIES:actuaciones de carnaval
END:VEVENT
END:VCALENDAR