BEGIN:VCALENDAR
VERSION:2.0
PRODID:-//Carnaval de C&aacute;diz - ECPv6.15.20//NONSGML v1.0//EN
CALSCALE:GREGORIAN
METHOD:PUBLISH
X-ORIGINAL-URL:https://www.carnavaldecadiz.com
X-WR-CALDESC:Eventos para Carnaval de C&aacute;diz
REFRESH-INTERVAL;VALUE=DURATION:PT1H
X-Robots-Tag:noindex
X-PUBLISHED-TTL:PT1H
BEGIN:VTIMEZONE
TZID:Europe/Madrid
BEGIN:DAYLIGHT
TZOFFSETFROM:+0100
TZOFFSETTO:+0200
TZNAME:CEST
DTSTART:20240331T010000
END:DAYLIGHT
BEGIN:STANDARD
TZOFFSETFROM:+0200
TZOFFSETTO:+0100
TZNAME:CET
DTSTART:20241027T010000
END:STANDARD
BEGIN:DAYLIGHT
TZOFFSETFROM:+0100
TZOFFSETTO:+0200
TZNAME:CEST
DTSTART:20250330T010000
END:DAYLIGHT
BEGIN:STANDARD
TZOFFSETFROM:+0200
TZOFFSETTO:+0100
TZNAME:CET
DTSTART:20251026T010000
END:STANDARD
BEGIN:DAYLIGHT
TZOFFSETFROM:+0100
TZOFFSETTO:+0200
TZNAME:CEST
DTSTART:20260329T010000
END:DAYLIGHT
BEGIN:STANDARD
TZOFFSETFROM:+0200
TZOFFSETTO:+0100
TZNAME:CET
DTSTART:20261025T010000
END:STANDARD
END:VTIMEZONE
BEGIN:VEVENT
DTSTART;TZID=Europe/Madrid:20250510T173000
DTEND;TZID=Europe/Madrid:20250510T183000
DTSTAMP:20260420T131656
CREATED:20250415T115106Z
LAST-MODIFIED:20250415T115106Z
UID:20100-1746898200-1746901800@www.carnavaldecadiz.com
SUMMARY:Rafael Aranda 'Taleguilla' en la Peña Carnavalandia
DESCRIPTION:Información y compra de entradas 616342254
URL:https://www.carnavaldecadiz.com/event/rafael-aranda-taleguilla-en-la-pena-carnavalandia/
LOCATION:Peña Carnavalandia\, Córdoba\, calle Motril 17\, Córdoba\, Córdoba\, 14013\, Spain
CATEGORIES:actuaciones de carnaval
END:VEVENT
BEGIN:VEVENT
DTSTART;TZID=Europe/Madrid:20250510T200000
DTEND;TZID=Europe/Madrid:20250510T213000
DTSTAMP:20260420T131656
CREATED:20250414T121210Z
LAST-MODIFIED:20250414T121210Z
UID:20076-1746907200-1746912600@www.carnavaldecadiz.com
SUMMARY:Chirigota LOS PIMPINELA en Ciudad Real
DESCRIPTION:
URL:https://www.carnavaldecadiz.com/event/chirigota-los-pimpinela-en-ciudad-real/
LOCATION:Teatro Quijano\, Ciudad Real\, calle Ciruela 7\, Ciudad Real\, Ciudad Real\, 13001\, Spain
CATEGORIES:actuaciones de carnaval
END:VEVENT
BEGIN:VEVENT
DTSTART;TZID=Europe/Madrid:20250510T200000
DTEND;TZID=Europe/Madrid:20250510T213000
DTSTAMP:20260420T131656
CREATED:20250429T195745Z
LAST-MODIFIED:20250429T195745Z
UID:20543-1746907200-1746912600@www.carnavaldecadiz.com
SUMMARY:Carnaval de Cádiz en Málaga
DESCRIPTION:
URL:https://www.carnavaldecadiz.com/event/carnaval-de-cadiz-en-malaga-10/
LOCATION:calle Hoyo del Higuerón nº3\, Málaga\, calle Hoyo del Hguerón \, 3\, Málaga\, Málaga\, 29003\, Spain
CATEGORIES:actuaciones de carnaval
END:VEVENT
BEGIN:VEVENT
DTSTART;TZID=Europe/Madrid:20250510T200000
DTEND;TZID=Europe/Madrid:20250510T233000
DTSTAMP:20260420T131656
CREATED:20250415T124231Z
LAST-MODIFIED:20250415T124231Z
UID:20139-1746907200-1746919800@www.carnavaldecadiz.com
SUMMARY:Festival 'Amigos del Carnaval de Jaén'
DESCRIPTION:
URL:https://www.carnavaldecadiz.com/event/festival-amigos-del-carnaval-de-jaen/
LOCATION:Auditorio de la Alameda\, Jaén\, calle Alameda 14\, Jaén\, Jaén\, 23003\, Spain
CATEGORIES:actuaciones de carnaval
END:VEVENT
BEGIN:VEVENT
DTSTART;TZID=Europe/Madrid:20250510T220000
DTEND;TZID=Europe/Madrid:20250510T230000
DTSTAMP:20260420T131656
CREATED:20250505T145245Z
LAST-MODIFIED:20250505T145245Z
UID:20641-1746914400-1746918000@www.carnavaldecadiz.com
SUMMARY:Trío Piquislavis en Caño 18
DESCRIPTION:Más información y reservas 658933689
URL:https://www.carnavaldecadiz.com/event/trio-piquislavis-en-cano-18/
LOCATION:Caño 18\, calle San Juan Bautista\, San Fernando\, Cádiz\, 11100\, Spain
CATEGORIES:actuaciones de carnaval
END:VEVENT
END:VCALENDAR