BEGIN:VCALENDAR
VERSION:2.0
PRODID:-//Carnaval de C&aacute;diz - ECPv6.15.20//NONSGML v1.0//EN
CALSCALE:GREGORIAN
METHOD:PUBLISH
X-WR-CALNAME:Carnaval de C&aacute;diz
X-ORIGINAL-URL:https://www.carnavaldecadiz.com
X-WR-CALDESC:Eventos para Carnaval de C&aacute;diz
REFRESH-INTERVAL;VALUE=DURATION:PT1H
X-Robots-Tag:noindex
X-PUBLISHED-TTL:PT1H
BEGIN:VTIMEZONE
TZID:Europe/Madrid
BEGIN:DAYLIGHT
TZOFFSETFROM:+0100
TZOFFSETTO:+0200
TZNAME:CEST
DTSTART:20240331T010000
END:DAYLIGHT
BEGIN:STANDARD
TZOFFSETFROM:+0200
TZOFFSETTO:+0100
TZNAME:CET
DTSTART:20241027T010000
END:STANDARD
BEGIN:DAYLIGHT
TZOFFSETFROM:+0100
TZOFFSETTO:+0200
TZNAME:CEST
DTSTART:20250330T010000
END:DAYLIGHT
BEGIN:STANDARD
TZOFFSETFROM:+0200
TZOFFSETTO:+0100
TZNAME:CET
DTSTART:20251026T010000
END:STANDARD
BEGIN:DAYLIGHT
TZOFFSETFROM:+0100
TZOFFSETTO:+0200
TZNAME:CEST
DTSTART:20260329T010000
END:DAYLIGHT
BEGIN:STANDARD
TZOFFSETFROM:+0200
TZOFFSETTO:+0100
TZNAME:CET
DTSTART:20261025T010000
END:STANDARD
END:VTIMEZONE
BEGIN:VEVENT
DTSTART;TZID=Europe/Madrid:20250504T130000
DTEND;TZID=Europe/Madrid:20250504T143000
DTSTAMP:20260420T131337
CREATED:20250414T115340Z
LAST-MODIFIED:20250414T115340Z
UID:20066-1746363600-1746369000@www.carnavaldecadiz.com
SUMMARY:Chirigota LOS CALAÍTA en Coria
DESCRIPTION:Compra de LOCALIDADES
URL:https://www.carnavaldecadiz.com/event/chirigota-los-calaita-en-coria/
LOCATION:Teatro Pastora Soler\, Coria del Río\, calle Cantalobos 0\, Coria del Río\, Sevilla\, 41100\, España
CATEGORIES:actuaciones de carnaval
END:VEVENT
BEGIN:VEVENT
DTSTART;TZID=Europe/Madrid:20250504T170000
DTEND;TZID=Europe/Madrid:20250504T180000
DTSTAMP:20260420T131337
CREATED:20250502T232751Z
LAST-MODIFIED:20250502T232751Z
UID:20588-1746378000-1746381600@www.carnavaldecadiz.com
SUMMARY:Tarde de Carnaval en Panorama
DESCRIPTION:Evento público de libre acceso.
URL:https://www.carnavaldecadiz.com/event/tarde-de-carnaval-en-panorama/
LOCATION:Panorama Café y Copas\, Puerto Real\, calle Sagasta 33\, Puerto Real\, Cádiz\, 11510\, España
CATEGORIES:actuaciones de carnaval
END:VEVENT
BEGIN:VEVENT
DTSTART;TZID=Europe/Madrid:20250504T170000
DTEND;TZID=Europe/Madrid:20250504T183000
DTSTAMP:20260420T131337
CREATED:20250414T114722Z
LAST-MODIFIED:20250414T114722Z
UID:20063-1746378000-1746383400@www.carnavaldecadiz.com
SUMMARY:Chirigota 'LOS CALAÍTA' en Écija
DESCRIPTION:Compra de LOCALIDADES
URL:https://www.carnavaldecadiz.com/event/chirigota-los-calaita-en-ecija/
LOCATION:Teatro Municipal San Juan\, Écija\, calle Comedias 10\, Écija\, Sevilla\, 41400\, Spain
CATEGORIES:actuaciones de carnaval
END:VEVENT
BEGIN:VEVENT
DTSTART;TZID=Europe/Madrid:20250504T200000
DTEND;TZID=Europe/Madrid:20250504T213000
DTSTAMP:20260420T131337
CREATED:20250418T181938Z
LAST-MODIFIED:20250418T181938Z
UID:20266-1746388800-1746394200@www.carnavaldecadiz.com
SUMMARY:Chirigota 'LOS HERMANOS DEL BUEN FIN' en Badajoz
DESCRIPTION:Compra de LOCALIDADES
URL:https://www.carnavaldecadiz.com/event/chirigota-los-hermanos-del-buen-fin-en-badajoz/
LOCATION:Palacio de Congresos de Badajoz\, ronda del Pilar s/n\, Badajoz\, Badajoz\, 06002\, España
CATEGORIES:actuaciones de carnaval
END:VEVENT
BEGIN:VEVENT
DTSTART;TZID=Europe/Madrid:20250504T203000
DTEND;TZID=Europe/Madrid:20250504T213000
DTSTAMP:20260420T131337
CREATED:20250414T120218Z
LAST-MODIFIED:20250414T120218Z
UID:20069-1746390600-1746394200@www.carnavaldecadiz.com
SUMMARY:Chirigota LOS CALAÍTA en Villanueva de la Serena
DESCRIPTION:
URL:https://www.carnavaldecadiz.com/event/chirigota-los-calaita-en-villanueva-de-la-serena/
LOCATION:Palacio de Congresos\, Villanueva de la Serena\, Avenida Adolfo Suarez s/n\, Villanueva de la Serena\, Badajoz\, 06700\, Spain
CATEGORIES:actuaciones de carnaval
END:VEVENT
END:VCALENDAR