BEGIN:VCALENDAR
VERSION:2.0
PRODID:-//Carnaval de C&aacute;diz - ECPv6.15.20//NONSGML v1.0//EN
CALSCALE:GREGORIAN
METHOD:PUBLISH
X-WR-CALNAME:Carnaval de C&aacute;diz
X-ORIGINAL-URL:https://www.carnavaldecadiz.com
X-WR-CALDESC:Eventos para Carnaval de C&aacute;diz
REFRESH-INTERVAL;VALUE=DURATION:PT1H
X-Robots-Tag:noindex
X-PUBLISHED-TTL:PT1H
BEGIN:VTIMEZONE
TZID:Europe/Madrid
BEGIN:DAYLIGHT
TZOFFSETFROM:+0100
TZOFFSETTO:+0200
TZNAME:CEST
DTSTART:20240331T010000
END:DAYLIGHT
BEGIN:STANDARD
TZOFFSETFROM:+0200
TZOFFSETTO:+0100
TZNAME:CET
DTSTART:20241027T010000
END:STANDARD
BEGIN:DAYLIGHT
TZOFFSETFROM:+0100
TZOFFSETTO:+0200
TZNAME:CEST
DTSTART:20250330T010000
END:DAYLIGHT
BEGIN:STANDARD
TZOFFSETFROM:+0200
TZOFFSETTO:+0100
TZNAME:CET
DTSTART:20251026T010000
END:STANDARD
BEGIN:DAYLIGHT
TZOFFSETFROM:+0100
TZOFFSETTO:+0200
TZNAME:CEST
DTSTART:20260329T010000
END:DAYLIGHT
BEGIN:STANDARD
TZOFFSETFROM:+0200
TZOFFSETTO:+0100
TZNAME:CET
DTSTART:20261025T010000
END:STANDARD
END:VTIMEZONE
BEGIN:VEVENT
DTSTART;TZID=Europe/Madrid:20250503T183000
DTEND;TZID=Europe/Madrid:20250503T193000
DTSTAMP:20260420T131423
CREATED:20250430T121331Z
LAST-MODIFIED:20250430T121331Z
UID:20558-1746297000-1746300600@www.carnavaldecadiz.com
SUMMARY:Actuación de la Chirigota Vallekana
DESCRIPTION:Evento público de libre acceso.
URL:https://www.carnavaldecadiz.com/event/actuacion-de-la-chirigota-vallekana-2/
LOCATION:Bulevar del Puente de Vallecas\, Madid\, calle de Peña Gorbea\, Puente de Vallecas\, Madrid\, Madrid\, 28053\, Spain
CATEGORIES:actuaciones de carnaval
END:VEVENT
BEGIN:VEVENT
DTSTART;TZID=Europe/Madrid:20250503T210000
DTEND;TZID=Europe/Madrid:20250503T220000
DTSTAMP:20260420T131423
CREATED:20250426T112616Z
LAST-MODIFIED:20250426T112616Z
UID:20481-1746306000-1746309600@www.carnavaldecadiz.com
SUMMARY:Chirigota 'AL CIELO CON EL' en Lora del Río
DESCRIPTION:Teléfonos de información: \n640341328 \n630564445
URL:https://www.carnavaldecadiz.com/event/chirigota-al-cielo-con-el-en-lora-del-rio/
LOCATION:Teatro Goya\, Lora del Río\, calle Rastro 10\, Lora del Río\, Sevilla\, 41440\, Spain
CATEGORIES:actuaciones de carnaval
END:VEVENT
BEGIN:VEVENT
DTSTART;TZID=Europe/Madrid:20250503T220000
DTEND;TZID=Europe/Madrid:20250503T230000
DTSTAMP:20260420T131423
CREATED:20250426T113249Z
LAST-MODIFIED:20250426T113249Z
UID:20485-1746309600-1746313200@www.carnavaldecadiz.com
SUMMARY:Carnaval en Caño 18
DESCRIPTION:Más información y reservas 658933689
URL:https://www.carnavaldecadiz.com/event/carnaval-en-cano-18-20/
LOCATION:Caño 18 Gastrobar\, calle San Juan Bautista\, local 7\, San Fernando\, Cádiz\, 11100
CATEGORIES:actuaciones de carnaval
END:VEVENT
END:VCALENDAR