BEGIN:VCALENDAR
VERSION:2.0
PRODID:-//Carnaval de C&aacute;diz - ECPv6.15.20//NONSGML v1.0//EN
CALSCALE:GREGORIAN
METHOD:PUBLISH
X-WR-CALNAME:Carnaval de C&aacute;diz
X-ORIGINAL-URL:https://www.carnavaldecadiz.com
X-WR-CALDESC:Eventos para Carnaval de C&aacute;diz
REFRESH-INTERVAL;VALUE=DURATION:PT1H
X-Robots-Tag:noindex
X-PUBLISHED-TTL:PT1H
BEGIN:VTIMEZONE
TZID:Europe/Madrid
BEGIN:DAYLIGHT
TZOFFSETFROM:+0100
TZOFFSETTO:+0200
TZNAME:CEST
DTSTART:20240331T010000
END:DAYLIGHT
BEGIN:STANDARD
TZOFFSETFROM:+0200
TZOFFSETTO:+0100
TZNAME:CET
DTSTART:20241027T010000
END:STANDARD
BEGIN:DAYLIGHT
TZOFFSETFROM:+0100
TZOFFSETTO:+0200
TZNAME:CEST
DTSTART:20250330T010000
END:DAYLIGHT
BEGIN:STANDARD
TZOFFSETFROM:+0200
TZOFFSETTO:+0100
TZNAME:CET
DTSTART:20251026T010000
END:STANDARD
BEGIN:DAYLIGHT
TZOFFSETFROM:+0100
TZOFFSETTO:+0200
TZNAME:CEST
DTSTART:20260329T010000
END:DAYLIGHT
BEGIN:STANDARD
TZOFFSETFROM:+0200
TZOFFSETTO:+0100
TZNAME:CET
DTSTART:20261025T010000
END:STANDARD
END:VTIMEZONE
BEGIN:VEVENT
DTSTART;TZID=Europe/Madrid:20250424T200000
DTEND;TZID=Europe/Madrid:20250424T213000
DTSTAMP:20260420T224634
CREATED:20250320T230404Z
LAST-MODIFIED:20250320T230404Z
UID:19489-1745524800-1745530200@www.carnavaldecadiz.com
SUMMARY:Comparsa EL CEMENTERIO en Isla Cristina
DESCRIPTION:Compra de localidades
URL:https://www.carnavaldecadiz.com/event/comparsa-el-cementerio-en-isla-cristina/
LOCATION:Teatro Horacio Noguera\, Isla Cristina\, calle Arquitecto Aramburu Maqua s/n\, Isla Cristina\, Huelva\, 21410\, España
CATEGORIES:actuaciones de carnaval
END:VEVENT
BEGIN:VEVENT
DTSTART;TZID=Europe/Madrid:20250424T210000
DTEND;TZID=Europe/Madrid:20250424T223000
DTSTAMP:20260420T224634
CREATED:20250417T115444Z
LAST-MODIFIED:20250417T115444Z
UID:20193-1745528400-1745533800@www.carnavaldecadiz.com
SUMMARY:Comparsa 'LAS RATAS' en Huelva
DESCRIPTION:Compra de localidades
URL:https://www.carnavaldecadiz.com/event/comparsa-las-ratas-en-huelva/
LOCATION:Casa Colon\, Huelva\, Plaza del Punto 6\, Huelva\, Huelva\, 21003\, Spain
CATEGORIES:actuaciones de carnaval
END:VEVENT
BEGIN:VEVENT
DTSTART;TZID=Europe/Madrid:20250424T210000
DTEND;TZID=Europe/Madrid:20250424T223000
DTSTAMP:20260420T224634
CREATED:20250418T125856Z
LAST-MODIFIED:20250418T130055Z
UID:20250-1745528400-1745533800@www.carnavaldecadiz.com
SUMMARY:Comparsa 'LAS PERRAS' en Sevilla
DESCRIPTION:Para saber más de la Comparsa femenina de Alcalá de Guadaira ‘LAS PERRAS’
URL:https://www.carnavaldecadiz.com/event/comparsa-las-perras-en-sevilla/
LOCATION:Cuatro Gatos\, Sevilla\, calle Madre Dolores Marquez 11\, Sevilla\, Sevilla\, 41003\, España
CATEGORIES:actuaciones de carnaval
END:VEVENT
END:VCALENDAR