BEGIN:VCALENDAR
VERSION:2.0
PRODID:-//Carnaval de C&aacute;diz - ECPv6.15.20//NONSGML v1.0//EN
CALSCALE:GREGORIAN
METHOD:PUBLISH
X-ORIGINAL-URL:https://www.carnavaldecadiz.com
X-WR-CALDESC:Eventos para Carnaval de C&aacute;diz
REFRESH-INTERVAL;VALUE=DURATION:PT1H
X-Robots-Tag:noindex
X-PUBLISHED-TTL:PT1H
BEGIN:VTIMEZONE
TZID:Europe/Madrid
BEGIN:DAYLIGHT
TZOFFSETFROM:+0100
TZOFFSETTO:+0200
TZNAME:CEST
DTSTART:20250330T010000
END:DAYLIGHT
BEGIN:STANDARD
TZOFFSETFROM:+0200
TZOFFSETTO:+0100
TZNAME:CET
DTSTART:20251026T010000
END:STANDARD
BEGIN:DAYLIGHT
TZOFFSETFROM:+0100
TZOFFSETTO:+0200
TZNAME:CEST
DTSTART:20260329T010000
END:DAYLIGHT
BEGIN:STANDARD
TZOFFSETFROM:+0200
TZOFFSETTO:+0100
TZNAME:CET
DTSTART:20261025T010000
END:STANDARD
BEGIN:DAYLIGHT
TZOFFSETFROM:+0100
TZOFFSETTO:+0200
TZNAME:CEST
DTSTART:20270328T010000
END:DAYLIGHT
BEGIN:STANDARD
TZOFFSETFROM:+0200
TZOFFSETTO:+0100
TZNAME:CET
DTSTART:20271031T010000
END:STANDARD
END:VTIMEZONE
BEGIN:VEVENT
DTSTART;VALUE=DATE:20260226
DTEND;VALUE=DATE:20260302
DTSTAMP:20260419T194010
CREATED:20260223T202611Z
LAST-MODIFIED:20260223T202611Z
UID:28540-1772064000-1772409599@www.carnavaldecadiz.com
SUMMARY:Carnaval de Vejer de la Frontera
DESCRIPTION:Programa Oficial del Carnaval de Vejer\nJueves 26 de febrero \n\n12:00h – Pasacalles centros educativos\n21:00h – Noche de romanceros y callejeras en la Peña ‘La bajada de la bolsa’\n\nViernes 27 de febrero \n\n21:00h – Noche de cuple y pasodobles en la Peña ‘La bajada de la bolsa’\n\nSábado 28 de febrero \n\n12:30h – GRAN POLLÁ. En la Plaza de la Paz\, degustación de pollo al ajillo\, con actuaciones de agrupaciones de carnaval.\nOrganiza ‘Taberna caragato’\n17:00h – XIV DOBLADILLÁ POPULAR. Degustación de dobladillos.\nEn LA PLAZUELA\, fiesta infantil animada por el Grupo ‘Habana Vejeriega’\, muñecos y pases de niños disfrazados.\n\nActuaciones de:\ncoro de Barbate – LAS GLADITANAS\ncomparsa infantil – LOS HARINITAS\nchirigota juvenil – LOS CHIQUITOS DE LA FRONTERA\nchirigota – PAR VIERNES LA TIRAA!\nchirigota – LOS SEMICURAOS \n\nConcurso de disfraces para mayores\nFin de fiesta con DJ SANDRA\n00:00h – Gran Verbena de Disfraces en la Caseta Municipal ‘LA NORIA’\n\nDomingo 1 de marzo \n\n17:00h – Gran Cabalgata del Humor\nSalida desde la Pista Polideportiva Luis Diego Domínguez (Colegio Los Molinos)\, Avd. Andalucía\, Avd. Buenavista\, calle San Juan XXIII\, Plaza de la Constitución\, Avd. San Miguel\, calle Juan Relinque\, La Plazuela y Corredera\, finalizando en la Plaza de España.\nQuema del ‘Pito de Carnaval’\, y degustación de caldo de puchero\, en La Plazuela.\n\nTodos los eventos son públicos de libre acceso. \n 
URL:https://www.carnavaldecadiz.com/event/carnaval-de-vejer-de-la-frontera/
LOCATION:Vejer\, Vejer\, Vejer\, Cádiz\, España
CATEGORIES:actuaciones de carnaval
END:VEVENT
BEGIN:VEVENT
DTSTART;TZID=Europe/Madrid:20260301T120000
DTEND;TZID=Europe/Madrid:20260301T200000
DTSTAMP:20260419T194010
CREATED:20260225T144545Z
LAST-MODIFIED:20260225T144545Z
UID:28683-1772366400-1772395200@www.carnavaldecadiz.com
SUMMARY:XV Carnaval Chiquito de Mujeres
DESCRIPTION:PARTICIPARÁN\n\nRomancero – Ópera prima\nChirigota – Las Petri de la Bahía: Churrería\nRomancero – Estación de penitencia. Cría cuervos\nChirigota – Las primas de Camarón\nChirigota – Las pulgas de los estorninos extintos de la Plaza Mina\nChirigota – Las palmeras\nRomancero – No sin mi puppy\nChirigota – Siempre igual\nChirigota – Mujeres de oro\nRomancero – La que limpia a diario pa un inglés y un mesetario\nRomancero – Una cirujana experta\nChirigota – Las Wendy Plane\nChirigota – ¿Qué coño quieres ahora?\nChirigota – Juntas pero no revueltas\nRomancero – La maestra innovación y la que espera la jubilación\n\nLa organización se guarda el derecho a modificar el orden de actuación. \nEvento público de libre acceso.
URL:https://www.carnavaldecadiz.com/event/xv-carnaval-chiquito-de-mujeres/
LOCATION:Plaza de la Libertad\, Cádiz\, Plaza de la Libertad\, Cádiz\, Cádiz\, 11100\, España
CATEGORIES:actuaciones de carnaval
END:VEVENT
BEGIN:VEVENT
DTSTART;TZID=Europe/Madrid:20260301T133000
DTEND;TZID=Europe/Madrid:20260301T190000
DTSTAMP:20260419T194010
CREATED:20260227T180959Z
LAST-MODIFIED:20260227T181052Z
UID:28759-1772371800-1772391600@www.carnavaldecadiz.com
SUMMARY:Carnaval Chiquito en KING LAB\, Cadiz
DESCRIPTION:ORDEN DE ACTUACIÓN\n\n13:30h – Romancero – Ópera prima\n14:00h – Romancero – Con mi coño por delante\n14:30h – Romancero – Luitti y Mario Bross en la cola de Quirós\n15:00h – Chirigota – Las Wendy Planet\n15:30h – Romancero – Un romancero de pelo\n16:00h – Romancero – Cibeles no conduzcas\n16:30h – Romancero – Loterías\, la espabilá\n17:00h – Chirigota – La culpa no era mía\n17:30h – Chirigota – Los que te ayudan a meterla\n18:00h – Chirigota – Los puretas del Nu\n\nEvento público de libre acceso \n 
URL:https://www.carnavaldecadiz.com/event/carnaval-chiquito-en-king-lab-cadiz/
LOCATION:King Lab\, Cádiz\, calle Montañés 14\, Cádiz\, Cádiz\, 11002\, Spain
CATEGORIES:actuaciones de carnaval
END:VEVENT
BEGIN:VEVENT
DTSTART;TZID=Europe/Madrid:20260301T190000
DTEND;TZID=Europe/Madrid:20260301T203000
DTSTAMP:20260419T194010
CREATED:20260223T152226Z
LAST-MODIFIED:20260223T152226Z
UID:28530-1772391600-1772397000@www.carnavaldecadiz.com
SUMMARY:Chirigota LOS AMISH en Sevilla
DESCRIPTION:Chirigota LOS AMISH en Sevilla \nCompra en línea de LOCALIDADES
URL:https://www.carnavaldecadiz.com/event/chirigota-los-amish-en-sevilla/
LOCATION:Teatro los Remedios\, calle Juan Ramón Jimenez 22\, Sevilla\, Sevilla\, 41011\, España
CATEGORIES:actuaciones de carnaval
END:VEVENT
BEGIN:VEVENT
DTSTART;TZID=Europe/Madrid:20260301T190000
DTEND;TZID=Europe/Madrid:20260301T203000
DTSTAMP:20260419T194010
CREATED:20260227T181753Z
LAST-MODIFIED:20260227T181753Z
UID:28762-1772391600-1772397000@www.carnavaldecadiz.com
SUMMARY:Mano a mano: SEGUIMOS CAYENDO MAL & UNA CHIRIGOTA EN TEORIA
DESCRIPTION:Evento público de libre acceso.
URL:https://www.carnavaldecadiz.com/event/mano-a-mano-seguimos-cayendo-mal-una-chirigota-en-teoria/
LOCATION:Oratorio de San Felipe Neri\, Cádiz\, calle San José 36\, Cádiz\, Cádiz\, 11003\, Spain
CATEGORIES:actuaciones de carnaval
END:VEVENT
BEGIN:VEVENT
DTSTART;TZID=Europe/Madrid:20260301T190000
DTEND;TZID=Europe/Madrid:20260301T210000
DTSTAMP:20260419T194010
CREATED:20260223T225115Z
LAST-MODIFIED:20260223T225115Z
UID:28575-1772391600-1772398800@www.carnavaldecadiz.com
SUMMARY:Comparsa 'DSAS3' en Granada
DESCRIPTION:Compra en línea de LOCALIDADES
URL:https://www.carnavaldecadiz.com/event/comparsa-dsas3-en-granada/
LOCATION:Palacio de Congresos de Granada\, Pº del Violón\, Zaidin\, Granada\, Granada\, 18006\, España
CATEGORIES:actuaciones de carnaval
END:VEVENT
BEGIN:VEVENT
DTSTART;VALUE=DATE:20260306
DTEND;VALUE=DATE:20260308
DTSTAMP:20260419T194010
CREATED:20260304T164052Z
LAST-MODIFIED:20260304T164052Z
UID:28947-1772755200-1772927999@www.carnavaldecadiz.com
SUMMARY:Carnaval en la Barca de la Florida
DESCRIPTION:PROGRAMA\nViernes 6 de marzo \n\n12:00h – Pasacalles del CEIP Barca de la Florida\n16:30h – 18:00h – Talleres de carnaval\n\nCentro cultural\, actuación: \n\n21:30h – Chirigota – UNA CHIRIGOTA EN TEORÍA\n\nPlaza Artesanía\, actuación: \n\n22:45h – Comparsa – LOS PÁJAROS CARPINTEROS\n\nSábado 7 de marzo \n\n16:00h – Cabalgata de Carnaval. Salida desde el recinto ferial. Acompañamiento de la charanga Trebeciana. Agrupación carnavalesca EL CHICO.\n19:00h – 01:00h – Fiesta final con DJ\, José Castillo en la Plaza de la Artesanía\n\nTodos eventos públicos de libre acceso.
URL:https://www.carnavaldecadiz.com/event/carnaval-en-la-barca-de-la-florida-2/
LOCATION:La Barca de la Florida\, La Barca de la Florida\, La Barca de la Florida\, Cádiz\, 11570\, España
CATEGORIES:actuaciones de carnaval
END:VEVENT
BEGIN:VEVENT
DTSTART;TZID=Europe/Madrid:20260306T193000
DTEND;TZID=Europe/Madrid:20260306T203000
DTSTAMP:20260419T194010
CREATED:20260303T211709Z
LAST-MODIFIED:20260303T211709Z
UID:28897-1772825400-1772829000@www.carnavaldecadiz.com
SUMMARY:Paco Pellejo en Olvera
DESCRIPTION:Evento público de libre acceso.
URL:https://www.carnavaldecadiz.com/event/paco-pellejo-en-olvera/
LOCATION:Manhattan Café y Copas\, Olvera\, Avenida Julian Besteiro\, 74\, Olvera\, Cádiz\, 11690\, Spain
CATEGORIES:actuaciones de carnaval
END:VEVENT
BEGIN:VEVENT
DTSTART;TZID=Europe/Madrid:20260306T200000
DTEND;TZID=Europe/Madrid:20260306T210000
DTSTAMP:20260419T194010
CREATED:20260303T210911Z
LAST-MODIFIED:20260303T210911Z
UID:28891-1772827200-1772830800@www.carnavaldecadiz.com
SUMMARY:Chirimurga 'LOS PIRATAS DEL RÍO DE LA PLATA' en la Peña Mencantajere
DESCRIPTION:Evento público de libre acceso.
URL:https://www.carnavaldecadiz.com/event/chirimurga-los-piratas-del-rio-de-la-plata-en-la-pena-mencantajere/
LOCATION:Peña Mencantajeré\, calla falta 15\, Jerez de la Frontera\, Cádiz\, 11408\, España
CATEGORIES:actuaciones de carnaval
END:VEVENT
BEGIN:VEVENT
DTSTART;TZID=Europe/Madrid:20260306T200000
DTEND;TZID=Europe/Madrid:20260306T210000
DTSTAMP:20260419T194010
CREATED:20260303T211216Z
LAST-MODIFIED:20260303T211216Z
UID:28894-1772827200-1772830800@www.carnavaldecadiz.com
SUMMARY:Actuación de 'LOS ÚLTIMOS DE LA ÚLTIMA CENA' en la Peña Mencantajere
DESCRIPTION:Evento público de libre acceso.
URL:https://www.carnavaldecadiz.com/event/actuacion-de-los-ultimos-de-la-ultima-cena-en-la-pena-mencantajere/
LOCATION:Peña Mencantajeré\, calla falta 15\, Jerez de la Frontera\, Cádiz\, 11408\, España
CATEGORIES:actuaciones de carnaval
END:VEVENT
BEGIN:VEVENT
DTSTART;TZID=Europe/Madrid:20260306T200000
DTEND;TZID=Europe/Madrid:20260306T213000
DTSTAMP:20260419T194010
CREATED:20260303T204010Z
LAST-MODIFIED:20260303T204010Z
UID:28880-1772827200-1772832600@www.carnavaldecadiz.com
SUMMARY:Chirigota Callejera 'LAS QUEEN' en San Pablo de Buceite
DESCRIPTION:LA CHIRIGOTA CALLEJERA CADIWOMAN ‘LAS QUEEN’ INAUGURARÁ EL CARNAVAL DE SAN PABLO DE BUCEITE 2026 \nEste año\, la inauguración del Carnaval de San Pablo estará en manos de la chirigota callejera Cadiwoman\, ‘Las Queen’. \nCon motivo del 8M\, Día de la Mujer Trabajadora\, damos paso a esta agrupación femenina y feminista\, para que reivindiquen la figura de la mujer con sus cuplés. \nA partir de las 20:00 horas podremos disfrutar de su actuación en el Carpa Municipal en la Calle Real \nEvento público de libre acceso.
URL:https://www.carnavaldecadiz.com/event/chirigota-callejera-las-queen-en-san-pablo-de-buceite/
LOCATION:Plaza Los Naranjos\, San Pablo de Buceite\, Plaza Los Naranjos\, San Pablo de Buceite\, Cádiz\, 11320\, Spain
CATEGORIES:actuaciones de carnaval
END:VEVENT
BEGIN:VEVENT
DTSTART;TZID=Europe/Madrid:20260306T200000
DTEND;TZID=Europe/Madrid:20260306T220000
DTSTAMP:20260419T194010
CREATED:20260302T133728Z
LAST-MODIFIED:20260302T133728Z
UID:28818-1772827200-1772834400@www.carnavaldecadiz.com
SUMMARY:Carnaval de Cádiz en Alfacar\, Granada
DESCRIPTION:Actuarán: \n\nChirigota – LOS AMISH DEL MONO\nComparsa – OBDC. ME QUEDO CONTIGO\n\nCompra en línea de LOCALIDADES
URL:https://www.carnavaldecadiz.com/event/carnaval-de-cadiz-en-alfacar-granada/
LOCATION:Teatro Municipal de Alfacar\, Granada\, Avenida Federico García Lorca s/n\, Alfacar\, Granada\, 18170\, Spain
CATEGORIES:actuaciones de carnaval
END:VEVENT
BEGIN:VEVENT
DTSTART;TZID=Europe/Madrid:20260306T200000
DTEND;TZID=Europe/Madrid:20260306T233000
DTSTAMP:20260419T194010
CREATED:20260302T135022Z
LAST-MODIFIED:20260302T135022Z
UID:28825-1772827200-1772839800@www.carnavaldecadiz.com
SUMMARY:El Falla en Sevilla 2026
DESCRIPTION:Actuarán:\n\nComparsa DSAS3\nChirigota LOS QUE VAN A COGER PAPAS\nComparsa EL DEGUACE\nChirigota NOS HEMOS VENIO ARRIBA\nChirigota SSSHHHH!!\n\nCompra en línea de LOCALIDADES
URL:https://www.carnavaldecadiz.com/event/el-falla-en-sevilla-2026/
LOCATION:FIBES\, Avenida Alcalde Luis Uruñuela 1\, Sevilla\, Sevilla\, 41020\, España
CATEGORIES:actuaciones de carnaval
END:VEVENT
BEGIN:VEVENT
DTSTART;TZID=Europe/Madrid:20260306T210000
DTEND;TZID=Europe/Madrid:20260306T220000
DTSTAMP:20260419T194010
CREATED:20260303T212157Z
LAST-MODIFIED:20260303T212157Z
UID:28901-1772830800-1772834400@www.carnavaldecadiz.com
SUMMARY:Comparsa LOS TRAPOS en Villamartín
DESCRIPTION:Evento público de libre acceso.
URL:https://www.carnavaldecadiz.com/event/comparsa-los-trapos-en-villamartin/
LOCATION:Avenida de la Feria\, Villamartín\, Avenida de la Feria\, Villamartín\, Cádiz\, 11690\, Spain
CATEGORIES:actuaciones de carnaval
END:VEVENT
BEGIN:VEVENT
DTSTART;TZID=Europe/Madrid:20260306T210000
DTEND;TZID=Europe/Madrid:20260306T223000
DTSTAMP:20260419T194010
CREATED:20260304T141658Z
LAST-MODIFIED:20260304T141658Z
UID:28937-1772830800-1772836200@www.carnavaldecadiz.com
SUMMARY:Comparsa LOS LOCOS en Ayamonte
DESCRIPTION:Más información y reservas 613503373
URL:https://www.carnavaldecadiz.com/event/comparsa-los-locos-en-ayamonte/
LOCATION:Teatro Cardenio\, Ayamonte\, calle Enrique Villegas Vélez s/n\, Ayamonte\, Huelva\, 21400\, España
CATEGORIES:actuaciones de carnaval
END:VEVENT
BEGIN:VEVENT
DTSTART;TZID=Europe/Madrid:20260306T220000
DTEND;TZID=Europe/Madrid:20260306T233000
DTSTAMP:20260419T194010
CREATED:20260302T134129Z
LAST-MODIFIED:20260302T134129Z
UID:28822-1772834400-1772839800@www.carnavaldecadiz.com
SUMMARY:'LOS COMPAY' en Tatachin de la Frontera
DESCRIPTION:Evento público de libre acceso.
URL:https://www.carnavaldecadiz.com/event/los-compay-en-tatachin-de-la-frontera/
LOCATION:Peña Tatachin\, calle Cristo Humildad Paciencia 2D\, Chiclana de la Frontera\, Cádiz\, 11130\, España
CATEGORIES:actuaciones de carnaval
END:VEVENT
BEGIN:VEVENT
DTSTART;TZID=Europe/Madrid:20260307T130000
DTEND;TZID=Europe/Madrid:20260307T190000
DTSTAMP:20260419T194010
CREATED:20260303T222151Z
LAST-MODIFIED:20260303T222151Z
UID:28916-1772888400-1772910000@www.carnavaldecadiz.com
SUMMARY:Carnaval de los pesaos de Barrio Alto
DESCRIPTION:Actuarán: \n\nchirigota – LOS MUESTRECITA GRATIS\nromancero – UNA GRAN OBRA DE ARTE\nromancero – QUE PEASO TOKETASO\nchirigota – PADRE\, NO HAY MÁS QUE JUMO\nchirigota – ¡Y AHORA ME TOCA A MÍ!\nchirigota – LOS RICKY MARTIN DE LA BAHÍA\ncomparsa – RÍO ABAJO\nchirigota – LAS WALKING PAVO. SANTAS Y RELIGIOSAS\nchirigota – EL TÍO DE LA TIZA SE ACTUALIZA\nchirigota – LOS TARATACHANGA\nchirigota – AÚN ME CABE MÁS\n\nEvento público de libre acceso \n 
URL:https://www.carnavaldecadiz.com/event/carnaval-de-los-pesaos-de-barrio-alto/
LOCATION:Bar Nueva Tienda Enmedio\, Sanlucar.\, Plaza Puerta de Jerez\, s/n\, Sanlucar de Barrameda\, Cádiz\, 11540\, Spain
CATEGORIES:actuaciones de carnaval
END:VEVENT
BEGIN:VEVENT
DTSTART;TZID=Europe/Madrid:20260307T140000
DTEND;TZID=Europe/Madrid:20260307T220000
DTSTAMP:20260419T194010
CREATED:20260303T221355Z
LAST-MODIFIED:20260303T221355Z
UID:28912-1772892000-1772920800@www.carnavaldecadiz.com
SUMMARY:II Aliñá Popular - A.C. Amada de Esperanza
DESCRIPTION:El evento consiste en degustación gratuita de Papas Aliñádas\, que se amenizará con la actuación de las siguientes agrupaciones: \n\n15:00h – Romancero – El esclavo de Cleopatra\n15:15h – Romancero – El tío José\n15:30h – Romancero – María Pita se irrita\n16:00h – Romancero – Este año voy a salir\n16:30h – Antología – Luisiana\n17:00h – Antología – Po cógela que es mía\n17:30h – Cuarteto – Este cuarteto tiene madera\n18:00h – Chirigota – Los 12 hijos de Juan\n18:30h – Chirigota – Cádiz el videojuego\n19:00h – Chirigota – La Esperanza nunca se pierde\n19:30h – Chirigota – Seguimos cayendo mal\n20:00h – Antología veraniega ‘Dando la lata’\n\nEvento público de libre acceso
URL:https://www.carnavaldecadiz.com/event/ii-alina-popular-a-c-amada-de-esperanza/
LOCATION:Asociación Amada de Esperanza\, Río San Pedro\, calle Guatemala\, 7\, Río San Pedro\, Cádiz\, 11519\, Spain
CATEGORIES:actuaciones de carnaval,evento gastronómico
END:VEVENT
BEGIN:VEVENT
DTSTART;TZID=Europe/Madrid:20260307T160000
DTEND;TZID=Europe/Madrid:20260307T170000
DTSTAMP:20260419T194010
CREATED:20260303T214452Z
LAST-MODIFIED:20260303T214452Z
UID:28905-1772899200-1772902800@www.carnavaldecadiz.com
SUMMARY:Paco Pellejo en EMBARCADERO\, El Puerto de Sta. María
DESCRIPTION:Evento público de libre acceso.
URL:https://www.carnavaldecadiz.com/event/paco-pellejo-en-embarcadero-el-puerto-de-sta-maria/
LOCATION:Embarcadero Sol y Copas\, El Puerto de Santa María\, Avenida de la Bajamar\, 2\, El Puerto de Santa María\, Cádiz\, 11500\, Spain
CATEGORIES:actuaciones de carnaval
END:VEVENT
BEGIN:VEVENT
DTSTART;TZID=Europe/Madrid:20260307T180000
DTEND;TZID=Europe/Madrid:20260307T210000
DTSTAMP:20260419T194010
CREATED:20260304T164520Z
LAST-MODIFIED:20260304T164520Z
UID:28950-1772906400-1772917200@www.carnavaldecadiz.com
SUMMARY:Actuación de la Chirigota LOS SEMICURAOS en Albox
DESCRIPTION:
URL:https://www.carnavaldecadiz.com/event/actuacion-de-la-chirigota-los-semicuraos-en-albox/
LOCATION:Centro de Aguay Salud\, Albox\, Avenida America 11\, Albox\, Almería\, 04800\, Spain
CATEGORIES:actuaciones de carnaval
END:VEVENT
BEGIN:VEVENT
DTSTART;TZID=Europe/Madrid:20260307T200000
DTEND;TZID=Europe/Madrid:20260307T220000
DTSTAMP:20260419T194010
CREATED:20260303T215828Z
LAST-MODIFIED:20260303T215828Z
UID:28909-1772913600-1772920800@www.carnavaldecadiz.com
SUMMARY:Carnaval de Cádiz en Minas de Riotinto
DESCRIPTION:Actuarán: \n\ncomparsa – EL MANICOMIO\ncomparsa – LOS LOCOS
URL:https://www.carnavaldecadiz.com/event/carnaval-de-cadiz-en-minas-de-riotinto/
LOCATION:Teatro Juan Cobos Wilkins\, Riotinto\, calle Orense 1\, Riotinto\, Huelva\, 21660\, Spain
CATEGORIES:actuaciones de carnaval
END:VEVENT
BEGIN:VEVENT
DTSTART;TZID=Europe/Madrid:20260307T200000
DTEND;TZID=Europe/Madrid:20260307T233000
DTSTAMP:20260419T194010
CREATED:20260302T135222Z
LAST-MODIFIED:20260302T135222Z
UID:28828-1772913600-1772926200@www.carnavaldecadiz.com
SUMMARY:El Falla en Sevilla 2026
DESCRIPTION:Actuarán:\n\nComparsa DSAS3\nChirigota LOS QUE VAN A COGER PAPAS\nComparsa EL DEGUACE\nChirigota NOS HEMOS VENIO ARRIBA\nChirigota SSSHHHH!!\n\nCompra en línea de LOCALIDADES
URL:https://www.carnavaldecadiz.com/event/el-falla-en-sevilla-2026-2/
LOCATION:FIBES\, Avenida Alcalde Luis Uruñuela 1\, Sevilla\, Sevilla\, 41020\, España
CATEGORIES:actuaciones de carnaval
END:VEVENT
BEGIN:VEVENT
DTSTART;TZID=Europe/Madrid:20260308T120000
DTEND;TZID=Europe/Madrid:20260308T170000
DTSTAMP:20260419T194010
CREATED:20260304T150318Z
LAST-MODIFIED:20260304T150318Z
UID:28940-1772971200-1772989200@www.carnavaldecadiz.com
SUMMARY:Convivencia Feminista en Cádiz
DESCRIPTION:Programa:\n\n12:00h – Manifestación Feminista con la Coordinadora Provincial\n14:00h – Juntera en la Plaza de España\, Cádiz. Trae tu bocata y bebida. Micro abierto. Bingo Feminista + Premios.\n\nACTUACIONES: \n\nAYSU\nMarta Dylan\nChirigota – LA DRAMA DE CADI\nRomancero – LA MAMA\nChirigota – LAS PULGAS\n\nEvento público de libre acceso \n  \n 
URL:https://www.carnavaldecadiz.com/event/convivencia-feminista-en-cadiz/
LOCATION:Plaza de España\, Cádiz\, Plaza de España\, Cádiz\, Cádiz\, 11006\, España
CATEGORIES:actuaciones de carnaval,carnaval callejero,carnaval feminista
END:VEVENT
BEGIN:VEVENT
DTSTART;TZID=Europe/Madrid:20260313T173000
DTEND;TZID=Europe/Madrid:20260313T213000
DTSTAMP:20260419T194010
CREATED:20260311T220102Z
LAST-MODIFIED:20260311T220102Z
UID:29105-1773423000-1773437400@www.carnavaldecadiz.com
SUMMARY:Carnaval Chirigotero en Espartinas
DESCRIPTION:Actuarán: \n\n17:30h – Chirigota callejera – LOS JULANDRONES\n19:00h – Chirigota – PIENSA MAL Y ACERTARÁS (LOS DESCONFIADOS)\n20:15h – Chirigota –  LOS AMISH…\n\nEvento público de libre acceso.
URL:https://www.carnavaldecadiz.com/event/carnaval-chirigotero-en-espartinas-2/
LOCATION:Caseta Municipal de Espartinas\, Avenida Tablantes\, 39\, Espartinas\, Sevilla\, 41807\, Spain
CATEGORIES:actuaciones de carnaval
END:VEVENT
BEGIN:VEVENT
DTSTART;TZID=Europe/Madrid:20260313T193000
DTEND;TZID=Europe/Madrid:20260313T233000
DTSTAMP:20260419T194010
CREATED:20260309T233904Z
LAST-MODIFIED:20260309T233904Z
UID:29045-1773430200-1773444600@www.carnavaldecadiz.com
SUMMARY:Gala Benéfica de Carnaval
DESCRIPTION:Actuarán entre otros: \n\nLa Nancy Skiadora (Koki)\nChirigota – Siempre igual\nChiridúo – Los niños de Pericón\nRomancero – Cogeslo ICE\n\nPresentado por Pedro Barba \nCompra de entradas: 956415065 / 677854232 \nMás información: asoc.abaniko@gmail.com
URL:https://www.carnavaldecadiz.com/event/gala-benefica-de-carnaval-2/
LOCATION:CEIP Campo del Sur\, Cádiz\, calle Concepción Arenal\, 1\, Cádiz\, Cádiz\, 11006\, Spain
CATEGORIES:actuaciones de carnaval
END:VEVENT
BEGIN:VEVENT
DTSTART;TZID=Europe/Madrid:20260313T210000
DTEND;TZID=Europe/Madrid:20260313T230000
DTSTAMP:20260419T194010
CREATED:20260309T232927Z
LAST-MODIFIED:20260309T232927Z
UID:29041-1773435600-1773442800@www.carnavaldecadiz.com
SUMMARY:La chirigota del Bizc8 en Adamuz
DESCRIPTION:Compra en línea de LOCALIDADES
URL:https://www.carnavaldecadiz.com/event/la-chirigota-del-bizc8-en-adamuz/
LOCATION:Caseta Municipal Adamuz\, Caseta Municipal\, Adamuz\, Córdoba\, 14430\, Spain
CATEGORIES:actuaciones de carnaval
END:VEVENT
BEGIN:VEVENT
DTSTART;TZID=Europe/Madrid:20260313T210000
DTEND;TZID=Europe/Madrid:20260313T230000
DTSTAMP:20260419T194010
CREATED:20260310T005123Z
LAST-MODIFIED:20260310T005123Z
UID:29052-1773435600-1773442800@www.carnavaldecadiz.com
SUMMARY:Toni 'Piojo' en el Hotel Spa Cádiz Plaza
DESCRIPTION:Compra en linea de LOCALIDADES
URL:https://www.carnavaldecadiz.com/event/toni-piojo-en-el-hotel-spa-cadiz-plaza-2/
LOCATION:Hotel Spa Cádiz Plaza\, Glorieta Ana Orantes 3\, Cádiz\, Cádiz\, 11010\, Spain
CATEGORIES:actuaciones de carnaval
END:VEVENT
BEGIN:VEVENT
DTSTART;TZID=Europe/Madrid:20260313T210000
DTEND;TZID=Europe/Madrid:20260313T233000
DTSTAMP:20260419T194010
CREATED:20260223T150251Z
LAST-MODIFIED:20260223T150251Z
UID:28524-1773435600-1773444600@www.carnavaldecadiz.com
SUMMARY:Carnaval de Cádiz en Sevilla
DESCRIPTION:Actuarán: \n\nChirigota callejera – LOS JULANDRONES\nChirigota del Llull – UNA CHIRIGOTA EN TEORÍA\n\nCompra en línea de LOCALIDADES
URL:https://www.carnavaldecadiz.com/event/carnaval-de-cadiz-en-sevilla-5/
LOCATION:Auditorio Cartuja\, Sevilla\, calle Albert Einstein s/n\, Sevilla\, Sevilla\, 41092\, Spain
CATEGORIES:actuaciones de carnaval
END:VEVENT
BEGIN:VEVENT
DTSTART;TZID=Europe/Madrid:20260313T220000
DTEND;TZID=Europe/Madrid:20260313T233000
DTSTAMP:20260419T194010
CREATED:20260311T213829Z
LAST-MODIFIED:20260311T213829Z
UID:29101-1773439200-1773444600@www.carnavaldecadiz.com
SUMMARY:Apoyo a la cantera Juvenil del Carnaval de Alcalá
DESCRIPTION:Actuarán: \n\nComparsa – LOS SEÑALAOS\nComparsa – ¿NO SON PA MATARLOS?\n\nEvento público de libre acceso
URL:https://www.carnavaldecadiz.com/event/apoyo-a-la-cantera-juvenil-del-carnaval-de-alcala/
LOCATION:Sala Versalles\, Alcalá de Guadaira\, calle Gravina\, 1\, Alcalá de Guadaira\, Sevilla\, 41500\, Spain
CATEGORIES:actuaciones de carnaval
END:VEVENT
BEGIN:VEVENT
DTSTART;TZID=Europe/Madrid:20260314T130000
DTEND;TZID=Europe/Madrid:20260314T170000
DTSTAMP:20260419T194010
CREATED:20260310T214728Z
LAST-MODIFIED:20260310T214728Z
UID:29077-1773493200-1773507600@www.carnavaldecadiz.com
SUMMARY:Encuentro Cultural de Carnaval y Solidario
DESCRIPTION:A beneficio de la Asociación APADEN. \nCon servicio de barra a precios populares. \nActuarán: \n\nComparsa – Salud\, gaditanismo y libertad\nCallejera – Los hijos de la Caye con y\nCallejera – La chirigota de la nave\nCuarteto – La pandilla inclusiva\n\nEvento público de libre acceso.
URL:https://www.carnavaldecadiz.com/event/encuentro-cultural-de-carnaval-y-solidario/
LOCATION:Peña Madridista Portunse\, calle Zarza 58\, El puerto de Santa María\, Cádiz\, 11500\, España
CATEGORIES:actuaciones de carnaval
END:VEVENT
END:VCALENDAR