BEGIN:VCALENDAR
VERSION:2.0
PRODID:-//Carnaval de C&aacute;diz - ECPv6.15.20//NONSGML v1.0//EN
CALSCALE:GREGORIAN
METHOD:PUBLISH
X-WR-CALNAME:Carnaval de C&aacute;diz
X-ORIGINAL-URL:https://www.carnavaldecadiz.com
X-WR-CALDESC:Eventos para Carnaval de C&aacute;diz
REFRESH-INTERVAL;VALUE=DURATION:PT1H
X-Robots-Tag:noindex
X-PUBLISHED-TTL:PT1H
BEGIN:VTIMEZONE
TZID:Europe/Madrid
BEGIN:DAYLIGHT
TZOFFSETFROM:+0100
TZOFFSETTO:+0200
TZNAME:CEST
DTSTART:20250330T010000
END:DAYLIGHT
BEGIN:STANDARD
TZOFFSETFROM:+0200
TZOFFSETTO:+0100
TZNAME:CET
DTSTART:20251026T010000
END:STANDARD
BEGIN:DAYLIGHT
TZOFFSETFROM:+0100
TZOFFSETTO:+0200
TZNAME:CEST
DTSTART:20260329T010000
END:DAYLIGHT
BEGIN:STANDARD
TZOFFSETFROM:+0200
TZOFFSETTO:+0100
TZNAME:CET
DTSTART:20261025T010000
END:STANDARD
BEGIN:DAYLIGHT
TZOFFSETFROM:+0100
TZOFFSETTO:+0200
TZNAME:CEST
DTSTART:20270328T010000
END:DAYLIGHT
BEGIN:STANDARD
TZOFFSETFROM:+0200
TZOFFSETTO:+0100
TZNAME:CET
DTSTART:20271031T010000
END:STANDARD
END:VTIMEZONE
BEGIN:VEVENT
DTSTART;TZID=Europe/Madrid:20260103T133000
DTEND;TZID=Europe/Madrid:20260103T143000
DTSTAMP:20260419T230321
CREATED:20251222T135935Z
LAST-MODIFIED:20251222T135935Z
UID:26788-1767447000-1767450600@www.carnavaldecadiz.com
SUMMARY:Ensayo General del Coro Infantil 'LA PERLA DE CÁDIZ'
DESCRIPTION:Para saber mas del coro infantil ‘LA PERLA DE CÁDIZ’ \nEvento público de libre acceso.
URL:https://www.carnavaldecadiz.com/event/ensayo-general-del-coro-infantil-la-perla-de-cadiz/
LOCATION:Peña Flamenca\, Chiclana\, calle Cuna\, Chiclana de la Frontera\, Cádiz\, 11130\, Spain
CATEGORIES:actuaciones de carnaval
END:VEVENT
BEGIN:VEVENT
DTSTART;TZID=Europe/Madrid:20260103T160000
DTEND;TZID=Europe/Madrid:20260103T200000
DTSTAMP:20260419T230321
CREATED:20251229T141140Z
LAST-MODIFIED:20251229T141140Z
UID:26915-1767456000-1767470400@www.carnavaldecadiz.com
SUMMARY:Ensayos Generales de varias agrupaciones
DESCRIPTION:Actuarán: \n\nLa chirigota ‘YO CON ESTO NO PUEDO’ – ver ficha\nLa chirigota ‘MÍRALA CARA A CARA’ – ver ficha\nLa chirigota ‘¿NO SON PA COMÉRSELOS?’\n\nEvento público de libre acceso.
URL:https://www.carnavaldecadiz.com/event/ensayos-generales-de-varias-agrupaciones/
LOCATION:Centro Cultural y Recreativo piscina La Prusiana\, Mairena\, Lugar\, Barriada La Prusiana s/n\, Mairena del Aljarafe\, Sevilla\, 41927\, Spain
CATEGORIES:actuaciones de carnaval
END:VEVENT
BEGIN:VEVENT
DTSTART;TZID=Europe/Madrid:20260103T200000
DTEND;TZID=Europe/Madrid:20260103T210000
DTSTAMP:20260419T230321
CREATED:20251229T132851Z
LAST-MODIFIED:20251229T132851Z
UID:26912-1767470400-1767474000@www.carnavaldecadiz.com
SUMMARY:Ensayo General del Coro 'LA CIUDAD PERFECTA'
DESCRIPTION:Para saber más del coro ‘LA CIUDAD PERFECTA’ ver ficha \nEvento público de libre acceso.
URL:https://www.carnavaldecadiz.com/event/ensayo-general-del-coro-la-ciudad-perfecta/
LOCATION:Peña Carnavalesca Perico Alcantara\, Chiclana\, calle Paciano del Barco 2\, bajo\, Chiclana de la Frontera\, Cádiz\, 11130\, Spain
CATEGORIES:actuaciones de carnaval
ATTACH;FMTTYPE=image/png:https://www.carnavaldecadiz.com/wp-content/uploads/2025/12/0103Chiclana-1.png
END:VEVENT
BEGIN:VEVENT
DTSTART;TZID=Europe/Madrid:20260103T210000
DTEND;TZID=Europe/Madrid:20260103T230000
DTSTAMP:20260419T230321
CREATED:20251223T210415Z
LAST-MODIFIED:20251223T210415Z
UID:26833-1767474000-1767481200@www.carnavaldecadiz.com
SUMMARY:Actuación de 'PA PIRATAS NOSOTROS'
DESCRIPTION:
URL:https://www.carnavaldecadiz.com/event/actuacion-de-pa-piratas-nosotros-3/
LOCATION:Hotel Spa Cádiz Plaza\, Glorieta Ana Orantes 3\, Cádiz\, Cádiz\, 11010\, Spain
CATEGORIES:actuaciones de carnaval
END:VEVENT
BEGIN:VEVENT
DTSTART;TZID=Europe/Madrid:20260103T210000
DTEND;TZID=Europe/Madrid:20260103T233000
DTSTAMP:20260419T230321
CREATED:20251222T134919Z
LAST-MODIFIED:20251222T134919Z
UID:26785-1767474000-1767483000@www.carnavaldecadiz.com
SUMMARY:Ensayo General de 'LOS QUE ESCRIBEN EN LA ARENA'
DESCRIPTION:Actuarán los siguientes grupos: \n\nComparsa Los que escriben en la arena (Huelva)\nComparsa La Caravana (Riotinto)\nChirigota Los del AVE (Huelva)\nComparsa Los Tiradores (Punta Umbría)\nChirigota Retumba el suelo (Isla Cristina)\n\nEvento público de libre acceso.
URL:https://www.carnavaldecadiz.com/event/ensayo-general-de-los-que-escriben-en-la-arena/
LOCATION:Peña Manuel Giraldo\, Avenida del Nuevo Colombino 33\, Huelva\, Huelva\, 21007\, España
CATEGORIES:actuaciones de carnaval
END:VEVENT
BEGIN:VEVENT
DTSTART;TZID=Europe/Madrid:20260104T153000
DTEND;TZID=Europe/Madrid:20260104T170000
DTSTAMP:20260419T230321
CREATED:20251229T141848Z
LAST-MODIFIED:20251229T141848Z
UID:26919-1767540600-1767546000@www.carnavaldecadiz.com
SUMMARY:Dani Obregón y Waxi en Caño 18
DESCRIPTION:Reservas 658933689
URL:https://www.carnavaldecadiz.com/event/dani-obregon-y-waxi-en-cano-18/
LOCATION:Caño 18 Gastrobar\, calle San Juan Bautista\, local 7\, San Fernando\, Cádiz\, 11100
CATEGORIES:actuaciones de carnaval
END:VEVENT
BEGIN:VEVENT
DTSTART;TZID=Europe/Madrid:20260104T180000
DTEND;TZID=Europe/Madrid:20260104T190000
DTSTAMP:20260419T230321
CREATED:20251229T132224Z
LAST-MODIFIED:20251229T132224Z
UID:26909-1767549600-1767553200@www.carnavaldecadiz.com
SUMMARY:Ensayo General de 'LOS ARTIFICIALES'
DESCRIPTION:Para saber más de ‘LOS ARTIFICIALES’ ver ficha \nEvento público de libre acceso.
URL:https://www.carnavaldecadiz.com/event/ensayo-general-de-los-artificiales/
LOCATION:Restaurante EL TORO EMBOLAO\, Los Barrios\, Paza de Toros s/n\, Los Barrios\, Cádiz\, 11370\, España
CATEGORIES:actuaciones de carnaval
END:VEVENT
BEGIN:VEVENT
DTSTART;TZID=Europe/Madrid:20260109T200000
DTEND;TZID=Europe/Madrid:20260109T223000
DTSTAMP:20260419T230321
CREATED:20251223T211027Z
LAST-MODIFIED:20251223T211027Z
UID:26836-1767988800-1767997800@www.carnavaldecadiz.com
SUMMARY:Presentación del Cartel del Carnaval de Ronda
DESCRIPTION:Se dará a conocer al pregonero\, Dios Momo y a las reinas del carnaval. \nActuará del trío de Carnaval gaditano compuesto por: Jesús Cruz\, David Delgado y Zeus Marín \nEvento público de libre acceso
URL:https://www.carnavaldecadiz.com/event/presentacion-del-cartel-del-carnaval-de-ronda/
LOCATION:Convento de Santo Domingo\, Ronda\, calle Armiñán\, 1\, Ronda\, Málaga\, Spain
CATEGORIES:actuaciones de carnaval
END:VEVENT
BEGIN:VEVENT
DTSTART;TZID=Europe/Madrid:20260109T203000
DTEND;TZID=Europe/Madrid:20260109T220000
DTSTAMP:20260419T230321
CREATED:20251222T140718Z
LAST-MODIFIED:20251222T140718Z
UID:26791-1767990600-1767996000@www.carnavaldecadiz.com
SUMMARY:Ensayos Generales en la 'Peña Hombres del campo'
DESCRIPTION:Actuarán los siguientes grupos: \n\nCuarteto Infantil – ‘TE LO CUENTO DEL REVÉS’ – ver ficha\nCoro Infantil – ‘LA PERLA DE CÁDIZ’ – ver ficha\n\nEvento público de libre acceso. \n  \n 
URL:https://www.carnavaldecadiz.com/event/ensayos-generales-en-la-pena-hombres-del-campo-2/
LOCATION:Peña Hombres del Campo\, Chiclana\, calle Iro 49\, Chiclana de la Frontera\, Cádiz\, 11130\, Spain
CATEGORIES:actuaciones de carnaval
END:VEVENT
BEGIN:VEVENT
DTSTART;TZID=Europe/Madrid:20260109T203000
DTEND;TZID=Europe/Madrid:20260109T220000
DTSTAMP:20260419T230321
CREATED:20260106T215747Z
LAST-MODIFIED:20260106T215747Z
UID:27062-1767990600-1767996000@www.carnavaldecadiz.com
SUMMARY:'EL RAMPER' de Jasús Bienvenido en Alcalá de Guadaira
DESCRIPTION:Compra en línea de LOCALIDADES
URL:https://www.carnavaldecadiz.com/event/el-ramper-de-jasus-bienvenido-en-alcala-de-guadaira/
LOCATION:Teatro Gutierrez de Alba\, calle Nuestra Señora del Águila 49\, Alcalá de Guadaira\, Sevilla\, 41500\, España
CATEGORIES:actuaciones de carnaval
END:VEVENT
BEGIN:VEVENT
DTSTART;TZID=Europe/Madrid:20260109T213000
DTEND;TZID=Europe/Madrid:20260109T223000
DTSTAMP:20260419T230321
CREATED:20251222T133925Z
LAST-MODIFIED:20251222T133925Z
UID:26781-1767994200-1767997800@www.carnavaldecadiz.com
SUMMARY:Ensayo General de 'TU CARA ME SUENA'
DESCRIPTION:Para saber más de la Chirigota ‘TU CARA ME SUENA’ \nEvento público de libre acceso.
URL:https://www.carnavaldecadiz.com/event/ensayo-general-de-tu-cara-me-suena/
LOCATION:Peña Nuestra Andalucía\, Cádiz\, calle María Arteaga 25\, Cádiz\, Cádiz\, 11002\, España
CATEGORIES:actuaciones de carnaval
ATTACH;FMTTYPE=image/jpeg:https://www.carnavaldecadiz.com/wp-content/uploads/2025/12/0109Nuestra-Andalucia.jpg
END:VEVENT
BEGIN:VEVENT
DTSTART;TZID=Europe/Madrid:20260110T120000
DTEND;TZID=Europe/Madrid:20260110T133000
DTSTAMP:20260419T230321
CREATED:20260104T223345Z
LAST-MODIFIED:20260104T223345Z
UID:26992-1768046400-1768051800@www.carnavaldecadiz.com
SUMMARY:Ensayo General de 'LOS QUE LUCHAN POR SU SUEÑO...'
DESCRIPTION:Para saber más de la chirigota ‘LOS QUE LUCHAN POR UN SUEÑO (LOS NARCOLéPTICOS)’ – ver ficha \nEvento público de libre acceso.
URL:https://www.carnavaldecadiz.com/event/ensayo-general-de-los-que-luchan-por-su-sueno/
LOCATION:Macaco Café y Copas\, calle Jorge Manrique\, 19\, San José de la Rinconada\, Sevilla\, 41300\, Spain
CATEGORIES:actuaciones de carnaval
END:VEVENT
BEGIN:VEVENT
DTSTART;TZID=Europe/Madrid:20260110T120000
DTEND;TZID=Europe/Madrid:20260110T133000
DTSTAMP:20260419T230321
CREATED:20260109T165534Z
LAST-MODIFIED:20260109T165534Z
UID:27119-1768046400-1768051800@www.carnavaldecadiz.com
SUMMARY:Ensayo General del Coro 'TU MURALLA'
DESCRIPTION:Para saber más del coro ‘TU MURALLA’ – ver ficha \nEvento público de libre acceso
URL:https://www.carnavaldecadiz.com/event/ensayo-general-del-coro-tu-muralla/
LOCATION:Colegio Claret\, Sevilla\, Avenida Padre García Tejero 8\, Sevilla\, Sevilla\, 41012\, Spain
CATEGORIES:actuaciones de carnaval
END:VEVENT
BEGIN:VEVENT
DTSTART;TZID=Europe/Madrid:20260110T130000
DTEND;TZID=Europe/Madrid:20260110T143000
DTSTAMP:20260419T230321
CREATED:20251223T213903Z
LAST-MODIFIED:20260104T230250Z
UID:26847-1768050000-1768055400@www.carnavaldecadiz.com
SUMMARY:Ensayos Generals de 'LAS TARADAS' y 'Cariño... ¡VAYA AMBIENTAZO!'
DESCRIPTION:Actuarán las siguientes agrupaciones: \n\nComparsa ‘LAS TARADAS’- ver ficha\nChirigota infantil ‘LA RESISTENCIA’\nChirigota ‘¿NO SON PA MATARLOS?’\nChirigota ‘CARIÑO… ¡VAYA AMBIENTAZO!’ – ver ficha\n\nComida y bebida a precios populares. \nEvento público de libre acceso.
URL:https://www.carnavaldecadiz.com/event/ensayo-general-de-las-taradas/
LOCATION:Calle Arquitectura 129\, San José de la Rinconada\, calle Arquitectura\, 129. Pol´´igono 'El cáñamo III'\, San José de la Rinconada\, Sevilla\, 41591\, Spain
CATEGORIES:actuaciones de carnaval
END:VEVENT
BEGIN:VEVENT
DTSTART;TZID=Europe/Madrid:20260110T130000
DTEND;TZID=Europe/Madrid:20260110T143000
DTSTAMP:20260419T230321
CREATED:20260106T205530Z
LAST-MODIFIED:20260106T205530Z
UID:27051-1768050000-1768055400@www.carnavaldecadiz.com
SUMMARY:Ensayo General de 'LAS JOROBADAS'
DESCRIPTION:Debido al aforo reducido es necesario pedir invitación a comparsagirls
URL:https://www.carnavaldecadiz.com/event/ensayo-general-de-las-jorobadas/
LOCATION:Asociación del Carnaval de Carmona\, calle María de la O Lejárraga\, Carmona\, Sevilla\, 41410\, Spain
CATEGORIES:actuaciones de carnaval
END:VEVENT
BEGIN:VEVENT
DTSTART;TZID=Europe/Madrid:20260110T130000
DTEND;TZID=Europe/Madrid:20260110T170000
DTSTAMP:20260419T230321
CREATED:20251223T212455Z
LAST-MODIFIED:20251223T212455Z
UID:26843-1768050000-1768064400@www.carnavaldecadiz.com
SUMMARY:Ensayo General de la Chirigota 'Mírala cara a cara'
DESCRIPTION:Para saber más de la chirigota ‘MÍRALA CARA A CARA’ \nEvento público de libre acceso.
URL:https://www.carnavaldecadiz.com/event/ensayo-general-de-la-chirigota-mirala-cara-a-cara/
LOCATION:Calle Vía Verde de Itálica\, Santiponce\, calle Vía Verde de Itálica s/n\, Santiponce\, Sevilla\, 41970\, Spain
CATEGORIES:actuaciones de carnaval
END:VEVENT
BEGIN:VEVENT
DTSTART;TZID=Europe/Madrid:20260110T140000
DTEND;TZID=Europe/Madrid:20260110T150000
DTSTAMP:20260419T230321
CREATED:20260109T163630Z
LAST-MODIFIED:20260109T163630Z
UID:27116-1768053600-1768057200@www.carnavaldecadiz.com
SUMMARY:Ensayo General de la Chirigota Infantil 'EL TÍO DE LA TIZA SE ACTUALIZA'
DESCRIPTION:Para saber más de la Chirigota Infantil ‘EL TÍO DE LA TIZA SE ACTUALIZA’ – ver ficha \nEvento público de libre acceso
URL:https://www.carnavaldecadiz.com/event/ensayo-general-de-la-chirigota-infantil-el-tio-de-la-tiza-se-actualiza/
LOCATION:Bar Nueva Tienda Enmedio\, Sanlucar.\, Plaza Puerta de Jerez\, s/n\, Sanlucar de Barrameda\, Cádiz\, 11540\, Spain
CATEGORIES:actuaciones de carnaval
END:VEVENT
BEGIN:VEVENT
DTSTART;TZID=Europe/Madrid:20260110T140000
DTEND;TZID=Europe/Madrid:20260110T153000
DTSTAMP:20260419T230321
CREATED:20260104T224515Z
LAST-MODIFIED:20260104T224515Z
UID:26996-1768053600-1768059000@www.carnavaldecadiz.com
SUMMARY:Ensayo General de la chirigota 'LA PURGA: LOS QUE NO PASAN'
DESCRIPTION:Para saber más de la chirigota ‘LA PURGA: LOS QUE NO PASAN’ – ver ficha \nEvento público de libre acceso.
URL:https://www.carnavaldecadiz.com/event/ensayo-general-de-la-chirigota-la-purga-los-que-no-pasan/
LOCATION:AAVV Las Virtudes-Conil\, calle Dos Hermanas 2A\, Conil de la Frontera\, Cádiz\, 11140\, España
CATEGORIES:actuaciones de carnaval
END:VEVENT
BEGIN:VEVENT
DTSTART;TZID=Europe/Madrid:20260110T163000
DTEND;TZID=Europe/Madrid:20260110T180000
DTSTAMP:20260419T230321
CREATED:20260107T223945Z
LAST-MODIFIED:20260107T223945Z
UID:27090-1768062600-1768068000@www.carnavaldecadiz.com
SUMMARY:Ensayo General de 'LAS PASAJERAS'
DESCRIPTION:Para saber más de la comparsa ‘LAS PASAJERAS’ – ver ficha \nEvento público de libre acceso.
URL:https://www.carnavaldecadiz.com/event/ensayo-general-de-las-pasajeras/
LOCATION:Restaurante EL TORO EMBOLAO\, Los Barrios\, Paza de Toros s/n\, Los Barrios\, Cádiz\, 11370\, España
CATEGORIES:actuaciones de carnaval
END:VEVENT
BEGIN:VEVENT
DTSTART;TZID=Europe/Madrid:20260110T200000
DTEND;TZID=Europe/Madrid:20260110T213000
DTSTAMP:20260419T230321
CREATED:20251223T211515Z
LAST-MODIFIED:20251223T211515Z
UID:26840-1768075200-1768080600@www.carnavaldecadiz.com
SUMMARY:Actuación de 'PA PIRATAS NOSOTROS'
DESCRIPTION:Reservas 618639152
URL:https://www.carnavaldecadiz.com/event/actuacion-de-pa-piratas-nosotros-4/
LOCATION:Peña Colorete\, Almodovar del Río\, calle Federico García Lorca\, 5\, Almodovar del Río\, Córdoba\, 14720\, Spain
CATEGORIES:actuaciones de carnaval
END:VEVENT
BEGIN:VEVENT
DTSTART;TZID=Europe/Madrid:20260110T200000
DTEND;TZID=Europe/Madrid:20260110T233000
DTSTAMP:20260419T230321
CREATED:20260106T203930Z
LAST-MODIFIED:20260106T203930Z
UID:27048-1768075200-1768087800@www.carnavaldecadiz.com
SUMMARY:XXXIII Pestiñada Popular
DESCRIPTION:Es el primer evento gastronómico que marca el pistoletazo de salida de las actividades callejeras vinculadas al carnaval. \nActuarán: \n\nZambomba Gaditana – Suena navidad\nPaté de Gabacho – mini coro\nAntología – Los cleriguillos\nAntología – Desde la frontera\nAntología – Cádiz de mil colores\n\nDurante las actuaciones se repartirán raciones de pestiños y copitas de anís. \nEvento público de libre acceso
URL:https://www.carnavaldecadiz.com/event/xxxiii-pestinada-popular/
LOCATION:Plaza Fragela\, Cádiz\, Plaza Fragela\, Cádiz\, Cádiz\, 11003\, España
CATEGORIES:actuaciones de carnaval
END:VEVENT
BEGIN:VEVENT
DTSTART;TZID=Europe/Madrid:20260110T200000
DTEND;TZID=Europe/Madrid:20260110T233000
DTSTAMP:20260419T230321
CREATED:20260107T224543Z
LAST-MODIFIED:20260107T224543Z
UID:27093-1768075200-1768087800@www.carnavaldecadiz.com
SUMMARY:I Camaronada Popular
DESCRIPTION:Degustación gratuita de camarones\, contará con la actuación del dúo de carnaval formado por Yoli Álvarez y José Cheza.
URL:https://www.carnavaldecadiz.com/event/i-camaronada-popular/
LOCATION:Taberna Gadeiras\, San Fernando\, calle Hermanos Laulhe\, 16\, San Fernando\, Cádiz\, 11100\, Spain
CATEGORIES:actuaciones de carnaval,evento gastronómico
END:VEVENT
BEGIN:VEVENT
DTSTART;TZID=Europe/Madrid:20260110T203000
DTEND;TZID=Europe/Madrid:20260110T220000
DTSTAMP:20260419T230321
CREATED:20251222T141119Z
LAST-MODIFIED:20251222T141119Z
UID:26794-1768077000-1768082400@www.carnavaldecadiz.com
SUMMARY:Ensayos Generales en la 'Peña Hombres del campo'
DESCRIPTION:Actuarán los siguientes grupos: \n\nChirigota Infantil – LAS PELOTERAS – ver ficha\nChirigota – LAS HINCHAPELOTERAS – ver ficha\n\nEvento público de libre acceso. \n 
URL:https://www.carnavaldecadiz.com/event/ensayos-generales-en-la-pena-hombres-del-campo-3/
LOCATION:Peña Hombres del Campo\, Chiclana\, calle Iro 49\, Chiclana de la Frontera\, Cádiz\, 11130\, Spain
CATEGORIES:actuaciones de carnaval
END:VEVENT
BEGIN:VEVENT
DTSTART;TZID=Europe/Madrid:20260110T220000
DTEND;TZID=Europe/Madrid:20260110T233000
DTSTAMP:20260419T230321
CREATED:20260106T221120Z
LAST-MODIFIED:20260106T221120Z
UID:27069-1768082400-1768087800@www.carnavaldecadiz.com
SUMMARY:Carnaval en Caño 18
DESCRIPTION:Actuará el trío de carnaval formado por: \nRamoni\, Kevin Ponce y Juanin Gamaza. \nReservas 658933689
URL:https://www.carnavaldecadiz.com/event/carnaval-en-cano-18-30/
LOCATION:Caño 18 Gastrobar\, calle San Juan Bautista\, local 7\, San Fernando\, Cádiz\, 11100
CATEGORIES:actuaciones de carnaval
END:VEVENT
BEGIN:VEVENT
DTSTART;TZID=Europe/Madrid:20260110T220000
DTEND;TZID=Europe/Madrid:20260110T233000
DTSTAMP:20260419T230321
CREATED:20260107T231507Z
LAST-MODIFIED:20260107T231507Z
UID:27104-1768082400-1768087800@www.carnavaldecadiz.com
SUMMARY:Ensayo General de 'LOS TRAPOS SUCIOS'
DESCRIPTION:Para saber más de la comparsa ‘LOS TRAPOS SUCIOS’ – ver ficha \nEvento público de libre acceso
URL:https://www.carnavaldecadiz.com/event/ensayo-general-de-los-trapos-sucios/
LOCATION:Amazonas Tropical Club\, Paseo Playa Getares Peatonal\, Algeciras\, Cádiz\, 11207\, España
CATEGORIES:actuaciones de carnaval
END:VEVENT
BEGIN:VEVENT
DTSTART;TZID=Europe/Madrid:20260111T123000
DTEND;TZID=Europe/Madrid:20260111T143000
DTSTAMP:20260419T230321
CREATED:20251222T141814Z
LAST-MODIFIED:20251222T141814Z
UID:26796-1768134600-1768141800@www.carnavaldecadiz.com
SUMMARY:Ensayos Generales en la 'Peña Hombres del campo'
DESCRIPTION:Actuarán las siguientes agrupaciones: \n\nComparsa Infantil – LAS TRAVIESAS – ver ficha\nChirigota Infantil – LA CHIRIGOTA DE LA ISLA – ver ficha\n\nEvento público de libre acceso.
URL:https://www.carnavaldecadiz.com/event/ensayos-generales-en-la-pena-hombres-del-campo-4/
LOCATION:Peña Hombres del Campo\, Chiclana\, calle Iro 49\, Chiclana de la Frontera\, Cádiz\, 11130\, Spain
CATEGORIES:actuaciones de carnaval
END:VEVENT
BEGIN:VEVENT
DTSTART;TZID=Europe/Madrid:20260111T160000
DTEND;TZID=Europe/Madrid:20260111T170000
DTSTAMP:20260419T230321
CREATED:20260104T233758Z
LAST-MODIFIED:20260104T233758Z
UID:27002-1768147200-1768150800@www.carnavaldecadiz.com
SUMMARY:Paco Pellejo en Puerto Real
DESCRIPTION:Evento público de libre acceso.
URL:https://www.carnavaldecadiz.com/event/paco-pellejo-en-puerto-real-3/
LOCATION:Bar El cobijo\, Puerto Real\, calle La Victoria\, 2F\, Puerto Real\, Cádiz\, 11510\, Spain
CATEGORIES:actuaciones de carnaval
END:VEVENT
BEGIN:VEVENT
DTSTART;TZID=Europe/Madrid:20260111T200000
DTEND;TZID=Europe/Madrid:20260111T233000
DTSTAMP:20260419T230321
CREATED:20251105T170610Z
LAST-MODIFIED:20251108T221141Z
UID:25860-1768161600-1768174200@www.carnavaldecadiz.com
SUMMARY:COAC 2026. 1ª Sesión de Preliminares
DESCRIPTION:Orden de actuación:\n\nCoro – AL LÍO – Ficha\nComparsa – LA PALABRA DE CÁDIZ – Ficha\nChirigota – LOS HOMBRES DE PACO – Ficha\nComparsa – EL DESGUACE – Ficha\nChirigota – LOS SEMICURAOS – Ficha\nComparsa – LOS ARTIFICIALES – Ficha\nChirigota – OMÁ\, NO ME ESPERES PA ALMORZAR – Ficha\n\nEn negrita cabeza de serie \nVer listado de AGRUPACIONES \nVer listado de AGRUPACIONES CALLEJERAS
URL:https://www.carnavaldecadiz.com/event/coac-2026-1a-sesion-de-preliminares/
LOCATION:Gran Teatro Falla\, Plaza Fragela s/n\, Cádiz\, Cádiz\, 11003\, España
CATEGORIES:actuaciones de carnaval,COAC
ATTACH;FMTTYPE=image/jpeg:https://www.carnavaldecadiz.com/wp-content/uploads/2023/11/LOGO-COAC.jpg
END:VEVENT
BEGIN:VEVENT
DTSTART;TZID=Europe/Madrid:20260112T200000
DTEND;TZID=Europe/Madrid:20260112T233000
DTSTAMP:20260419T230321
CREATED:20251105T171059Z
LAST-MODIFIED:20251108T221944Z
UID:25862-1768248000-1768260600@www.carnavaldecadiz.com
SUMMARY:COAC 2026. 2ª Sesión de Preliminares
DESCRIPTION:Orden de actuación:\n\nCoro – EL SINDICATO – Ficha\nChirigota – LOS AHUMAOS – Ficha\nComparsa – LAS LOBAS – Ficha\nCuarteto – EL DESPERTAR DE LA FUERZA. ABRE EL OJETE – Ficha\nChirigota – LOS CAMERÚN DE LA ISLA – Ficha\nComparsa – LA CIUDAD PROHIBIDA – Ficha\nChirigota – TO PA MÍ – Ficha\n\nEn negrita cabeza de serie \nVer listado de AGRUPACIONES \nVer listado de AGRUPACIONES CALLEJERAS
URL:https://www.carnavaldecadiz.com/event/coac-2026-2a-sesion-de-preliminares/
LOCATION:Gran Teatro Falla\, Plaza Fragela s/n\, Cádiz\, Cádiz\, 11003\, España
CATEGORIES:actuaciones de carnaval,COAC
ATTACH;FMTTYPE=image/jpeg:https://www.carnavaldecadiz.com/wp-content/uploads/2023/11/LOGO-COAC.jpg
END:VEVENT
BEGIN:VEVENT
DTSTART;TZID=Europe/Madrid:20260113T200000
DTEND;TZID=Europe/Madrid:20260113T233000
DTSTAMP:20260419T230321
CREATED:20251105T171436Z
LAST-MODIFIED:20251108T223317Z
UID:25864-1768334400-1768347000@www.carnavaldecadiz.com
SUMMARY:COAC 2026. 3ª Sesión de Preliminares
DESCRIPTION:Orden de actuación:\n\nCoro – DAME VENENO – Ficha\nComparsa – LOS DEL ESCONDITE – Ficha\nChirigota – NOS HEMOS VENIO ARRIBA – Ficha\nComparsa – LOS QUE ESCRIBEN EN LA ARENA – Ficha\nChirigota – SEGUIMOS CAYENDO MAL – Ficha\nComparsa – CON LA PRIMERA RISA – Ficha\nChirigota – YO CON ESTO NO PUEDO – Ficha\nComparsa – LA MODA DE CÁDIZ – Ficha\n\nEn negrita cabeza de serie \nVer listado de AGRUPACIONES \nVer listado de AGRUPACIONES CALLEJERAS
URL:https://www.carnavaldecadiz.com/event/coac-2026-3a-sesion-de-preliminares/
LOCATION:Gran Teatro Falla\, Plaza Fragela s/n\, Cádiz\, Cádiz\, 11003\, España
CATEGORIES:actuaciones de carnaval,COAC
ATTACH;FMTTYPE=image/jpeg:https://www.carnavaldecadiz.com/wp-content/uploads/2023/11/LOGO-COAC.jpg
END:VEVENT
END:VCALENDAR