BEGIN:VCALENDAR
VERSION:2.0
PRODID:-//Carnaval de C&aacute;diz - ECPv6.15.20//NONSGML v1.0//EN
CALSCALE:GREGORIAN
METHOD:PUBLISH
X-WR-CALNAME:Carnaval de C&aacute;diz
X-ORIGINAL-URL:https://www.carnavaldecadiz.com
X-WR-CALDESC:Eventos para Carnaval de C&aacute;diz
REFRESH-INTERVAL;VALUE=DURATION:PT1H
X-Robots-Tag:noindex
X-PUBLISHED-TTL:PT1H
BEGIN:VTIMEZONE
TZID:Europe/Madrid
BEGIN:DAYLIGHT
TZOFFSETFROM:+0100
TZOFFSETTO:+0200
TZNAME:CEST
DTSTART:20240331T010000
END:DAYLIGHT
BEGIN:STANDARD
TZOFFSETFROM:+0200
TZOFFSETTO:+0100
TZNAME:CET
DTSTART:20241027T010000
END:STANDARD
BEGIN:DAYLIGHT
TZOFFSETFROM:+0100
TZOFFSETTO:+0200
TZNAME:CEST
DTSTART:20250330T010000
END:DAYLIGHT
BEGIN:STANDARD
TZOFFSETFROM:+0200
TZOFFSETTO:+0100
TZNAME:CET
DTSTART:20251026T010000
END:STANDARD
BEGIN:DAYLIGHT
TZOFFSETFROM:+0100
TZOFFSETTO:+0200
TZNAME:CEST
DTSTART:20260329T010000
END:DAYLIGHT
BEGIN:STANDARD
TZOFFSETFROM:+0200
TZOFFSETTO:+0100
TZNAME:CET
DTSTART:20261025T010000
END:STANDARD
END:VTIMEZONE
BEGIN:VEVENT
DTSTART;TZID=Europe/Madrid:20251204T200000
DTEND;TZID=Europe/Madrid:20251204T210000
DTSTAMP:20260420T004314
CREATED:20251125T122525Z
LAST-MODIFIED:20251125T122525Z
UID:26434-1764878400-1764882000@www.carnavaldecadiz.com
SUMMARY:Actuación de la Antología de 'Los Majaras'
DESCRIPTION:Como es tradicional la Antología de ‘Los Majaras’  interpretará el pasodoble de la comparsa ‘Raza Mora’ dedicada a la muerte de Manuel Caparrós. \nEvento público de libre acceso.
URL:https://www.carnavaldecadiz.com/event/actuacion-de-la-antologia-de-los-majaras-3/
LOCATION:Plaza Juan Gavala\, El Puerto de Santa María\, Plaza Juan Gavala\, El Puerto de Santa María\, Cádiz\, 11500\, Spain
CATEGORIES:actuaciones de carnaval
END:VEVENT
BEGIN:VEVENT
DTSTART;TZID=Europe/Madrid:20251205T210000
DTEND;TZID=Europe/Madrid:20251205T233000
DTSTAMP:20260420T004314
CREATED:20251125T123022Z
LAST-MODIFIED:20251125T123022Z
UID:26437-1764968400-1764977400@www.carnavaldecadiz.com
SUMMARY:Adrián López 'Waxi' en el Pay-pay
DESCRIPTION:Compra y reserva de localidades en Café Teatro Pay-pay
URL:https://www.carnavaldecadiz.com/event/adrian-lopez-waxi-en-el-pay-pay-4/
LOCATION:Café Tatro Pay Pay\, C/ Silencio\, Cádiz\, Cádiz\, 11002
CATEGORIES:actuaciones de carnaval
END:VEVENT
BEGIN:VEVENT
DTSTART;TZID=Europe/Madrid:20251206T160000
DTEND;TZID=Europe/Madrid:20251206T170000
DTSTAMP:20260420T004314
CREATED:20251125T124140Z
LAST-MODIFIED:20251125T124140Z
UID:26444-1765036800-1765040400@www.carnavaldecadiz.com
SUMMARY:Antología de 'Pedro Majara' en Caño 18
DESCRIPTION:Menú 35€ \nReservas 658933689
URL:https://www.carnavaldecadiz.com/event/antologia-de-pedro-majara-en-cano-18/
LOCATION:Caño 18 Gastrobar\, calle San Juan Bautista\, local 7\, San Fernando\, Cádiz\, 11100
CATEGORIES:actuaciones de carnaval
END:VEVENT
BEGIN:VEVENT
DTSTART;TZID=Europe/Madrid:20251206T200000
DTEND;TZID=Europe/Madrid:20251206T213000
DTSTAMP:20260420T004314
CREATED:20251125T123754Z
LAST-MODIFIED:20251125T123754Z
UID:26440-1765051200-1765056600@www.carnavaldecadiz.com
SUMMARY:Milian Oneto\, Alicia Trinidad y Dani Bommati en la Peña Colorete
DESCRIPTION:Donativo 15 € \nReservas 618639152
URL:https://www.carnavaldecadiz.com/event/milian-oneto-alicia-trinidad-y-dani-bommati-en-la-pena-colorete/
LOCATION:Peña Colorete\, Almodovar del Río\, calle Federico García Lorca\, 5\, Almodovar del Río\, Córdoba\, 14720\, Spain
CATEGORIES:actuaciones de carnaval
END:VEVENT
BEGIN:VEVENT
DTSTART;TZID=Europe/Madrid:20251206T210000
DTEND;TZID=Europe/Madrid:20251206T233000
DTSTAMP:20260420T004314
CREATED:20251125T125126Z
LAST-MODIFIED:20251125T125126Z
UID:26450-1765054800-1765063800@www.carnavaldecadiz.com
SUMMARY:Javier y Carmen Tizón\, con Juan Blanco y Manolín Santander en el Pay-pay
DESCRIPTION:Compra y reserva de localidades en Café Teatro Pay-pay
URL:https://www.carnavaldecadiz.com/event/javier-y-carmen-tizon-con-juan-blanco-y-manolin-santander-en-el-pay-pay/
LOCATION:Café Tatro Pay Pay\, C/ Silencio\, Cádiz\, Cádiz\, 11002
CATEGORIES:actuaciones de carnaval
END:VEVENT
BEGIN:VEVENT
DTSTART;TZID=Europe/Madrid:20251206T213000
DTEND;TZID=Europe/Madrid:20251206T233000
DTSTAMP:20260420T004314
CREATED:20251125T130126Z
LAST-MODIFIED:20251125T130126Z
UID:26453-1765056600-1765063800@www.carnavaldecadiz.com
SUMMARY:'El entierro del Foam' Última actuación de la Chirigota del Canijo
DESCRIPTION:A la espera de recibir más información del evento.
URL:https://www.carnavaldecadiz.com/event/el-entierro-del-foam-ultima-actuacion-de-la-chirigota-del-canijo/
LOCATION:Colegio Salesianos\, Cádiz\, Avenida María Auxiliadora 7\, Cádiz\, Cádiz\, 11009\, España
CATEGORIES:actuaciones de carnaval
END:VEVENT
BEGIN:VEVENT
DTSTART;TZID=Europe/Madrid:20251207T210000
DTEND;TZID=Europe/Madrid:20251207T230000
DTSTAMP:20260420T004315
CREATED:20251126T174626Z
LAST-MODIFIED:20251126T174626Z
UID:26485-1765141200-1765148400@www.carnavaldecadiz.com
SUMMARY:Actuación de la Comparsa de la Cantera a beneficio de 'PARKINSON CÁDIZ'
DESCRIPTION:Reservas 650091723
URL:https://www.carnavaldecadiz.com/event/actuacion-de-la-comparsa-de-la-cantera-a-beneficio-de-parkinson-cadiz/
LOCATION:Peña La Perla\, calle Concepción Arenal s/n\, Cádiz\, Cádiz\, 11006\, España
CATEGORIES:actuaciones de carnaval
END:VEVENT
BEGIN:VEVENT
DTSTART;TZID=Europe/Madrid:20251212T210000
DTEND;TZID=Europe/Madrid:20251212T230000
DTSTAMP:20260420T004315
CREATED:20251125T130552Z
LAST-MODIFIED:20251125T130552Z
UID:26456-1765573200-1765580400@www.carnavaldecadiz.com
SUMMARY:Última actuación de 'LAS RATAS'
DESCRIPTION:Compra en línea de LOCALIDADES
URL:https://www.carnavaldecadiz.com/event/ultima-actuacion-de-las-ratas/
LOCATION:Auditorio Esclavas\, Cádiz\, Avenida Andalucía\, 50\, Cádiz\, Cádiz\, Spain
CATEGORIES:actuaciones de carnaval
END:VEVENT
BEGIN:VEVENT
DTSTART;TZID=Europe/Madrid:20251212T210000
DTEND;TZID=Europe/Madrid:20251212T233000
DTSTAMP:20260420T004315
CREATED:20251208T184722Z
LAST-MODIFIED:20251208T184722Z
UID:26666-1765573200-1765582200@www.carnavaldecadiz.com
SUMMARY:Una noche mágica en el Pay-pay
DESCRIPTION:Actuarán: \n\nJosé y Javi Otero\nKike Jiménez\nChicho de Cádiz\nMario del Valle\n\nCompra y reserva de localidades en Café Teatro Pay-pay
URL:https://www.carnavaldecadiz.com/event/una-noche-magica-en-el-pay-pay/
LOCATION:Café Tatro Pay Pay\, C/ Silencio\, Cádiz\, Cádiz\, 11002
CATEGORIES:actuaciones de carnaval
END:VEVENT
BEGIN:VEVENT
DTSTART;TZID=Europe/Madrid:20251213T210000
DTEND;TZID=Europe/Madrid:20251213T223000
DTSTAMP:20260420T004315
CREATED:20251208T185150Z
LAST-MODIFIED:20251208T185150Z
UID:26669-1765659600-1765665000@www.carnavaldecadiz.com
SUMMARY:Yoli Álvarez y José Cheza en Cuatro Gatos
DESCRIPTION:
URL:https://www.carnavaldecadiz.com/event/yoli-alvarez-y-jose-cheza-en-cuatro-gatos/
LOCATION:Cuatro Gatos\, Sevilla\, calle Madre Dolores Marquez 11\, Sevilla\, Sevilla\, 41003\, España
CATEGORIES:actuaciones de carnaval
END:VEVENT
BEGIN:VEVENT
DTSTART;TZID=Europe/Madrid:20251213T210000
DTEND;TZID=Europe/Madrid:20251213T233000
DTSTAMP:20260420T004315
CREATED:20251208T185636Z
LAST-MODIFIED:20251208T185636Z
UID:26672-1765659600-1765668600@www.carnavaldecadiz.com
SUMMARY:'La familia Pepperoni' +'Los cagones' en el Pay-pay
DESCRIPTION:Compra y reserva e localidades en el Café Teatro Pay-pay
URL:https://www.carnavaldecadiz.com/event/la-familia-pepperoni-los-cagones-en-el-pay-pay/
LOCATION:Café Tatro Pay Pay\, C/ Silencio\, Cádiz\, Cádiz\, 11002
CATEGORIES:actuaciones de carnaval
END:VEVENT
BEGIN:VEVENT
DTSTART;TZID=Europe/Madrid:20251219T210000
DTEND;TZID=Europe/Madrid:20251219T233000
DTSTAMP:20260420T004315
CREATED:20251208T191502Z
LAST-MODIFIED:20251208T191502Z
UID:26681-1766178000-1766187000@www.carnavaldecadiz.com
SUMMARY:Germán Rendón\, Ale de Huelva y Sergio Fernández en el Pay-pay
DESCRIPTION:
URL:https://www.carnavaldecadiz.com/event/german-rendon-ale-de-huelva-y-sergio-fernandez-en-el-pay-pay/
LOCATION:Café Tatro Pay Pay\, C/ Silencio\, Cádiz\, Cádiz\, 11002
CATEGORIES:actuaciones de carnaval
END:VEVENT
BEGIN:VEVENT
DTSTART;TZID=Europe/Madrid:20251220T203000
DTEND;TZID=Europe/Madrid:20251220T223000
DTSTAMP:20260420T004315
CREATED:20251208T192116Z
LAST-MODIFIED:20251208T192116Z
UID:26684-1766262600-1766269800@www.carnavaldecadiz.com
SUMMARY:XXXVIII Festival de Murgas y Chirigotas
DESCRIPTION:Chirigota invitada ‘LOS CALAITA’ \nDonativo 4€ a beneficio de la Asociación de Autismo ‘LA MANCHA’
URL:https://www.carnavaldecadiz.com/event/xxxviii-festival-de-murgas-y-chirigotas/
LOCATION:Teatro Emilio Gavira\, Alcazar de San Juan\, calle Lepanto 17\, Alcazar de San Juan\, Ciudad Real\, 13600\, Spain
CATEGORIES:actuaciones de carnaval
END:VEVENT
BEGIN:VEVENT
DTSTART;TZID=Europe/Madrid:20251223T190000
DTEND;TZID=Europe/Madrid:20251223T210000
DTSTAMP:20260420T004315
CREATED:20251220T220309Z
LAST-MODIFIED:20251220T220309Z
UID:26764-1766516400-1766523600@www.carnavaldecadiz.com
SUMMARY:Ensayo General 'ESTOS DIOSES ESTÁN COLGAOS'
DESCRIPTION:Ensayo general del cuarteto infantil ‘ESTOS DIOSES ESTÁN COLGAOS’ \nEvento público de libre acceso.
URL:https://www.carnavaldecadiz.com/event/ensayo-general-estos-dioses-estan-colgaos/
LOCATION:Casa de la Cultura\, Guillena\, Avenida Alcalde Justo Padilla Burgos\, 5\, Guillena\, Sevilla\, 41210\, Spain
CATEGORIES:actuaciones de carnaval
ATTACH;FMTTYPE=image/jpeg:https://www.carnavaldecadiz.com/wp-content/uploads/2025/12/1223Guillena.jpg
END:VEVENT
BEGIN:VEVENT
DTSTART;TZID=Europe/Madrid:20251226T210000
DTEND;TZID=Europe/Madrid:20251226T233000
DTSTAMP:20260420T004315
CREATED:20251208T192527Z
LAST-MODIFIED:20251208T192527Z
UID:26687-1766782800-1766791800@www.carnavaldecadiz.com
SUMMARY:Carlos Pérez y Amigos en el Pay-pay
DESCRIPTION:Compra y reserva de localidades en Café Teatro Pay-pay
URL:https://www.carnavaldecadiz.com/event/carlos-perez-y-amigos-en-el-pay-pay/
LOCATION:Café Tatro Pay Pay\, C/ Silencio\, Cádiz\, Cádiz\, 11002
CATEGORIES:actuaciones de carnaval
END:VEVENT
BEGIN:VEVENT
DTSTART;TZID=Europe/Madrid:20251227T170000
DTEND;TZID=Europe/Madrid:20251227T180000
DTSTAMP:20260420T004315
CREATED:20251220T221024Z
LAST-MODIFIED:20251220T221024Z
UID:26768-1766854800-1766858400@www.carnavaldecadiz.com
SUMMARY:Tardeo de Carnaval de Cádiz en Málaga
DESCRIPTION:Actuación del grupo de carnaval formado por: Piru\, Llull\, Tejada\, Paco y Baena. \nReservas por bizum 665947590
URL:https://www.carnavaldecadiz.com/event/tardeo-de-carnaval-de-cadiz-en-malaga/
LOCATION:Café La Oficina\, Vélez-Málaga\, Avenida Vivar Téllez 6\, Vélez-Málaga\, Málaga\, España
CATEGORIES:actuaciones de carnaval
END:VEVENT
END:VCALENDAR