BEGIN:VCALENDAR
VERSION:2.0
PRODID:-//Carnaval de C&aacute;diz - ECPv6.15.20//NONSGML v1.0//EN
CALSCALE:GREGORIAN
METHOD:PUBLISH
X-WR-CALNAME:Carnaval de C&aacute;diz
X-ORIGINAL-URL:https://www.carnavaldecadiz.com
X-WR-CALDESC:Eventos para Carnaval de C&aacute;diz
REFRESH-INTERVAL;VALUE=DURATION:PT1H
X-Robots-Tag:noindex
X-PUBLISHED-TTL:PT1H
BEGIN:VTIMEZONE
TZID:Europe/Madrid
BEGIN:DAYLIGHT
TZOFFSETFROM:+0100
TZOFFSETTO:+0200
TZNAME:CEST
DTSTART:20240331T010000
END:DAYLIGHT
BEGIN:STANDARD
TZOFFSETFROM:+0200
TZOFFSETTO:+0100
TZNAME:CET
DTSTART:20241027T010000
END:STANDARD
BEGIN:DAYLIGHT
TZOFFSETFROM:+0100
TZOFFSETTO:+0200
TZNAME:CEST
DTSTART:20250330T010000
END:DAYLIGHT
BEGIN:STANDARD
TZOFFSETFROM:+0200
TZOFFSETTO:+0100
TZNAME:CET
DTSTART:20251026T010000
END:STANDARD
BEGIN:DAYLIGHT
TZOFFSETFROM:+0100
TZOFFSETTO:+0200
TZNAME:CEST
DTSTART:20260329T010000
END:DAYLIGHT
BEGIN:STANDARD
TZOFFSETFROM:+0200
TZOFFSETTO:+0100
TZNAME:CET
DTSTART:20261025T010000
END:STANDARD
END:VTIMEZONE
BEGIN:VEVENT
DTSTART;TZID=Europe/Madrid:20251101T173000
DTEND;TZID=Europe/Madrid:20251101T190000
DTSTAMP:20260420T022306
CREATED:20251030T110728Z
LAST-MODIFIED:20251030T110728Z
UID:25548-1762018200-1762023600@www.carnavaldecadiz.com
SUMMARY:Antología de Antonio Martín en 'LA MONA'\, Conil
DESCRIPTION:Más información – 669283683
URL:https://www.carnavaldecadiz.com/event/antologia-de-antonio-martin-en-la-mona-conil/
LOCATION:La Mona Grill & Show\, Conil\, calle Torre de Roche\, Conil de la Frontera\, Cádiz\, 11140\, España
CATEGORIES:actuaciones de carnaval
END:VEVENT
BEGIN:VEVENT
DTSTART;TZID=Europe/Madrid:20251102T153000
DTEND;TZID=Europe/Madrid:20251102T163000
DTSTAMP:20260420T022306
CREATED:20251025T143959Z
LAST-MODIFIED:20251025T143959Z
UID:25457-1762097400-1762101000@www.carnavaldecadiz.com
SUMMARY:Carnaval en Caño 18
DESCRIPTION:Información u reservas 658933689
URL:https://www.carnavaldecadiz.com/event/carnaval-en-cano-18-27/
LOCATION:Caño 18 Gastrobar\, calle San Juan Bautista\, local 7\, San Fernando\, Cádiz\, 11100
CATEGORIES:actuaciones de carnaval
END:VEVENT
BEGIN:VEVENT
DTSTART;TZID=Europe/Madrid:20251107T210000
DTEND;TZID=Europe/Madrid:20251107T223000
DTSTAMP:20260420T022306
CREATED:20251027T120156Z
LAST-MODIFIED:20251027T120156Z
UID:25472-1762549200-1762554600@www.carnavaldecadiz.com
SUMMARY:Comprasa 'LAS RATAS' en Málaga
DESCRIPTION:Compra de LOCALIDADES
URL:https://www.carnavaldecadiz.com/event/comprasa-las-ratas-en-malaga/
LOCATION:Auditorio AM\, Málaga\, Avenida Sor Teresa Prat\, 51. Carretera de Cádiz\, Málaga\, Málaga\, 29003\, Spain
CATEGORIES:actuaciones de carnaval
END:VEVENT
BEGIN:VEVENT
DTSTART;TZID=Europe/Madrid:20251107T210000
DTEND;TZID=Europe/Madrid:20251107T230000
DTSTAMP:20260420T022306
CREATED:20251027T121408Z
LAST-MODIFIED:20251027T121408Z
UID:25475-1762549200-1762556400@www.carnavaldecadiz.com
SUMMARY:Encuentros de Carnaval en Sanlúcar
DESCRIPTION:Cata marinada contada y cantada… Entre copita y copla\, una historia del carnaval. \nCon 1d3milhistorias: Santiago Moreno y Francis Sevilla Pecci \nY Rafa Rodríguez de Bodegas del Río \nReservas – 648 159 950
URL:https://www.carnavaldecadiz.com/event/encuentros-de-carnaval-en-sanlucar/
LOCATION:Lxs astronautas\, Sanlúcar\, calle Pirrado 22\, Sanlúcar de Barrameda\, Cádiz\, 11540\, Spain
CATEGORIES:actuaciones de carnaval
END:VEVENT
BEGIN:VEVENT
DTSTART;TZID=Europe/Madrid:20251107T220000
DTEND;TZID=Europe/Madrid:20251107T233000
DTSTAMP:20260420T022306
CREATED:20251104T212459Z
LAST-MODIFIED:20251104T212459Z
UID:25823-1762552800-1762558200@www.carnavaldecadiz.com
SUMMARY:Carnaval de Cádiz en Falso Mito\, Conil.
DESCRIPTION:Reservas 669283683
URL:https://www.carnavaldecadiz.com/event/carnaval-de-cadiz-en-falso-mito-conil/
LOCATION:Falso Mito\, Conil\, calle Torre de Roche\, Conil de la Frontera\, Cádiz\, 11140\, España
CATEGORIES:actuaciones de carnaval
END:VEVENT
BEGIN:VEVENT
DTSTART;TZID=Europe/Madrid:20251108T130000
DTEND;TZID=Europe/Madrid:20251108T170000
DTSTAMP:20260420T022306
CREATED:20251016T150324Z
LAST-MODIFIED:20251016T150324Z
UID:25151-1762606800-1762621200@www.carnavaldecadiz.com
SUMMARY:'La mujer en el Carnaval' en Calañas
DESCRIPTION:Comida de convivencia\, café y dulces\, seguida de una charla-coloquio sobre el papel de la mujer en el Carnaval\, donde participarán y cantarán mujeres carnavaleras de Calañas\, Valverde del Camino y Cádiz; y como broche de oro… ¡una actuación estelar que no querrás perderte! \n\nPalmi Santander\nDébora Sánchez\nMarta Ríos\nManuel Cornejo\n\nEvento público de libre acceso
URL:https://www.carnavaldecadiz.com/event/la-mujer-en-el-carnaval-en-calanas/
LOCATION:Calañas\, Calañas\, Huelva\, 21300\, Spain
CATEGORIES:actuaciones de carnaval,mesa de debate,Mucho más que carnaval
END:VEVENT
BEGIN:VEVENT
DTSTART;TZID=Europe/Madrid:20251108T133000
DTEND;TZID=Europe/Madrid:20251108T150000
DTSTAMP:20260420T022306
CREATED:20251030T112539Z
LAST-MODIFIED:20251030T112539Z
UID:25551-1762608600-1762614000@www.carnavaldecadiz.com
SUMMARY:'UNA CHIRIGOTA CON SHONIKE3' en Ceuta
DESCRIPTION:Más información y reservas en Comparsa de Ceuta
URL:https://www.carnavaldecadiz.com/event/una-chirigota-con-shonike3-en-ceuta/
LOCATION:Local Social Juan XXIII\, Ceuta\, Grupo Juan XXIII\, Ceuta\, Ceuta\, 51002\, Spain
CATEGORIES:actuaciones de carnaval
END:VEVENT
BEGIN:VEVENT
DTSTART;TZID=Europe/Madrid:20251108T133000
DTEND;TZID=Europe/Madrid:20251108T170000
DTSTAMP:20260420T022306
CREATED:20251027T124158Z
LAST-MODIFIED:20251027T124158Z
UID:25482-1762608600-1762621200@www.carnavaldecadiz.com
SUMMARY:III Festival ALCARNAVAL
DESCRIPTION:Actuarán: \n\nComparsa LAS RATAS\nEl Show de Carlos Pérez y José Molina\nActuación del trío de carnaval compuesto por Yoli Álvarez\, Carmen Tizón y José Cheza.\n\nPrecio de las entradas: \n\nSocios – 15€\nCompra anticipada – 20€\nCompra en taquilla – 25€\n\nCompra de localidades por teléfono: \n675 158 000 / 671273855
URL:https://www.carnavaldecadiz.com/event/iii-festival-alcarnaval/
LOCATION:Alcaracejos\, Alcaracejos\, Córdoba\, 14480\, Spain
CATEGORIES:actuaciones de carnaval
END:VEVENT
BEGIN:VEVENT
DTSTART;TZID=Europe/Madrid:20251108T170000
DTEND;TZID=Europe/Madrid:20251108T180000
DTSTAMP:20260420T022306
CREATED:20251104T213042Z
LAST-MODIFIED:20251104T213042Z
UID:25826-1762621200-1762624800@www.carnavaldecadiz.com
SUMMARY:Antología 'LOS PIRIÑACAS' en
DESCRIPTION:Evento público de libre acceso.
URL:https://www.carnavaldecadiz.com/event/antologia-los-pirinacas-en/
LOCATION:La Laja\,Beach Club\, Chiclana\, Paseo Marítimo La Barrosa 5\, Chiclana de la Frontera\, Cádiz\, 11139\, Spain
CATEGORIES:actuaciones de carnaval
END:VEVENT
BEGIN:VEVENT
DTSTART;TZID=Europe/Madrid:20251108T200000
DTEND;TZID=Europe/Madrid:20251108T230000
DTSTAMP:20260420T022306
CREATED:20251027T125533Z
LAST-MODIFIED:20251027T125533Z
UID:25489-1762632000-1762642800@www.carnavaldecadiz.com
SUMMARY:Festival Nicolás Peña
DESCRIPTION:Actuarán: \n\nComparsa LOS CUERVOS\nComparsa – LOS DEL OTRO BARRIO\n\nCompra en línea de LOCALIDADES
URL:https://www.carnavaldecadiz.com/event/festival-nicolas-pena/
LOCATION:Teatro Cerezo de Carmona\, calle paseo del estatuto 30\, Carmona\, Sevilla\, 41410\, España
CATEGORIES:actuaciones de carnaval
END:VEVENT
BEGIN:VEVENT
DTSTART;TZID=Europe/Madrid:20251108T220000
DTEND;TZID=Europe/Madrid:20251108T230000
DTSTAMP:20260420T022306
CREATED:20251027T124503Z
LAST-MODIFIED:20251027T124503Z
UID:25486-1762639200-1762642800@www.carnavaldecadiz.com
SUMMARY:Paco 'Pellejo' en caño 18
DESCRIPTION:Reservas 658 933 689
URL:https://www.carnavaldecadiz.com/event/paco-pellejo-en-cano-18/
LOCATION:Caño 18 Gastrobar\, calle San Juan Bautista\, local 7\, San Fernando\, Cádiz\, 11100
CATEGORIES:actuaciones de carnaval
END:VEVENT
BEGIN:VEVENT
DTSTART;TZID=Europe/Madrid:20251108T220000
DTEND;TZID=Europe/Madrid:20251108T233000
DTSTAMP:20260420T022306
CREATED:20251104T214414Z
LAST-MODIFIED:20251104T214414Z
UID:25829-1762639200-1762644600@www.carnavaldecadiz.com
SUMMARY:Paco Pellejo en Caño 18
DESCRIPTION:Reservas 658933689
URL:https://www.carnavaldecadiz.com/event/paco-pellejo-en-cano-18-2/
LOCATION:Caño 18 Gastrobar\, calle San Juan Bautista\, local 7\, San Fernando\, Cádiz\, 11100
CATEGORIES:actuaciones de carnaval
END:VEVENT
BEGIN:VEVENT
DTSTART;TZID=Europe/Madrid:20251109T163000
DTEND;TZID=Europe/Madrid:20251109T173000
DTSTAMP:20260420T022306
CREATED:20251106T120836Z
LAST-MODIFIED:20251106T120836Z
UID:25902-1762705800-1762709400@www.carnavaldecadiz.com
SUMMARY:Antología 'POR Y PARA CÁDIZ' en La Gamberra
DESCRIPTION:Evento público de libre acceso.
URL:https://www.carnavaldecadiz.com/event/antologia-por-y-para-cadiz-en-la-gamberra/
LOCATION:La Gamberra\, Cádiz\, Glorieta Ana Orantes\, Cádiz\, Cádiz\, 11010\, Spain
CATEGORIES:actuaciones de carnaval
END:VEVENT
BEGIN:VEVENT
DTSTART;TZID=Europe/Madrid:20251109T180000
DTEND;TZID=Europe/Madrid:20251109T200000
DTSTAMP:20260420T022306
CREATED:20251030T113149Z
LAST-MODIFIED:20251030T113149Z
UID:25555-1762711200-1762718400@www.carnavaldecadiz.com
SUMMARY:Comparsa 'LAS RATAS' en Córdoba
DESCRIPTION:Compra en línea de LOCALIDADES
URL:https://www.carnavaldecadiz.com/event/comparsa-las-ratas-en-cordoba/
LOCATION:Teatro Brillante\, Córdoba\, Colegio La Salle\, carretera de las Hermitas\, Córdoba\, Córdoba\, 14012\, Spain
CATEGORIES:actuaciones de carnaval
END:VEVENT
BEGIN:VEVENT
DTSTART;TZID=Europe/Madrid:20251114T203000
DTEND;TZID=Europe/Madrid:20251114T233000
DTSTAMP:20260420T022306
CREATED:20251110T181703Z
LAST-MODIFIED:20251110T181703Z
UID:26024-1763152200-1763163000@www.carnavaldecadiz.com
SUMMARY:Noche de Callejeras en Cuatro Gatos\, Sevilla
DESCRIPTION:Actuarán las siguientes agrupaciones callejeras \nLos jorobados de Notre Cadi \nDesomeokupoyo \nLos niños de la cueva
URL:https://www.carnavaldecadiz.com/event/noche-de-callejeras-en-cuatro-gatos/
LOCATION:Cuatro Gatos\, Sevilla\, calle Madre Dolores Marquez 11\, Sevilla\, Sevilla\, 41003\, España
CATEGORIES:actuaciones de carnaval
END:VEVENT
BEGIN:VEVENT
DTSTART;TZID=Europe/Madrid:20251114T210000
DTEND;TZID=Europe/Madrid:20251114T230000
DTSTAMP:20260420T022306
CREATED:20251110T184810Z
LAST-MODIFIED:20251110T184810Z
UID:26028-1763154000-1763161200@www.carnavaldecadiz.com
SUMMARY:X Festival de Carnaval de Osuna
DESCRIPTION:El Teatro Municipal Álvarez Quintero de Osuna acogerá el X Festival de Carnaval de Osuna. donde se podrá disfrutar del espectáculo “El Rámper” de Jesús Bienvenido. \nSe trata de un espectáculo músico-teatral que rescata la memoria histórica a través de la figura de un payaso inspirado en los años veinte. Desde su mirada se narran las represiones sufridas por autores y murgas tras la Guerra Civil. La obra mezcla poesía\, música circense\, ritmos latinoamericanos y flamencos\, creando un viaje emotivo entre recuerdo y arte. Con una puesta en escena cuidada\, rinde homenaje a quienes hicieron del carnaval un acto de libertad. Es\, al mismo tiempo\, un canto de memoria\, resistencia y belleza. \nLas entradas están a la venta en la Casa de la Cultura\, la Oficina de Turismo\, el Teatro Álvarez Quintero o el siguiente enlace:\nhttps://osunacultura.sacatuentrada.es/
URL:https://www.carnavaldecadiz.com/event/x-festival-de-carnaval-de-osuna/
LOCATION:Teatro Álvarez Quintero\, Osuna\, calle Luis de Molina\, Osuna\, Sevilla\, 41640\, Spain
CATEGORIES:actuaciones de carnaval
END:VEVENT
BEGIN:VEVENT
DTSTART;TZID=Europe/Madrid:20251114T210000
DTEND;TZID=Europe/Madrid:20251114T233000
DTSTAMP:20260420T022306
CREATED:20251110T185239Z
LAST-MODIFIED:20251110T185239Z
UID:26032-1763154000-1763163000@www.carnavaldecadiz.com
SUMMARY:Estela Casado en el Pay-pay
DESCRIPTION:Reserva y compra de localidades en Café Teatro Pay-pay
URL:https://www.carnavaldecadiz.com/event/estela-casado-en-el-pay-pay/
LOCATION:Café Tatro Pay Pay\, C/ Silencio\, Cádiz\, Cádiz\, 11002
CATEGORIES:actuaciones de carnaval
END:VEVENT
BEGIN:VEVENT
DTSTART;TZID=Europe/Madrid:20251114T220000
DTEND;TZID=Europe/Madrid:20251114T233000
DTSTAMP:20260420T022306
CREATED:20251110T185555Z
LAST-MODIFIED:20251110T185555Z
UID:26035-1763157600-1763163000@www.carnavaldecadiz.com
SUMMARY:'PA PIRATAS NOSOTROS' en Tatachin de la Frontera
DESCRIPTION:Evento público de libre acceso.
URL:https://www.carnavaldecadiz.com/event/pa-piratas-nosotros-en-tatachin-de-la-frontera/
LOCATION:Peña Tatachin\, calle Cristo Humildad Paciencia 2D\, Chiclana de la Frontera\, Cádiz\, 11130\, España
CATEGORIES:actuaciones de carnaval
END:VEVENT
BEGIN:VEVENT
DTSTART;TZID=Europe/Madrid:20251115T180000
DTEND;TZID=Europe/Madrid:20251115T210000
DTSTAMP:20260420T022306
CREATED:20251110T192635Z
LAST-MODIFIED:20251110T192635Z
UID:26053-1763229600-1763240400@www.carnavaldecadiz.com
SUMMARY:Carnaval Callejero en TREZE\, Badajoz
DESCRIPTION:Actuarán las siguientes agrupaciones callejeras: \n\nLos jorobados de Notre Cadi\nDesomeokupoyo\nLos niños de la cueva\n\nCompra en línea de LOCALIDADES \n 
URL:https://www.carnavaldecadiz.com/event/carnaval-callejero-en-treze-badajoz/
LOCATION:Treze Music Club\, Badajoz\, Treze Music Club\, Badajoz\, Badajoz\, 06005\, España
CATEGORIES:actuaciones de carnaval
END:VEVENT
BEGIN:VEVENT
DTSTART;TZID=Europe/Madrid:20251115T200000
DTEND;TZID=Europe/Madrid:20251115T220000
DTSTAMP:20260420T022306
CREATED:20251110T191036Z
LAST-MODIFIED:20251110T191036Z
UID:26044-1763236800-1763244000@www.carnavaldecadiz.com
SUMMARY:parsa de Piru y Tomate en la Peña Mencantajere
DESCRIPTION:Información y reservas 609658255
URL:https://www.carnavaldecadiz.com/event/parsa-de-piru-y-tomate-en-la-pena-mencantajere/
LOCATION:Peña Mencantajeré\, calla falta 15\, Jerez de la Frontera\, Cádiz\, 11408\, España
CATEGORIES:actuaciones de carnaval
END:VEVENT
BEGIN:VEVENT
DTSTART;TZID=Europe/Madrid:20251115T210000
DTEND;TZID=Europe/Madrid:20251115T220000
DTSTAMP:20260420T022306
CREATED:20251110T211337Z
LAST-MODIFIED:20251110T211337Z
UID:26056-1763240400-1763244000@www.carnavaldecadiz.com
SUMMARY:Romancero 'CAMINA O REVIENTA' en La Sala La Quema\, Jerez
DESCRIPTION:Donativo 10€ \nReservas 676758188
URL:https://www.carnavaldecadiz.com/event/romancero-camina-o-revienta-en-la-sala-la-quema-jerez/
LOCATION:Sala ‘La Quemá’\, Jerez\, plaza Quemada 5\, Jerez de la Frontera\, Cádiz\, 11402\, Spain
CATEGORIES:actuaciones de carnaval
END:VEVENT
BEGIN:VEVENT
DTSTART;TZID=Europe/Madrid:20251115T210000
DTEND;TZID=Europe/Madrid:20251115T230000
DTSTAMP:20260420T022306
CREATED:20251110T191906Z
LAST-MODIFIED:20251110T191906Z
UID:26050-1763240400-1763247600@www.carnavaldecadiz.com
SUMMARY:Ramoni en Hotel Spa Cádiz Plaza
DESCRIPTION:
URL:https://www.carnavaldecadiz.com/event/ramoni-en-hotel-spa-cadiz-plaza/
LOCATION:Hotel Spa Cádiz Plaza\, Glorieta Ana Orantes 3\, Cádiz\, Cádiz\, 11010\, Spain
CATEGORIES:actuaciones de carnaval
END:VEVENT
BEGIN:VEVENT
DTSTART;TZID=Europe/Madrid:20251115T220000
DTEND;TZID=Europe/Madrid:20251115T233000
DTSTAMP:20260420T022306
CREATED:20251110T190005Z
LAST-MODIFIED:20251110T190005Z
UID:26038-1763244000-1763249400@www.carnavaldecadiz.com
SUMMARY:Carnaval en Caño 18
DESCRIPTION:Actuará el trío de carnaval formado por: \nAgustín Zoleta\, Toni Piojo y Manolo Otero \nReservas 658933689
URL:https://www.carnavaldecadiz.com/event/carnaval-en-cano-18-28/
LOCATION:Caño 18 Gastrobar\, calle San Juan Bautista\, local 7\, San Fernando\, Cádiz\, 11100
CATEGORIES:actuaciones de carnaval
END:VEVENT
BEGIN:VEVENT
DTSTART;TZID=Europe/Madrid:20251116T180000
DTEND;TZID=Europe/Madrid:20251116T200000
DTSTAMP:20260420T022306
CREATED:20251110T212643Z
LAST-MODIFIED:20251110T212643Z
UID:26062-1763316000-1763323200@www.carnavaldecadiz.com
SUMMARY:Comparsa 'LAS RATAS' en Sevilla
DESCRIPTION:Compra en línea de LOCALIDADES
URL:https://www.carnavaldecadiz.com/event/comparsa-las-ratas-en-sevilla-2/
LOCATION:Teatro los Remedios\, calle Juan Ramón Jimenez 22\, Sevilla\, Sevilla\, 41011\, España
CATEGORIES:actuaciones de carnaval
END:VEVENT
BEGIN:VEVENT
DTSTART;TZID=Europe/Madrid:20251116T190000
DTEND;TZID=Europe/Madrid:20251116T210000
DTSTAMP:20260420T022306
CREATED:20251110T212149Z
LAST-MODIFIED:20251110T212149Z
UID:26059-1763319600-1763326800@www.carnavaldecadiz.com
SUMMARY:'EL FANTASMA DEL TEATRO FALLA' en Cordoba
DESCRIPTION:Inspirada en la novela de Gaston Leroux y el musical de Andrew Lloyd Webber\, El Fantasma de la Ópera\, hemos querido traerlo a una temática netamente gaditana donde explotaremos los recursos tanto musicales como cómicos enraizados en nuestra tradición carnavalesca. \nCompra en línea de LOCALIDADES
URL:https://www.carnavaldecadiz.com/event/el-fantasma-del-teatro-falla-en-cordoba/
LOCATION:Teatro Brillante\, Córdoba\, Colegio La Salle\, carretera de las Hermitas\, Córdoba\, Córdoba\, 14012\, Spain
CATEGORIES:actuaciones de carnaval
END:VEVENT
BEGIN:VEVENT
DTSTART;VALUE=DATE:20251120
DTEND;VALUE=DATE:20251124
DTSTAMP:20260420T022306
CREATED:20251115T192916Z
LAST-MODIFIED:20251115T194807Z
UID:26221-1763596800-1763942399@www.carnavaldecadiz.com
SUMMARY:Semana Cultual de la ACC 'EL PITIJOPO'
DESCRIPTION:PROGRAMA \nJueves 20 de noviembre – En la casa de la Juventud de Sanlúcar a las 20:00h \nCharla – Coloquio ‘EL CARNAVAL DE HACE 50 AÑOS’ \nPonentes: Luis Ripoll Lázaro y Bernardo Caro Bernal \nModera: Diego Fariñas Baro \nViernes 21 de noviembre – Bar “Tienda Enmedio’ a las 20:00h \nCeremonia de entrega de los galardones de la Asociación ‘PITIJOPO DE ORO’ a: \n\nCatering y Eventos “Las niñas”\nÁlvaro Pérez Vega “Guachi”\nRafael Rodríguez Venegas “Pay”\n\nPresentación del pregonero de la Asociación para el Carnaval 2026 – Rubén Galán Lara \nPresenta Juan José del Ojo Martínez\, pregonero del Carnaval 2025 \nSábado 22 de noviembre – Bar “Tienda Enmedio’ a las 20:00h \nPresentación del libro “Artículos de Carnaval y otros recuerdos” de Cristina Braza Noriega \nCharla – Coloquio “Papel de la mujer en el Carnaval de Cádiz” \nPonentes: Cristina Braza Noriega y Pilar García \nModera: Rocía Hermoso Romo \nDomingo 23 de noviembre – Convivencia final entre socios y amigos de la asociación \nMás información 687 512 254 (Rocío) \nTodos son eventos públicos de libre acceso. \n  \n 
URL:https://www.carnavaldecadiz.com/event/semana-cultual-de-la-c-el-pitijopo/
LOCATION:Bar ‘Tienda de Enmedio’\, Sanlúcar.\, Plaza Puerta de Jerez s/n\, Sanlúcar de Barrameda\, Cádiz\, 11540\, Spain
CATEGORIES:actuaciones de carnaval,conferencia de carnaval,evento gastronómico
END:VEVENT
BEGIN:VEVENT
DTSTART;TZID=Europe/Madrid:20251121T210000
DTEND;TZID=Europe/Madrid:20251121T223000
DTSTAMP:20260420T022306
CREATED:20251110T213959Z
LAST-MODIFIED:20251110T213959Z
UID:26069-1763758800-1763764200@www.carnavaldecadiz.com
SUMMARY:'SIETE PÁJAROS' en Málaga
DESCRIPTION:Compra en línea de LOCALIDADES
URL:https://www.carnavaldecadiz.com/event/siete-pajaros-en-malaga/
LOCATION:La caja blanca\, Málaga\, avenida editor Ángel Caffarena 8\, Málaga\, Málaga\, 29010\, España
CATEGORIES:actuaciones de carnaval
END:VEVENT
BEGIN:VEVENT
DTSTART;TZID=Europe/Madrid:20251121T213000
DTEND;TZID=Europe/Madrid:20251121T223000
DTSTAMP:20260420T022306
CREATED:20251121T140158Z
LAST-MODIFIED:20251121T140158Z
UID:26353-1763760600-1763764200@www.carnavaldecadiz.com
SUMMARY:Actuación de la Chirigota Callejera 'La auténtica'
DESCRIPTION:Evento público de libre acceso.
URL:https://www.carnavaldecadiz.com/event/actuacion-de-la-chirigota-callejera-la-autentica/
LOCATION:Plaza Virgen de los Reyes\, Sevilla\, Plaza Virgen de los Reyes\, Sevilla\, Sevilla\, 41004\, Spain
CATEGORIES:actuaciones de carnaval
END:VEVENT
BEGIN:VEVENT
DTSTART;TZID=Europe/Madrid:20251121T220000
DTEND;TZID=Europe/Madrid:20251121T230000
DTSTAMP:20260420T022306
CREATED:20251117T144850Z
LAST-MODIFIED:20251117T144850Z
UID:26293-1763762400-1763766000@www.carnavaldecadiz.com
SUMMARY:Carnaval en Falso Mito\, Conil
DESCRIPTION:Actuará el mini grupo de carnaval formado por: Salvi\, Guille\, Zoleta y Piojo \nReservas: 69 28 36 83
URL:https://www.carnavaldecadiz.com/event/carnaval-en-falso-mito-conil-3/
LOCATION:Falso Mito\, Conil\, calle Torre de Roche\, Conil de la Frontera\, Cádiz\, 11140\, España
CATEGORIES:actuaciones de carnaval
END:VEVENT
BEGIN:VEVENT
DTSTART;TZID=Europe/Madrid:20251121T220000
DTEND;TZID=Europe/Madrid:20251121T233000
DTSTAMP:20260420T022306
CREATED:20251117T125557Z
LAST-MODIFIED:20251117T125557Z
UID:26280-1763762400-1763767800@www.carnavaldecadiz.com
SUMMARY:Molina y Carlos Pérez en la Peña Tatachin
DESCRIPTION:Evento público de libre acceso.
URL:https://www.carnavaldecadiz.com/event/molina-y-carlos-perez-en-la-pena-tatachin/
LOCATION:Peña Tatachin\, calle Cristo Humildad Paciencia 2D\, Chiclana de la Frontera\, Cádiz\, 11130\, España
CATEGORIES:actuaciones de carnaval
END:VEVENT
END:VCALENDAR