BEGIN:VCALENDAR
VERSION:2.0
PRODID:-//Carnaval de C&aacute;diz - ECPv6.15.20//NONSGML v1.0//EN
CALSCALE:GREGORIAN
METHOD:PUBLISH
X-WR-CALNAME:Carnaval de C&aacute;diz
X-ORIGINAL-URL:https://www.carnavaldecadiz.com
X-WR-CALDESC:Eventos para Carnaval de C&aacute;diz
REFRESH-INTERVAL;VALUE=DURATION:PT1H
X-Robots-Tag:noindex
X-PUBLISHED-TTL:PT1H
BEGIN:VTIMEZONE
TZID:Europe/Madrid
BEGIN:DAYLIGHT
TZOFFSETFROM:+0100
TZOFFSETTO:+0200
TZNAME:CEST
DTSTART:20240331T010000
END:DAYLIGHT
BEGIN:STANDARD
TZOFFSETFROM:+0200
TZOFFSETTO:+0100
TZNAME:CET
DTSTART:20241027T010000
END:STANDARD
BEGIN:DAYLIGHT
TZOFFSETFROM:+0100
TZOFFSETTO:+0200
TZNAME:CEST
DTSTART:20250330T010000
END:DAYLIGHT
BEGIN:STANDARD
TZOFFSETFROM:+0200
TZOFFSETTO:+0100
TZNAME:CET
DTSTART:20251026T010000
END:STANDARD
BEGIN:DAYLIGHT
TZOFFSETFROM:+0100
TZOFFSETTO:+0200
TZNAME:CEST
DTSTART:20260329T010000
END:DAYLIGHT
BEGIN:STANDARD
TZOFFSETFROM:+0200
TZOFFSETTO:+0100
TZNAME:CET
DTSTART:20261025T010000
END:STANDARD
END:VTIMEZONE
BEGIN:VEVENT
DTSTART;VALUE=DATE:20250930
DTEND;VALUE=DATE:20251006
DTSTAMP:20260420T040052
CREATED:20250929T143701Z
LAST-MODIFIED:20251003T204108Z
UID:24429-1759190400-1759708799@www.carnavaldecadiz.com
SUMMARY:Sail GP Cádiz 2025
DESCRIPTION:PROGRAMA\nMartes 30 de septiembre \n\n09:00h – Centro Náutico Elcano. Foling days con la Escuela Municipal de Vela.\n11:00h\, 15:00h y 16:00 – Centro Náutico Elcano. Foiling Boat Testing.\n20:30h – Castillo de Santa Catalina. Proyección del Episodio 5 de la Temporada 5 de la docuserie ‘Racing on the edge’.\n\nMiércoles 1 de octubre \n\n09:00h – Centro Náutico Elcano. Foling days con la Escuela Municipal de Vela.\nDesde las 10:00h – Centro Náutico Elcano. Bautismo de Foiling\n16:00h – Centro Náutico Elcano. Foliability.\nDe 18:00h a 19:00h – Plaza de San Juan de Dios: Encuentro con los integrantes del Spain SailGP Team\, Los Gallos\, quienes repartirán tarjetas con sus fotos y firmarán autógrafos a sus seguidores.\n\nJueves 2 de octubre \n\n09:00h – Centro Náutico Elcano. Foling days con la Escuela Municipal de Vela.\nDesde las 10:00h – Centro Náutico Elcano. Bautismo de Foiling\n\nViernes 3 de octubre \n\n09:00h – Centro Náutico Elcano. Foiling days con la Escuela Municipal de Vela.\nDe 15:30h a 17:00h – Campo de regatas SailGP frente al Paseo de Santa Bárbara y la Alameda. Carreras de prácticas previas al GP.\n21:00h y 22:30h – Plaza de la Catedral. Flamenco con Encarna Anillo a las 21 horas y de Miguel Catumba a las 22.30.\n\nSábado 4 de octubre \n\nDe 11:00h a 15:00h – Plaza de San Antonio. Fiesta infantil.\nA partir de las 12:00h a 17:00h – ACTUACIONES DE CARNAVAL\nLas actuaciones se llevarán a cabo de forma simultánea en: \n\nEn la Plaza del Mentidero actuarán: El coro de la IA\, Los del otro barrio\, Un clásico nunca falla\, Generación Z\, Ku Klux Klan Klan\, El Gallinero\, El Cementerio y Cádiz\, el show.\nEn el templete del Parque Genovés actuarán: Las Gitaneras\, El Gallinero\, Una de cal y otra de arena\, El Cementerio\, Cádiz\, el show\, Un clásico nunca falla\, Los del otro barrio y Ku Klux Klan Klan\nEn la Plaza de San Antonio actuarán: el coro La Promoción\, Qué alegría de lunes\, Las gitaneras\, El coro de la IA\, Si tú quieres ser feliz\, Una de cal y otra de arena\, La Centinela y Generación Z.\n\n\n12:00h a 19:00h – Alameda Hermanas Carvia Bernal. Mercado del Arte.\n13:00h y 18:00h – Alameda Hermanas Carvia Bernal. Ballet Joven.\n14:00h – Campo de regatas SailGP frente al Paseo de Santa Bárbara y Paseo Carlos III. Show Foling Base Cádiz.\n15:30h a 17:00h – Campo de regatas SailGP frente al Paseo de Santa Bárbara y Paseo Carlos III. Disfruta del primer día de carreras del DP World Spain Sail Grand Prix Andalucía Cádiz desde diferentes ubicaciones.\nDe 17:00h a 21:00h – Plaza de España. Feria ‘Saborea Cádiz\, saborea tu provincia’.\n20:00h – Avenida Duque de Nájera junto a La Caleta. Conciertos de Viento Fest con Muerdo\, Mr. Kilombo y Macaco.\n\nDomingo 5 de octubre \n\nDe 12:00h a 14:00h – Paseo de Santa Bárbara y Paseo Carlos III. Animación ‘Los paseantes’.\nDe 12:00h a 16:00h – Plaza de España. Feria ‘Saborea Cádiz\, saborea tu provincia’.\n12:00h a 19:00h – Alameda Hermanas Carvia Bernal. Mercado del Arte.\n14:00h – Campo de regatas SailGP frente al Paseo de Santa Bárbara y Paseo Carlos III. Show Foling Base Cádiz.\n15:30h a 17:00h – Campo de regatas SailGP frente al Paseo de Santa Bárbara y Paseo Carlos III. Disfruta del segundo día de carreras del DP World Spain Sail Grand Prix Andalucía Cádiz desde diferentes ubicaciones.\n\nTodos los eventos son públicos y de libre acceso\n 
URL:https://www.carnavaldecadiz.com/event/sail-gp-cadiz-2025/
LOCATION:Cádiz\, Cádiz\, Cádiz\, España
CATEGORIES:actuaciones de carnaval,Mucho más que carnaval
END:VEVENT
BEGIN:VEVENT
DTSTART;TZID=Europe/Madrid:20251003T210000
DTEND;TZID=Europe/Madrid:20251003T230000
DTSTAMP:20260420T040052
CREATED:20250929T150238Z
LAST-MODIFIED:20250929T150238Z
UID:24438-1759525200-1759532400@www.carnavaldecadiz.com
SUMMARY:Una Charlita Chirigotera en San Roque
DESCRIPTION:En la charla participarán: ‘Er Carvo’\, Isaac ‘Mai’\, Nono\, Johana\, y Careto. \nEvento público de libre acceso.
URL:https://www.carnavaldecadiz.com/event/una-charlita-chirigotera-en-san-roque/
LOCATION:Asociación Cultural Canción Ligera\, San Roque\, San Roque\, Cádiz\, 11360\, Spain
CATEGORIES:actuaciones de carnaval,mesa de debate
END:VEVENT
BEGIN:VEVENT
DTSTART;TZID=Europe/Madrid:20251004T180000
DTEND;TZID=Europe/Madrid:20251004T230000
DTSTAMP:20260420T040052
CREATED:20250929T181601Z
LAST-MODIFIED:20250929T181601Z
UID:24467-1759600800-1759618800@www.carnavaldecadiz.com
SUMMARY:II Concurso de Mini Romanceros
DESCRIPTION:Después del exitazo del año pasado\, ¿de verdad os vais a perder el de este año? \nNo apuréis demasiado la hora de llegada\, que el aforo es limitado. \nLarga vida al Mini-Romancero!! Blam\, blam!! \nEvento público de libre acceso.
URL:https://www.carnavaldecadiz.com/event/ii-concurso-de-mini-romanceros/
LOCATION:Sede Asociación de Romanceros ARO\, calle Regimiento de Infantería nº5 Bajo\, Cádiz\, Cádiz\, 11002\, Spain
CATEGORIES:actuaciones de carnaval
END:VEVENT
BEGIN:VEVENT
DTSTART;TZID=Europe/Madrid:20251004T210000
DTEND;TZID=Europe/Madrid:20251004T223000
DTSTAMP:20260420T040052
CREATED:20250929T151909Z
LAST-MODIFIED:20250929T151909Z
UID:24441-1759611600-1759617000@www.carnavaldecadiz.com
SUMMARY:Antología de la Comparsa DR en 'Cuatro Gatos'
DESCRIPTION:Evento público de libre acceso.
URL:https://www.carnavaldecadiz.com/event/antologia-de-la-comparsa-dr-en-cuatro-gatos/
LOCATION:Cuatro Gatos\, Sevilla\, calle Madre Dolores Marquez 11\, Sevilla\, Sevilla\, 41003\, España
CATEGORIES:actuaciones de carnaval
END:VEVENT
BEGIN:VEVENT
DTSTART;TZID=Europe/Madrid:20251004T220000
DTEND;TZID=Europe/Madrid:20251004T230000
DTSTAMP:20260420T040052
CREATED:20250929T184913Z
LAST-MODIFIED:20250929T184913Z
UID:24473-1759615200-1759618800@www.carnavaldecadiz.com
SUMMARY:Carnaval en la Peña Tatachin
DESCRIPTION:Actuará el trío de carnaval formado por: Dani Molina\, Lolito Molina y Tizón. \nEvento público de libre acceso.
URL:https://www.carnavaldecadiz.com/event/carnaval-en-la-pena-tatachin-2/
LOCATION:Peña Tatachin\, calle Cristo Humildad Paciencia 2D\, Chiclana de la Frontera\, Cádiz\, 11130\, España
CATEGORIES:actuaciones de carnaval
END:VEVENT
BEGIN:VEVENT
DTSTART;TZID=Europe/Madrid:20251005T120000
DTEND;TZID=Europe/Madrid:20251005T143000
DTSTAMP:20260420T040052
CREATED:20250929T173947Z
LAST-MODIFIED:20250929T173947Z
UID:24454-1759665600-1759674600@www.carnavaldecadiz.com
SUMMARY:Charla Carnavalera en Osuna
DESCRIPTION:Charla carnavalera con Carlos Pérez y  Jesús Valdés. \nSocios gratis. \nNo socios 3€
URL:https://www.carnavaldecadiz.com/event/charla-carnavalera-en-osuna/
LOCATION:La Posá\, Osuna\, calle Asistente Arjona\, Osuna\, Sevilla\, 41640\, España
CATEGORIES:actuaciones de carnaval,mesa de debate
END:VEVENT
BEGIN:VEVENT
DTSTART;TZID=Europe/Madrid:20251005T143000
DTEND;TZID=Europe/Madrid:20251005T153000
DTSTAMP:20260420T040052
CREATED:20251001T231928Z
LAST-MODIFIED:20251001T231928Z
UID:24603-1759674600-1759678200@www.carnavaldecadiz.com
SUMMARY:Antología 'CÁDIZ DE MIL COLORES' en el Cerro de los Mártires
DESCRIPTION:Evento público de libre acceso.
URL:https://www.carnavaldecadiz.com/event/antologia-cadiz-de-mil-colores-en-el-cerro-de-los-martires/
LOCATION:Cerro de los Mártires\, San Fernando\, Cerro de los Mártires\, San Fernando\, Cádiz\, 11100\, Spain
CATEGORIES:actuaciones de carnaval
END:VEVENT
BEGIN:VEVENT
DTSTART;TZID=Europe/Madrid:20251005T170000
DTEND;TZID=Europe/Madrid:20251005T183000
DTSTAMP:20260420T040052
CREATED:20250929T173439Z
LAST-MODIFIED:20250929T173439Z
UID:24450-1759683600-1759689000@www.carnavaldecadiz.com
SUMMARY:Carnaval de Cádiz en Málaga
DESCRIPTION:Reservas 622495727
URL:https://www.carnavaldecadiz.com/event/carnaval-de-cadiz-en-malaga-11/
LOCATION:Los Delfines\, Málaga\, plaza de la Misericordia 6\, Málaga\, Málaga\, 29002\, Spain
CATEGORIES:actuaciones de carnaval
END:VEVENT
BEGIN:VEVENT
DTSTART;TZID=Europe/Madrid:20251005T180000
DTEND;TZID=Europe/Madrid:20251005T200000
DTSTAMP:20260420T040052
CREATED:20250929T171251Z
LAST-MODIFIED:20250929T171251Z
UID:24444-1759687200-1759694400@www.carnavaldecadiz.com
SUMMARY:Chirigota 'LOS CALAITA' en Badajoz
DESCRIPTION:Compra en línea de LOCALIDADES
URL:https://www.carnavaldecadiz.com/event/chirigota-los-calaita-en-badajoz/
LOCATION:Palacio de Congresos de Badajoz\, ronda del Pilar s/n\, Badajoz\, Badajoz\, 06002\, España
CATEGORIES:actuaciones de carnaval
END:VEVENT
BEGIN:VEVENT
DTSTART;TZID=Europe/Madrid:20251005T190000
DTEND;TZID=Europe/Madrid:20251005T203000
DTSTAMP:20260420T040052
CREATED:20250929T174641Z
LAST-MODIFIED:20250929T174641Z
UID:24457-1759690800-1759696200@www.carnavaldecadiz.com
SUMMARY:'El fantasma del Teatro Falla' en San Roque
DESCRIPTION:Compra en línea de LOCALIDADES
URL:https://www.carnavaldecadiz.com/event/el-fantasma-del-teatro-falla-en-san-roque/
LOCATION:Teatro Juan Luis Galiardo\, San Roque\, Paseo Alameda Alfonso XI\, San Roque\, Cádiz\, 11360\, España
CATEGORIES:actuaciones de carnaval
END:VEVENT
BEGIN:VEVENT
DTSTART;TZID=Europe/Madrid:20251005T200000
DTEND;TZID=Europe/Madrid:20251005T213000
DTSTAMP:20260420T040052
CREATED:20250929T172211Z
LAST-MODIFIED:20250929T172211Z
UID:24447-1759694400-1759699800@www.carnavaldecadiz.com
SUMMARY:Chirigota 'LOS HERMANOS DEL BUEN FIN' en Mérida
DESCRIPTION:Compra en línea de LOCALIDADES
URL:https://www.carnavaldecadiz.com/event/chirigota-los-hermanos-del-buen-fin-en-merida/
LOCATION:Palacio de Congresos\, Mérida\, Avenida del Río s/n\, Mérida\, Badajoz\, 06800\, España
CATEGORIES:actuaciones de carnaval
END:VEVENT
BEGIN:VEVENT
DTSTART;TZID=Europe/Madrid:20251008T200000
DTEND;TZID=Europe/Madrid:20251008T220000
DTSTAMP:20260420T040052
CREATED:20250930T180330Z
LAST-MODIFIED:20250930T180330Z
UID:24503-1759953600-1759960800@www.carnavaldecadiz.com
SUMMARY:XX Aniversario Orquesta Caballati
DESCRIPTION:Veinte años bien merecen una buena fiesta y en esta ocasión rodeados de un montón de amigos entre los que se encuentran: Vicente Lázaro ‘Lali’\, Yoli Álvarez\, Pedro Campos\, Alex de Huelva\, y muchas más sorpresas. \nVenta de entradas 644691564 \nPrecio de las entradas: 10 y 12€
URL:https://www.carnavaldecadiz.com/event/xx-aniversario-orquesta-caballati/
LOCATION:Teatro Moderno\, Chiclana\, calle nueva 20\, Chiclana de la Frontera\, Cádiz\, 11130\, España
CATEGORIES:actuaciones de carnaval
END:VEVENT
BEGIN:VEVENT
DTSTART;VALUE=DATE:20251009
DTEND;VALUE=DATE:20251014
DTSTAMP:20260420T040052
CREATED:20251007T201135Z
LAST-MODIFIED:20251007T201135Z
UID:24804-1759968000-1760399999@www.carnavaldecadiz.com
SUMMARY:Semana Cultural de la Peña Catavinos
DESCRIPTION:PROGRAMA \nJueves 9 de octubre \n\n20:00h – Pregón de D. José Manuel Guerra\n20:45h – Actuación de la Comparsa ‘Bendita locura’\n\nViernes 10 de octubre  \n\n20:00h – Tertulia Carnavalesca ‘La creatividad y el impacto económico en el carnaval’\n\nSábado 11 de octubre \n\n12:00h – Visita al Museo del Vino y de la Sal\, Chiclana.\n20:00h – Actuación del Mago Ramón Gómez\n\nDomingo 12 de octubre \n\nDe 12:00h a 13:30h – Concurso de catadores\, gastronomía y repostería\n18:00h – Entrega de premios a los ganadores de los concursos y los juegos de mesa\n\nMás información 664364296 \n  \n 
URL:https://www.carnavaldecadiz.com/event/semana-cultural-de-la-pena-catavinos/
LOCATION:Peña Cultural Carnavalesca Los catavinos\, San Fernando\, calle Santo Domingo 10\, San Fernando\, Cádiz11100\, España
CATEGORIES:actuaciones de carnaval,Mucho más que carnaval
END:VEVENT
BEGIN:VEVENT
DTSTART;TZID=Europe/Madrid:20251010T200000
DTEND;TZID=Europe/Madrid:20251010T210000
DTSTAMP:20260420T040052
CREATED:20251007T202442Z
LAST-MODIFIED:20251007T202442Z
UID:24807-1760126400-1760130000@www.carnavaldecadiz.com
SUMMARY:Carnaval en 'La Viñera'
DESCRIPTION:Actuará el dúo carnavalesco formado por Toni ‘Piojo’ y Kevin Ponce. \nEvento público de libre acceso.
URL:https://www.carnavaldecadiz.com/event/carnaval-en-la-vinera/
LOCATION:La Viñera\, Cádiz\, calle Virgen de la Palma\, 6\, Cádiz\, Cádiz\, 11002\, Spain
CATEGORIES:actuaciones de carnaval
END:VEVENT
BEGIN:VEVENT
DTSTART;TZID=Europe/Madrid:20251010T203000
DTEND;TZID=Europe/Madrid:20251010T223000
DTSTAMP:20260420T040052
CREATED:20250930T181430Z
LAST-MODIFIED:20250930T181508Z
UID:24506-1760128200-1760135400@www.carnavaldecadiz.com
SUMMARY:BIENVENID2- Doble Sesión en Alcalá de Guadaira
DESCRIPTION:Dos espectáculos en uno: \nActuación de la comparsa LAS RATAS \nEspectáculo ‘4Suites de Momo’\, Jesús Bienvenido & Agapornis \nCompra en linea de LOCALIDADES
URL:https://www.carnavaldecadiz.com/event/bienvenid2-doble-sesion-en-alcala-de-guadaira/
LOCATION:Auditorio Riberas del Guadaira\, calle Roberto Leal s/n\, Alcalá de Guadaira\, Sevilla\, 41500\, España
CATEGORIES:actuaciones de carnaval
END:VEVENT
BEGIN:VEVENT
DTSTART;TZID=Europe/Madrid:20251010T210000
DTEND;TZID=Europe/Madrid:20251010T220000
DTSTAMP:20260420T040052
CREATED:20250930T182010Z
LAST-MODIFIED:20250930T182010Z
UID:24511-1760130000-1760133600@www.carnavaldecadiz.com
SUMMARY:Carnaval de Cádiz en Marbella
DESCRIPTION:Actuará el dúo de carnaval formado por Yolo Álvarez y José Cheza. \nDonativo 5€
URL:https://www.carnavaldecadiz.com/event/carnaval-de-cadiz-en-marbella/
LOCATION:Asociación Cultural Carnavalesca Marbellí ACCM\, calle José Iturbi 8\, 10\, Marbella\, Málaga\, 29603\, España
CATEGORIES:actuaciones de carnaval
END:VEVENT
BEGIN:VEVENT
DTSTART;TZID=Europe/Madrid:20251010T210000
DTEND;TZID=Europe/Madrid:20251010T233000
DTSTAMP:20260420T040052
CREATED:20250930T182713Z
LAST-MODIFIED:20250930T182713Z
UID:24514-1760130000-1760139000@www.carnavaldecadiz.com
SUMMARY:LOS INDIOSINGRASIA + Antología del SOWMANCERO en el Pay-pay
DESCRIPTION:Compra y reserva de localidades en Café Teatro Pay-pay
URL:https://www.carnavaldecadiz.com/event/los-indiosingrasia-antologia-del-sowmancero-en-el-pay-pay/
LOCATION:Café Tatro Pay Pay\, C/ Silencio\, Cádiz\, Cádiz\, 11002
CATEGORIES:actuaciones de carnaval
END:VEVENT
BEGIN:VEVENT
DTSTART;TZID=Europe/Madrid:20251010T220000
DTEND;TZID=Europe/Madrid:20251010T230000
DTSTAMP:20260420T040052
CREATED:20251006T111659Z
LAST-MODIFIED:20251006T111659Z
UID:24709-1760133600-1760137200@www.carnavaldecadiz.com
SUMMARY:Miguel Nández y Kevin Ponce en Caño 18
DESCRIPTION:Otro otoño de coplas en Caño 18. Esta nocha actúan Miguel Nández y Kevin Ponce. \nReservas 658933689
URL:https://www.carnavaldecadiz.com/event/miguel-nandez-y-kevin-ponce-en-cano-18/
LOCATION:Caño 18 Gastrobar\, calle San Juan Bautista\, local 7\, San Fernando\, Cádiz\, 11100
CATEGORIES:actuaciones de carnaval
END:VEVENT
BEGIN:VEVENT
DTSTART;TZID=Europe/Madrid:20251011T190000
DTEND;TZID=Europe/Madrid:20251011T230000
DTSTAMP:20260420T040052
CREATED:20250930T185542Z
LAST-MODIFIED:20250930T185542Z
UID:24527-1760209200-1760223600@www.carnavaldecadiz.com
SUMMARY:Chirigota 'LOS CALAITA' en Santoña
DESCRIPTION:Dos pases: a las 19:00h y a las 21:00h \nCompra en línea de localidades  en reservaentradas.com
URL:https://www.carnavaldecadiz.com/event/chirigota-los-calaita-en-santona/
LOCATION:Teatro Casino Liceo de Santoña\, calle Camilo José Cela\, Santoña\, Cantabria\, 39740\, Spain
CATEGORIES:actuaciones de carnaval
END:VEVENT
BEGIN:VEVENT
DTSTART;TZID=Europe/Madrid:20251011T210000
DTEND;TZID=Europe/Madrid:20251011T233000
DTSTAMP:20260420T040052
CREATED:20250930T184345Z
LAST-MODIFIED:20250930T184345Z
UID:24524-1760216400-1760225400@www.carnavaldecadiz.com
SUMMARY:Sehíto y Manolín Santander en el Pay-pay
DESCRIPTION:Compra y reserva de localidades en Café Teatro Pay-pay
URL:https://www.carnavaldecadiz.com/event/sehito-y-manolin-santander-en-el-pay-pay/
LOCATION:Café Tatro Pay Pay\, C/ Silencio\, Cádiz\, Cádiz\, 11002
CATEGORIES:actuaciones de carnaval
END:VEVENT
BEGIN:VEVENT
DTSTART;TZID=Europe/Madrid:20251011T230000
DTEND;TZID=Europe/Madrid:20251012T000000
DTSTAMP:20260420T040052
CREATED:20251007T124037Z
LAST-MODIFIED:20251007T124037Z
UID:24785-1760223600-1760227200@www.carnavaldecadiz.com
SUMMARY:Antología 'CÁDIZ DE MI COLORES' en Docevita
DESCRIPTION:Evento público de libre acceso.
URL:https://www.carnavaldecadiz.com/event/antologia-cadiz-de-mi-colores-en-docevita/
LOCATION:Dolcevita\, Cádiz\, calle Brasil 3\, Cádiz\, Cádiz\, 11009\, Spain
CATEGORIES:actuaciones de carnaval
END:VEVENT
BEGIN:VEVENT
DTSTART;TZID=Europe/Madrid:20251011T230000
DTEND;TZID=Europe/Madrid:20251012T003000
DTSTAMP:20260420T040052
CREATED:20250930T183945Z
LAST-MODIFIED:20250930T183945Z
UID:24521-1760223600-1760229000@www.carnavaldecadiz.com
SUMMARY:Despedida de LOS TIGRES BLUES BAND
DESCRIPTION:Última actuación de la Chirigota LOS TIGRES BLUES BAND \nEvento público de libre acceso
URL:https://www.carnavaldecadiz.com/event/despedida-de-los-tigres-blues-band/
LOCATION:Moma Copas\, Sanlúcar\, calle Ramón y Cajal 4\, Sanlúcar de Barrameda\, Cádiz\, 11540\, España
CATEGORIES:actuaciones de carnaval
END:VEVENT
BEGIN:VEVENT
DTSTART;TZID=Europe/Madrid:20251012T120000
DTEND;TZID=Europe/Madrid:20251012T130000
DTSTAMP:20260420T040052
CREATED:20251007T123316Z
LAST-MODIFIED:20251007T123316Z
UID:24781-1760270400-1760274000@www.carnavaldecadiz.com
SUMMARY:Encuentro de Carnaval en Valverde del Camino
DESCRIPTION:Actuará el dúo de carnaval formado por Toni ‘Piojo’ y Kevin Ponce. \nReservas 696660959
URL:https://www.carnavaldecadiz.com/event/encuentro-de-carnaval-en-valverde-del-camino/
LOCATION:La Taberna de la Plaza\, Valverde del Camino\, Plaza Ramón y Cajal 12\, Valverde del Camino\, Huelva\, 41800\, Spain
CATEGORIES:actuaciones de carnaval
END:VEVENT
BEGIN:VEVENT
DTSTART;TZID=Europe/Madrid:20251012T160000
DTEND;TZID=Europe/Madrid:20251012T220000
DTSTAMP:20260420T040052
CREATED:20250930T190147Z
LAST-MODIFIED:20250930T190147Z
UID:24533-1760284800-1760306400@www.carnavaldecadiz.com
SUMMARY:El Fantasma del Teatro Falla en el Falla
DESCRIPTION:Doble función a las 16:00h y a las 20:00h \nCompra en línea de LOCALIDADES
URL:https://www.carnavaldecadiz.com/event/el-fantasma-del-teatro-falla-en-el-falla/
LOCATION:Gran Teatro Falla\, Plaza Fragela s/n\, Cádiz\, Cádiz\, 11003\, España
CATEGORIES:actuaciones de carnaval
END:VEVENT
BEGIN:VEVENT
DTSTART;TZID=Europe/Madrid:20251016T203000
DTEND;TZID=Europe/Madrid:20251016T223000
DTSTAMP:20260420T040052
CREATED:20251002T120339Z
LAST-MODIFIED:20251002T120339Z
UID:24606-1760646600-1760653800@www.carnavaldecadiz.com
SUMMARY:'Pedro. Majara toda una vida'
DESCRIPTION:El montaje rinde homenaje a la trayectoria de José Antonio Rico Segura\, “Pedro el de los Majaras”\, uno de los grandes referentes del Carnaval gaditano. La obra ha sido escrita por Juan Manuel Romero Bey\, tras mantener numerosos encuentros con el propio Pedro\, que le han permitido recoger vivencias\, anécdotas y aspectos poco conocidos de su extensa carrera. \nLos impulsores de la iniciativa son Antonio Rico Suano\, hijo de Pedro\, Ramoni de Castro\, Javier Visir y Noriega. Cabe recordar que Pedro el de los Majaras ya recibió en 2021 la Medalla de Oro de la Ciudad y en 2013 dio nombre a una Plaza. El Ayuntamiento de El Puerto colabora en el desarrollo de este homenaje. \nDesde la organización se avanza que importantes figuras del carnaval participarán en la representación\, aunque por el momento se reservan los detalles para mantener el factor sorpresa. Las entradas tendrán un precio simbólico de 10 euros y se pondrán a la venta próximamente en el bar Maicero (avenida Ronda de Valencia)\, donde también se celebran los ensayos.
URL:https://www.carnavaldecadiz.com/event/pedro-majara-toda-una-vida/
LOCATION:Teatro Pedro Muñoz Seca\, Plaza del Polvorista 4\, Puerto Real\, Cádiz\, 11500\, España
CATEGORIES:actuaciones de carnaval
END:VEVENT
BEGIN:VEVENT
DTSTART;TZID=Europe/Madrid:20251016T210000
DTEND;TZID=Europe/Madrid:20251016T233000
DTSTAMP:20260420T040052
CREATED:20250930T191427Z
LAST-MODIFIED:20250930T191427Z
UID:24536-1760648400-1760657400@www.carnavaldecadiz.com
SUMMARY:Comparsa Juvenil GENERACIÓN Z en el Pay-pay
DESCRIPTION:Compra y reserva de localidades en el Café Teatro Pay-pay
URL:https://www.carnavaldecadiz.com/event/comparsa-juvenil-generacion-z-en-el-pay-pay/
LOCATION:Café Tatro Pay Pay\, C/ Silencio\, Cádiz\, Cádiz\, 11002
CATEGORIES:actuaciones de carnaval
END:VEVENT
BEGIN:VEVENT
DTSTART;TZID=Europe/Madrid:20251017T200000
DTEND;TZID=Europe/Madrid:20251017T210000
DTSTAMP:20260420T040052
CREATED:20251016T152002Z
LAST-MODIFIED:20251016T152002Z
UID:25158-1760731200-1760734800@www.carnavaldecadiz.com
SUMMARY:Carnaval en 'La Viñera'
DESCRIPTION:Actuará el dúo de carnaval compuesto por ‘Lali’ y Germán Rendon \nEvento público de libe acceso.
URL:https://www.carnavaldecadiz.com/event/carnaval-en-la-vinera-2/
LOCATION:La Viñera\, Cádiz\, calle Virgen de la Palma\, 6\, Cádiz\, Cádiz\, 11002\, Spain
CATEGORIES:actuaciones de carnaval
END:VEVENT
BEGIN:VEVENT
DTSTART;TZID=Europe/Madrid:20251018T140000
DTEND;TZID=Europe/Madrid:20251018T150000
DTSTAMP:20260420T040053
CREATED:20251007T203406Z
LAST-MODIFIED:20251007T203406Z
UID:24811-1760796000-1760799600@www.carnavaldecadiz.com
SUMMARY:Carnaval en la Peña Enrique Mateo
DESCRIPTION:Actuará el cuarteto carnavalesco formado por: Jesús Mota\, Juan Gamaza\, Kevin Ponce y Toni ‘Piojo’ \nEvento público de libre acceso.
URL:https://www.carnavaldecadiz.com/event/carnaval-en-la-pena-enrique-mateo/
LOCATION:Peña Enrique Mateo\, Cádiz\, calle Cooperativa\, 1\, Cádiz\, Cádiz\, 11007\, Spain
CATEGORIES:actuaciones de carnaval
END:VEVENT
BEGIN:VEVENT
DTSTART;TZID=Europe/Madrid:20251018T180000
DTEND;TZID=Europe/Madrid:20251018T193000
DTSTAMP:20260420T040053
CREATED:20251016T175409Z
LAST-MODIFIED:20251016T175409Z
UID:25164-1760810400-1760815800@www.carnavaldecadiz.com
SUMMARY:Tarde de carnaval en 'El Palquito'
DESCRIPTION:Actuará el mini grupo de carnaval formado por: Carlos Peña\, Rojano\, Jesús Ojeda\, y Saúl Álvarez. \nEntrada 10€ \nCompra de localidades por Bizum: 656556951
URL:https://www.carnavaldecadiz.com/event/tarde-de-carnaval-en-el-palquito/
LOCATION:El Palquito\, Velez-Málaga\, calle las tiendas 44\, Vélez-Málaga\, Málaga\, 29700\, España
CATEGORIES:actuaciones de carnaval
END:VEVENT
BEGIN:VEVENT
DTSTART;TZID=Europe/Madrid:20251018T210000
DTEND;TZID=Europe/Madrid:20251018T220000
DTSTAMP:20260420T040053
CREATED:20251014T121054Z
LAST-MODIFIED:20251014T121054Z
UID:25000-1760821200-1760824800@www.carnavaldecadiz.com
SUMMARY:ORQUESTA CABALLATI en Cádiz
DESCRIPTION:Compra en línea de LOCALIDADES
URL:https://www.carnavaldecadiz.com/event/orquesta-caballati-en-cadiz/
LOCATION:Hotel Spa Cádiz Plaza\, Glorieta Ana Orantes 3\, Cádiz\, Cádiz\, 11010\, Spain
CATEGORIES:actuaciones de carnaval
END:VEVENT
END:VCALENDAR