BEGIN:VCALENDAR
VERSION:2.0
PRODID:-//Carnaval de C&aacute;diz - ECPv6.15.20//NONSGML v1.0//EN
CALSCALE:GREGORIAN
METHOD:PUBLISH
X-ORIGINAL-URL:https://www.carnavaldecadiz.com
X-WR-CALDESC:Eventos para Carnaval de C&aacute;diz
REFRESH-INTERVAL;VALUE=DURATION:PT1H
X-Robots-Tag:noindex
X-PUBLISHED-TTL:PT1H
BEGIN:VTIMEZONE
TZID:Europe/Madrid
BEGIN:DAYLIGHT
TZOFFSETFROM:+0100
TZOFFSETTO:+0200
TZNAME:CEST
DTSTART:20240331T010000
END:DAYLIGHT
BEGIN:STANDARD
TZOFFSETFROM:+0200
TZOFFSETTO:+0100
TZNAME:CET
DTSTART:20241027T010000
END:STANDARD
BEGIN:DAYLIGHT
TZOFFSETFROM:+0100
TZOFFSETTO:+0200
TZNAME:CEST
DTSTART:20250330T010000
END:DAYLIGHT
BEGIN:STANDARD
TZOFFSETFROM:+0200
TZOFFSETTO:+0100
TZNAME:CET
DTSTART:20251026T010000
END:STANDARD
BEGIN:DAYLIGHT
TZOFFSETFROM:+0100
TZOFFSETTO:+0200
TZNAME:CEST
DTSTART:20260329T010000
END:DAYLIGHT
BEGIN:STANDARD
TZOFFSETFROM:+0200
TZOFFSETTO:+0100
TZNAME:CET
DTSTART:20261025T010000
END:STANDARD
END:VTIMEZONE
BEGIN:VEVENT
DTSTART;VALUE=DATE:20250602
DTEND;VALUE=DATE:20250918
DTSTAMP:20260420T073024
CREATED:20250601T202215Z
LAST-MODIFIED:20250918T214552Z
UID:21198-1748822400-1758153599@www.carnavaldecadiz.com
SUMMARY:Actuaciones de la Antología de la Chirigota del Sofri
DESCRIPTION:La chirigota del Sofri\, participó en el pasado COAC con el nombre de ‘LOS GOLPES DE PECHO’\, causando un muy buena impresión entre los aficionados.
URL:https://www.carnavaldecadiz.com/event/actuaciones-de-la-antologia-de-la-chirigota-del-sofri/
LOCATION:La Casa inquieta\, Conil\, Plaza de España 16\, Conil de la Frontera\, Cádiz\, 11140
CATEGORIES:actuaciones de carnaval
END:VEVENT
BEGIN:VEVENT
DTSTART;VALUE=DATE:20250731
DTEND;VALUE=DATE:20250803
DTSTAMP:20260420T073024
CREATED:20250704T194926Z
LAST-MODIFIED:20250704T194926Z
UID:21927-1753920000-1754179199@www.carnavaldecadiz.com
SUMMARY:XIII Concurso de Tangos y Pasodobles 'Paco Alba'
DESCRIPTION:Plazo de inscripción y BASES \nA la espera de grupos inscritos y orden de actuación. \nEvento público de libre acceso.
URL:https://www.carnavaldecadiz.com/event/xiii-concurso-de-tangos-y-pasodobles-paco-alba/
LOCATION:Peña Paco Alba\, calle antulo 6\, Cádiz\, Cádiz\, 11006\, España
CATEGORIES:actuaciones de carnaval,concurso de carnaval
END:VEVENT
BEGIN:VEVENT
DTSTART;VALUE=DATE:20250731
DTEND;VALUE=DATE:20250803
DTSTAMP:20260420T073024
CREATED:20250722T203817Z
LAST-MODIFIED:20250722T203817Z
UID:22247-1753920000-1754179199@www.carnavaldecadiz.com
SUMMARY:II Velada Virgen de la Palma Coronada
DESCRIPTION:II Velada Virgen de la Palma Coronada\, a favor de la bolsa de caridad de la Archicofradía. \nPROGRAMACIÓN\nJueves 31 de julio\, a partir de las 20:00h \n\nCoro Juvenil – CORO DE LA IA\nAntología – LOS HERMANOS HASTA EL FIN\nAntología – MÉLODY Y SUS GORILAS\nChirigota – CUANDO TU VAS\, YO VENGO\nChirigota – LOS CALAITA\n\nViernes 1 de agosto\, a partir de las 20:00h \n\nChirigota Infantil – LA FAMILIA TOPOLINO\nJavier\, Miguel y Guille x 4\nMinicoro de Quintero – PATÉ DE GABACHO\nLAS ANTOLÓGICAS\nChirigota – LOS CAGONES\n\nSábado 2 de agosto\, a partir de las 20:00h \n\nBingo ‘LA PETRÓLEO’\nLOS PELADORES DE MARISCO ‘QUE APROVECHE’\nAntología – LOS TUYOS\nChirigota – LOS INHUMANOS\n\nEventos públicos de libre acceso. \nServicio de barra a precios populares.
URL:https://www.carnavaldecadiz.com/event/ii-velada-virgen-de-la-palma-coronada/
LOCATION:Plaza Manolo Santander\, Cádiz\, Plaza de la Reina\, Cádiz\, Cádiz\, 11002\, España
CATEGORIES:actuaciones de carnaval
END:VEVENT
BEGIN:VEVENT
DTSTART;TZID=Europe/Madrid:20250801T200000
DTEND;TZID=Europe/Madrid:20250801T233000
DTSTAMP:20260420T073024
CREATED:20250715T124516Z
LAST-MODIFIED:20250715T124516Z
UID:22106-1754078400-1754091000@www.carnavaldecadiz.com
SUMMARY:Noche de Carnaval de la Cantera
DESCRIPTION:Actuarán: \n\nCoro infantil – LA PROMOCIÓN\nChirigota infantil – MUSHU CARNAVAL\nComparsa infantil – EL PELOTÓN DE LA ALEGRÍA\nCuarteto infantil – LOS INTENSOS\nChirigota infantil – LOS TARATACHIN\nChirigota infantil – ¡OJÚ\, QUE COLGAERA!\n\nServicio de barra con precios populares. \nEvento público de libre acceso
URL:https://www.carnavaldecadiz.com/event/noche-de-carnaval-de-la-cantera/
LOCATION:Peña Hombres del Campo\, Chiclana\, calle Iro 49\, Chiclana de la Frontera\, Cádiz\, 11130\, Spain
CATEGORIES:actuaciones de carnaval
END:VEVENT
BEGIN:VEVENT
DTSTART;TZID=Europe/Madrid:20250801T203000
DTEND;TZID=Europe/Madrid:20250801T233000
DTSTAMP:20260420T073024
CREATED:20250730T215357Z
LAST-MODIFIED:20250730T215357Z
UID:22550-1754080200-1754091000@www.carnavaldecadiz.com
SUMMARY:Cena Veraniega Benéfica - Actuación 'Cádiz de mil colores'
DESCRIPTION:XIV Cena Veraniega Benéfica\, con la actuación de la antología ‘Cádiz de mil colores’ \nPrecio menú adulto – 28€ \nPrecio menú infantil – 12€ \nVenta de tickets y fila 0\, en la Casa de Hermandad Salesiana de lunes a viernes de 19:00h a 20:30h
URL:https://www.carnavaldecadiz.com/event/cena-veraniega-benefica-actuacion-cadiz-de-mil-colores/
LOCATION:Colegio Salesianos\, Cádiz\, Avenida María Auxiliadora 7\, Cádiz\, Cádiz\, 11009\, España
CATEGORIES:actuaciones de carnaval
END:VEVENT
BEGIN:VEVENT
DTSTART;TZID=Europe/Madrid:20250801T220000
DTEND;TZID=Europe/Madrid:20250801T233000
DTSTAMP:20260420T073024
CREATED:20250715T123957Z
LAST-MODIFIED:20250715T123957Z
UID:22102-1754085600-1754091000@www.carnavaldecadiz.com
SUMMARY:Comparsa LOS DEL OTRO BARRIO en Barbate
DESCRIPTION:Compra on-line de LOCALIDADES
URL:https://www.carnavaldecadiz.com/event/comparsa-los-del-otro-barrio-en-barbate/
LOCATION:Auditorio Parque Infanta Elena\, Barbate\, Parque Infanta Elena\, calle Pío XII\, Barbate\, Cádiz\, 11160\, Spain
CATEGORIES:actuaciones de carnaval
END:VEVENT
BEGIN:VEVENT
DTSTART;TZID=Europe/Madrid:20250801T220000
DTEND;TZID=Europe/Madrid:20250801T233000
DTSTAMP:20260420T073024
CREATED:20250715T125102Z
LAST-MODIFIED:20250715T125102Z
UID:22109-1754085600-1754091000@www.carnavaldecadiz.com
SUMMARY:Comparsa LOS CUERVOS en Fuengirola
DESCRIPTION:Compra on-line de LOCALIDADES
URL:https://www.carnavaldecadiz.com/event/comparsa-los-cuervos-en-fuengirola/
LOCATION:Marenostrum Fuengirola\, 29640 Fuengirola\, Fuengirola\, Málaga\, 29640\, España
CATEGORIES:actuaciones de carnaval
END:VEVENT
BEGIN:VEVENT
DTSTART;TZID=Europe/Madrid:20250801T230000
DTEND;TZID=Europe/Madrid:20250802T000000
DTSTAMP:20260420T073024
CREATED:20250729T210734Z
LAST-MODIFIED:20250729T210734Z
UID:22529-1754089200-1754092800@www.carnavaldecadiz.com
SUMMARY:Chirigota 'LOS MALFO-LLADOS' en Almadraba
DESCRIPTION:Evento público de libre acceso.
URL:https://www.carnavaldecadiz.com/event/chirigota-los-malfo-llados-en-almadraba/
LOCATION:Almadraba\, San Fernando\, calle Buen Pastor 493\, San Fernando\, Cádiz\, 11100\, Spain
CATEGORIES:actuaciones de carnaval
END:VEVENT
BEGIN:VEVENT
DTSTART;TZID=Europe/Madrid:20250801T230000
DTEND;TZID=Europe/Madrid:20250802T003000
DTSTAMP:20260420T073024
CREATED:20250715T125708Z
LAST-MODIFIED:20250715T125708Z
UID:22112-1754089200-1754094600@www.carnavaldecadiz.com
SUMMARY:'Échame una mano\, ¡Primo!' en Isla Cristina
DESCRIPTION:
URL:https://www.carnavaldecadiz.com/event/echame-una-mano-primo-en-isla-cristina/
LOCATION:Chiringuito Escarabajo\, Isla Cristina\, Avenida de los Marineros\, Isla Cristina\, Huelva\, 21410\, Spain
CATEGORIES:actuaciones de carnaval
END:VEVENT
BEGIN:VEVENT
DTSTART;TZID=Europe/Madrid:20250802T180000
DTEND;TZID=Europe/Madrid:20250802T193000
DTSTAMP:20260420T073024
CREATED:20250729T105845Z
LAST-MODIFIED:20250729T105941Z
UID:22508-1754157600-1754163000@www.carnavaldecadiz.com
SUMMARY:LOS VIVOS en Moana Beach Bar
DESCRIPTION:Evento público de libre acceso.
URL:https://www.carnavaldecadiz.com/event/los-vivos-en-moana-beach-bar/
LOCATION:Moana\, Beach Club\, Cádiz\, Avenida Vía Augusta Julia\, Cádiz\, Cádiz\, 110011\, España
CATEGORIES:actuaciones de carnaval
END:VEVENT
BEGIN:VEVENT
DTSTART;TZID=Europe/Madrid:20250802T190000
DTEND;TZID=Europe/Madrid:20250802T203000
DTSTAMP:20260420T073024
CREATED:20250716T131452Z
LAST-MODIFIED:20250716T131452Z
UID:22139-1754161200-1754166600@www.carnavaldecadiz.com
SUMMARY:Comparsa EL CEMENTERIO en el Castillo de Sancti Petri
DESCRIPTION:Compro on-line de entradas: elcastillodesanctipetri.com \n602458080 / 667502369
URL:https://www.carnavaldecadiz.com/event/comparsa-el-cementerio-en-el-castillo-de-sancti-petri/
LOCATION:Castillo de Santi Petri\, Islote de Santi Petri\, Chiclana de la Frontera\, Cádiz\, 11100\, España
CATEGORIES:actuaciones de carnaval
END:VEVENT
BEGIN:VEVENT
DTSTART;TZID=Europe/Madrid:20250802T190000
DTEND;TZID=Europe/Madrid:20250802T223000
DTSTAMP:20260420T073024
CREATED:20250709T221606Z
LAST-MODIFIED:20250709T221606Z
UID:22012-1754161200-1754173800@www.carnavaldecadiz.com
SUMMARY:Fiesta en los Barrios de Cádiz - Barriada de la Paz
DESCRIPTION:Con la colaboración de las asociaciones vecinales Buenavista Recuperada y Entre Dos Puentes Gaditanos y las actuaciones de: \n\nGrupo fit ‘Gipsy Dance’ de Jona\,\nGrupo ‘Danza Urbana Natalia’\,\nCuarteto ‘Qué alegría de lunes’\,\nChirigota ‘Las Gitaneras’\, \nComparsa ‘La Centinela’\,\nGrupo ‘Azabache’ de Zaida\nComparsa ‘El Cementerio’.\n\nEvento público de libre acceso.
URL:https://www.carnavaldecadiz.com/event/fiesta-en-los-barrios-de-cadiz-barriada-de-la-paz/
LOCATION:Plaza Pablo Casals\, Cádiz\, Plaza Pablo Casals\, Cádiz\, Cádiz\, 11012\, Spain
CATEGORIES:actuaciones de carnaval
END:VEVENT
BEGIN:VEVENT
DTSTART;TZID=Europe/Madrid:20250802T210000
DTEND;TZID=Europe/Madrid:20250802T233000
DTSTAMP:20260420T073024
CREATED:20250716T125510Z
LAST-MODIFIED:20250716T125510Z
UID:22132-1754168400-1754177400@www.carnavaldecadiz.com
SUMMARY:Comparsa LA CHULITA en el Pay-pay
DESCRIPTION:Compra y reserva de localidades en Café Teatro Pay-pay
URL:https://www.carnavaldecadiz.com/event/comparsa-la-chulita-en-el-pay-pay/
LOCATION:Café Tatro Pay Pay\, C/ Silencio\, Cádiz\, Cádiz\, 11002
CATEGORIES:actuaciones de carnaval
END:VEVENT
BEGIN:VEVENT
DTSTART;TZID=Europe/Madrid:20250802T210000
DTEND;TZID=Europe/Madrid:20250802T233000
DTSTAMP:20260420T073024
CREATED:20250728T194200Z
LAST-MODIFIED:20250728T194200Z
UID:22466-1754168400-1754177400@www.carnavaldecadiz.com
SUMMARY:Dani Obregón y Pedro Campos en el Pay-pay
DESCRIPTION:Dani Obregón y Pedro Campos son dos de los componentes más preciados del Carnaval de Cádiz\, que derrochan encanto y sensibilidad. \nCompra y reserva de localidades en Café Teatro Pay-Pay
URL:https://www.carnavaldecadiz.com/event/dani-obregon-y-pedro-campos-en-el-pay-pay-3/
LOCATION:Café Tatro Pay Pay\, C/ Silencio\, Cádiz\, Cádiz\, 11002
CATEGORIES:actuaciones de carnaval
END:VEVENT
BEGIN:VEVENT
DTSTART;TZID=Europe/Madrid:20250802T210000
DTEND;TZID=Europe/Madrid:20250802T233000
DTSTAMP:20260420T073024
CREATED:20250729T213809Z
LAST-MODIFIED:20250729T213809Z
UID:22540-1754168400-1754177400@www.carnavaldecadiz.com
SUMMARY:VII Velada de la Salud
DESCRIPTION:Entre otras actuaciones participan: \n\nLa chirigota del Pollo – Una mala tarde la tiene cualquiera\nChirigota infantil – Los decentes\n\nEvento público de libre acceso.
URL:https://www.carnavaldecadiz.com/event/vii-velada-de-la-salud/
LOCATION:Plaza García Caparros\, Puerto Real\, calle Vejer 15\, Puerto Real\, Cádiz\, 11510\, España
CATEGORIES:actuaciones de carnaval
END:VEVENT
BEGIN:VEVENT
DTSTART;TZID=Europe/Madrid:20250802T210000
DTEND;TZID=Europe/Madrid:20250802T233000
DTSTAMP:20260420T073024
CREATED:20250731T194107Z
LAST-MODIFIED:20250731T194124Z
UID:22581-1754168400-1754177400@www.carnavaldecadiz.com
SUMMARY:Comparsa 'LOS DEL OTRO BARRIO' en Almería
DESCRIPTION:Compra on-line de LOCALIDADES
URL:https://www.carnavaldecadiz.com/event/comprasa-los-del-otro-barrio-en-almeria/
LOCATION:Auditorio Municipal Maestro Padilla\, Almería\, Plaza Alfredo Kraus\, Almería\, Almería\, 04007\, Spain
CATEGORIES:actuaciones de carnaval
END:VEVENT
BEGIN:VEVENT
DTSTART;TZID=Europe/Madrid:20250802T210000
DTEND;TZID=Europe/Madrid:20250803T000000
DTSTAMP:20260420T073024
CREATED:20250716T124613Z
LAST-MODIFIED:20250716T124613Z
UID:22128-1754168400-1754179200@www.carnavaldecadiz.com
SUMMARY:III Noche de Carnaval en Los Barrios
DESCRIPTION:Actuará: \n\nComparsa – LAS RATAS\nChirigota – AL CIELO CON EL\nChirigota – LOS GORDOS\nComparsa – LA RESISTENCIA\nChirigota – VIVA LA VIRGEN DEL KARMA\nChirigota – LOS CAGONES\nChirigota – LOS HERMANOS DEL BUEN FIN\nChirigota – LOS MUCHACHOS DEL CONGELAO
URL:https://www.carnavaldecadiz.com/event/iii-noche-de-carnaval-en-los-barrios/
LOCATION:Plaza de Toros ‘La Montera’\, Los Barrios\, calle Recinto Ferial s/n\, Los Barrios\, Cádiz\, 11370\, Spain
CATEGORIES:actuaciones de carnaval
END:VEVENT
BEGIN:VEVENT
DTSTART;TZID=Europe/Madrid:20250802T213000
DTEND;TZID=Europe/Madrid:20250803T003000
DTSTAMP:20260420T073025
CREATED:20250728T203644Z
LAST-MODIFIED:20250729T210136Z
UID:22484-1754170200-1754181000@www.carnavaldecadiz.com
SUMMARY:XXIX Noche Carnavalesca Barriada Bazan
DESCRIPTION:La XXIX Noche Carnavalesca\, este año estará dedicada al carnavalero isleño Francisco Asencio Sánchez\, más conocido como Paco Lara. \nActuarán: \n\nChirigota – Los Malfo-llados\nAntología – Sal de Coplas\nEl comparsista Toni Piojo\nChirigota – Los Sherijuegos\n\nEvento público de libre acceso. \n 
URL:https://www.carnavaldecadiz.com/event/xxix-noche-carnavalesca-barriada-bazan/
LOCATION:Polideporivo Bazan\, San Fernando\, calle Concha Pérez Baturone 8\, San Fernando\, Cádiz\, 11100\, España
CATEGORIES:actuaciones de carnaval
END:VEVENT
BEGIN:VEVENT
DTSTART;TZID=Europe/Madrid:20250802T220000
DTEND;TZID=Europe/Madrid:20250802T230000
DTSTAMP:20260420T073025
CREATED:20250728T194847Z
LAST-MODIFIED:20250728T194847Z
UID:22469-1754172000-1754175600@www.carnavaldecadiz.com
SUMMARY:Carnaval en Caño 18
DESCRIPTION:Reservas 658933689
URL:https://www.carnavaldecadiz.com/event/carnaval-en-cano-18-24/
LOCATION:Caño 18 Gastrobar\, calle San Juan Bautista\, local 7\, San Fernando\, Cádiz\, 11100
CATEGORIES:actuaciones de carnaval
END:VEVENT
BEGIN:VEVENT
DTSTART;TZID=Europe/Madrid:20250802T220000
DTEND;TZID=Europe/Madrid:20250802T233000
DTSTAMP:20260420T073025
CREATED:20250716T122702Z
LAST-MODIFIED:20250716T122702Z
UID:22124-1754172000-1754177400@www.carnavaldecadiz.com
SUMMARY:Chirigota LOS CALAITA en Alcalá la Real
DESCRIPTION:PRECIO DE LAS ENTRADAS: \n\nVenta anticipada 15€\nPrecio en taquilla 20€\n\nPUNTOS DE VENTA FÍSICOS: \n\nMercería Casa Pedro\nPeluquería Jesús Borrego\nIstalaciones Eléctricas Ildefonso Rosales\nTejidos RM
URL:https://www.carnavaldecadiz.com/event/chirigota-los-calaita-en-alcala-la-real/
LOCATION:Colegio Alonso Alcalá\, Alcalá la Real\, carretera de Granada 1\, Alcalá la Real\, Jaén\, 23680\, Spain
CATEGORIES:actuaciones de carnaval
END:VEVENT
BEGIN:VEVENT
DTSTART;TZID=Europe/Madrid:20250802T220000
DTEND;TZID=Europe/Madrid:20250802T233000
DTSTAMP:20260420T073025
CREATED:20250716T130643Z
LAST-MODIFIED:20250716T130643Z
UID:22135-1754172000-1754177400@www.carnavaldecadiz.com
SUMMARY:'Échame una mano¡Primo!' en Sanlúcar
DESCRIPTION:PRECIO DE LAS ENTRADAS: \n\nCompra anticipada 15€\nPrecio en taquilla 20€\n\nCOMPRA POR TELÉFONO: \n670313208 / 644600760 / 627298053 / 686005011
URL:https://www.carnavaldecadiz.com/event/echame-una-manoprimo-en-sanlucar/
LOCATION:Colegio La Salle\, Sanlúcar\, calle del Ángel 2\, Sanlúcar de Barrameda\, Cádiz\, 11540\, Spain
CATEGORIES:actuaciones de carnaval
END:VEVENT
BEGIN:VEVENT
DTSTART;TZID=Europe/Madrid:20250802T233000
DTEND;TZID=Europe/Madrid:20250803T003000
DTSTAMP:20260420T073025
CREATED:20250731T181702Z
LAST-MODIFIED:20250731T181702Z
UID:22568-1754177400-1754181000@www.carnavaldecadiz.com
SUMMARY:Antología 'CÁDIZ DE MIL COLORES' en Chiclana
DESCRIPTION:En la Urbanización “Casas andaluzas” junto al San Andrés Golf Club.\nVerano\, coplas\, copas\, Chiclana….un cóctel perfecto \nEvento público de libre acceso
URL:https://www.carnavaldecadiz.com/event/antologia-cadiz-de-mil-colores-en-chiclana/
LOCATION:San Andrés Club de Golf\, Chiclana\, calle Finlandia 1\, Chiclana de la Frontera\, Cádiz\, 11130\, Spain
CATEGORIES:actuaciones de carnaval
END:VEVENT
BEGIN:VEVENT
DTSTART;TZID=Europe/Madrid:20250803T220000
DTEND;TZID=Europe/Madrid:20250803T230000
DTSTAMP:20260420T073025
CREATED:20250731T184331Z
LAST-MODIFIED:20250731T184331Z
UID:22572-1754258400-1754262000@www.carnavaldecadiz.com
SUMMARY:'LOS CALAITA' en El Gastor
DESCRIPTION:Evento público de libre acceso.
URL:https://www.carnavaldecadiz.com/event/los-calaita-en-el-gastor/
LOCATION:Salón Usos Múltiples\, El Gastor\, calle Tras Hornete 9\, El Gastor\, Cádiz\, 11687\, Spain
CATEGORIES:actuaciones de carnaval
END:VEVENT
BEGIN:VEVENT
DTSTART;TZID=Europe/Madrid:20250806T210000
DTEND;TZID=Europe/Madrid:20250806T233000
DTSTAMP:20260420T073025
CREATED:20250725T120853Z
LAST-MODIFIED:20250725T120853Z
UID:22376-1754514000-1754523000@www.carnavaldecadiz.com
SUMMARY:Entrega del Premio 'Capitan Veneno'
DESCRIPTION:Actuarán: \n\nChirigota – LOS CALAITAS\nComparsa – LAS RATAS\nCuarteto – KU KLUX KLAN KLAN\nCoro – EL GALLINERO\n\nCompra on-line de LOCALIDADES
URL:https://www.carnavaldecadiz.com/event/entrega-del-premio-capitan-veneno/
LOCATION:Baluarte de Candelaria\, Alameda Hermanas Carvia Bernal 6\, Cádiz\, Cádiz\, 11003\, España
CATEGORIES:actuaciones de carnaval
END:VEVENT
BEGIN:VEVENT
DTSTART;VALUE=DATE:20250807
DTEND;VALUE=DATE:20250810
DTSTAMP:20260420T073025
CREATED:20250804T142506Z
LAST-MODIFIED:20250805T203248Z
UID:22681-1754524800-1754783999@www.carnavaldecadiz.com
SUMMARY:I Concurso de Antologías 'PLAZA MINA'
DESCRIPTION:ORDEN DE ACTUACIÓN \nJueves 7 de agosto \n\n20:30h – Melody y sus gorilas\n21:00h – Los peladores de Marisca\n21:30h – Los hermanos hasta el fin\n22:ooh – Paté de Gabacho\n22:30h – Los afortunados\n23:00h – Los tuyos\n23:30h – Los antililógicos\n\nViernes 8 de agosto \n\n21:00h – Dando la lata\n22:00h – Savia nueva\n22:30h – Antología Desde la Frontera – Anticuario\n23:30h – Antología Acordes de Cádiz\n\nSábado 9 de agosto\, final. \nA la espera de grupos clasificados y orden de actuación. \nTodos eventos públicos de libre acceso.
URL:https://www.carnavaldecadiz.com/event/i-concurso-de-antologias-plaza-mina/
LOCATION:Plaza Mina\, Cádiz\, Plaza Mina\, Cádiz\, Cádiz\, 11004\, Spain
CATEGORIES:actuaciones de carnaval
END:VEVENT
BEGIN:VEVENT
DTSTART;TZID=Europe/Madrid:20250807T210000
DTEND;TZID=Europe/Madrid:20250807T220000
DTSTAMP:20260420T073025
CREATED:20250729T211130Z
LAST-MODIFIED:20250729T211130Z
UID:22534-1754600400-1754604000@www.carnavaldecadiz.com
SUMMARY:Actuación de la Chirigota 'LOS MALFO-LLADOS'
DESCRIPTION:Evento público de libre acceso.
URL:https://www.carnavaldecadiz.com/event/actuacion-de-la-chirigota-los-malfo-llados-2/
LOCATION:Plaza de la Pastora\, San Fernando\, calle Daniel González 7\, San Fernando\, Cádiz\, 11100\, España
CATEGORIES:actuaciones de carnaval
END:VEVENT
BEGIN:VEVENT
DTSTART;TZID=Europe/Madrid:20250807T210000
DTEND;TZID=Europe/Madrid:20250807T233000
DTSTAMP:20260420T073025
CREATED:20250725T121812Z
LAST-MODIFIED:20250725T121812Z
UID:22382-1754600400-1754609400@www.carnavaldecadiz.com
SUMMARY:José Ramón de Castro 'RAMONI' en el Pay-pay
DESCRIPTION:Compra y reserva de localidades en Café Teatro Pay-pay
URL:https://www.carnavaldecadiz.com/event/jose-ramon-de-castro-ramoni-en-el-pay-pay-3/
LOCATION:Café Tatro Pay Pay\, C/ Silencio\, Cádiz\, Cádiz\, 11002
CATEGORIES:actuaciones de carnaval
END:VEVENT
BEGIN:VEVENT
DTSTART;TZID=Europe/Madrid:20250807T220000
DTEND;TZID=Europe/Madrid:20250807T230000
DTSTAMP:20260420T073025
CREATED:20250725T122513Z
LAST-MODIFIED:20250725T122513Z
UID:22385-1754604000-1754607600@www.carnavaldecadiz.com
SUMMARY:Noche de Carnaval de Cádiz en Villanueva del Duque
DESCRIPTION:Evento público de libre acceso.
URL:https://www.carnavaldecadiz.com/event/noche-de-carnaval-de-cadiz-en-villanueva-del-duque/
LOCATION:Pabellón Multiusos\, Villanueva del Duque\, Pº Aurelio Teno 5\, Villanueva del Duque\, Córdoba\, 14250\, Spain
CATEGORIES:actuaciones de carnaval
END:VEVENT
BEGIN:VEVENT
DTSTART;TZID=Europe/Madrid:20250807T220000
DTEND;TZID=Europe/Madrid:20250807T233000
DTSTAMP:20260420T073025
CREATED:20250725T121200Z
LAST-MODIFIED:20250725T121200Z
UID:22379-1754604000-1754609400@www.carnavaldecadiz.com
SUMMARY:Carnaval en la Cruz del Mar
DESCRIPTION:Información y reservas 623003841 \nDonativo 10€
URL:https://www.carnavaldecadiz.com/event/carnaval-en-la-cruz-del-mar-9/
LOCATION:Peña La Cruz del Mar\, Chipiona\, calle Padre Lerchundi 64\, Chipiona\, Cádiz\, España
CATEGORIES:actuaciones de carnaval
END:VEVENT
BEGIN:VEVENT
DTSTART;VALUE=DATE:20250808
DTEND;VALUE=DATE:20250810
DTSTAMP:20260420T073025
CREATED:20250804T142949Z
LAST-MODIFIED:20250806T131052Z
UID:22686-1754611200-1754783999@www.carnavaldecadiz.com
SUMMARY:Concurso de dúos 'Argüelles'
DESCRIPTION:Orden de actuación:\nViernes 8 de agosto a partir de las 21:00h \n\nLa cantera de Rota\nLos puntillitas\nDame un grrr\nEn Rota hay que mirar\nI love Chipiona\nLa chusma selecta\n\nSábado 9 de agosto a partir de las 21:00h \n\nLos Milei Jr\nPiando por Cádiz\nTodo pasó en la isla\nDel revés\nAudi-TT con una T\nLos calamares\nLos totugas Viña\n\nEventos públicos de libre acceso.
URL:https://www.carnavaldecadiz.com/event/concurso-de-duos-arguelles/
LOCATION:Calle Argüelles 3\, Rota.\, calle Argüelles\, 3\, Rota\, Cádiz\, 11520\, España
CATEGORIES:actuaciones de carnaval
END:VEVENT
END:VCALENDAR