BEGIN:VCALENDAR
VERSION:2.0
PRODID:-//Carnaval de C&aacute;diz - ECPv6.15.20//NONSGML v1.0//EN
CALSCALE:GREGORIAN
METHOD:PUBLISH
X-WR-CALNAME:Carnaval de C&aacute;diz
X-ORIGINAL-URL:https://www.carnavaldecadiz.com
X-WR-CALDESC:Eventos para Carnaval de C&aacute;diz
REFRESH-INTERVAL;VALUE=DURATION:PT1H
X-Robots-Tag:noindex
X-PUBLISHED-TTL:PT1H
BEGIN:VTIMEZONE
TZID:Europe/Madrid
BEGIN:DAYLIGHT
TZOFFSETFROM:+0100
TZOFFSETTO:+0200
TZNAME:CEST
DTSTART:20240331T010000
END:DAYLIGHT
BEGIN:STANDARD
TZOFFSETFROM:+0200
TZOFFSETTO:+0100
TZNAME:CET
DTSTART:20241027T010000
END:STANDARD
BEGIN:DAYLIGHT
TZOFFSETFROM:+0100
TZOFFSETTO:+0200
TZNAME:CEST
DTSTART:20250330T010000
END:DAYLIGHT
BEGIN:STANDARD
TZOFFSETFROM:+0200
TZOFFSETTO:+0100
TZNAME:CET
DTSTART:20251026T010000
END:STANDARD
BEGIN:DAYLIGHT
TZOFFSETFROM:+0100
TZOFFSETTO:+0200
TZNAME:CEST
DTSTART:20260329T010000
END:DAYLIGHT
BEGIN:STANDARD
TZOFFSETFROM:+0200
TZOFFSETTO:+0100
TZNAME:CET
DTSTART:20261025T010000
END:STANDARD
END:VTIMEZONE
BEGIN:VEVENT
DTSTART;VALUE=DATE:20250602
DTEND;VALUE=DATE:20250918
DTSTAMP:20260420T084724
CREATED:20250601T202215Z
LAST-MODIFIED:20250918T214552Z
UID:21198-1748822400-1758153599@www.carnavaldecadiz.com
SUMMARY:Actuaciones de la Antología de la Chirigota del Sofri
DESCRIPTION:La chirigota del Sofri\, participó en el pasado COAC con el nombre de ‘LOS GOLPES DE PECHO’\, causando un muy buena impresión entre los aficionados.
URL:https://www.carnavaldecadiz.com/event/actuaciones-de-la-antologia-de-la-chirigota-del-sofri/
LOCATION:La Casa inquieta\, Conil\, Plaza de España 16\, Conil de la Frontera\, Cádiz\, 11140
CATEGORIES:actuaciones de carnaval
END:VEVENT
BEGIN:VEVENT
DTSTART;TZID=Europe/Madrid:20250702T220000
DTEND;TZID=Europe/Madrid:20250702T230000
DTSTAMP:20260420T084724
CREATED:20250625T184843Z
LAST-MODIFIED:20250625T184904Z
UID:21768-1751493600-1751497200@www.carnavaldecadiz.com
SUMMARY:Antología 'Cádiz de mil colores' en Rota
DESCRIPTION:Evento público de libre acceso.
URL:https://www.carnavaldecadiz.com/event/antologia-cadiz-de-mil-colores-en-rota/
LOCATION:Plaza Bartolomé Pérez\, Rota\, Plaza Bartolomé Pérez\, Rota\, Cádiz\, España
CATEGORIES:actuaciones de carnaval
END:VEVENT
BEGIN:VEVENT
DTSTART;TZID=Europe/Madrid:20250704T200000
DTEND;TZID=Europe/Madrid:20250704T220000
DTSTAMP:20260420T084724
CREATED:20250610T204300Z
LAST-MODIFIED:20250610T204300Z
UID:21460-1751659200-1751666400@www.carnavaldecadiz.com
SUMMARY:Chirigota 'LOS CALAITA' en Castillo de Sancti Petri
DESCRIPTION:Compra on-line de localidades: elcastillodesanctipetri.com \nTeléfono: 602 458 080 / 667 502 369
URL:https://www.carnavaldecadiz.com/event/chirigota-los-calaita-en-castillo-de-sancti-petri/
LOCATION:Castillo de Santi Petri\, Islote de Santi Petri\, Chiclana de la Frontera\, Cádiz\, 11100\, España
CATEGORIES:actuaciones de carnaval
END:VEVENT
BEGIN:VEVENT
DTSTART;TZID=Europe/Madrid:20250704T210000
DTEND;TZID=Europe/Madrid:20250704T230000
DTSTAMP:20260420T084724
CREATED:20250610T204848Z
LAST-MODIFIED:20250610T204848Z
UID:21463-1751662800-1751670000@www.carnavaldecadiz.com
SUMMARY:Los cagones & La familia Pepperoni
DESCRIPTION:La chirigota de Manuel Santander Cahue\, ‘LA FAMILIA PEPPERONI’\, marcó una época y una agrupación referente para toda una generación de carnavaleros. Este espectáculo le rinde homenaje\, a través de de sus herederos. \n 
URL:https://www.carnavaldecadiz.com/event/los-cagones-la-familia-pepperoni/
LOCATION:Colegio La Salle Viña\, Cádiz\, calle Martínez Campos 4\, Cádiz\, Cádiz\, 11002\, Spain
CATEGORIES:actuaciones de carnaval
END:VEVENT
BEGIN:VEVENT
DTSTART;TZID=Europe/Madrid:20250704T210000
DTEND;TZID=Europe/Madrid:20250704T233000
DTSTAMP:20260420T084724
CREATED:20250610T202708Z
LAST-MODIFIED:20250610T202708Z
UID:21454-1751662800-1751671800@www.carnavaldecadiz.com
SUMMARY:II Noche Carnavalesca Ciudad de Écija
DESCRIPTION:Actuarán: \n\nComparsa – EL CEMENTERIO\nComparsa – LAS RATAS\nComparsa – LA TRIBU\nChirigota – LOS HERMANOS DEL BUEN FIN\nChirigota – LOS CALAITA\nChirigota – AL CIELO CON EL\n\nCompra on-line de LOCALIDADES
URL:https://www.carnavaldecadiz.com/event/ii-noche-carnavalesca-ciudad-de-ecija/
LOCATION:EEPP Safa Écija\, Av. Dr. Sánchez Malo 75\, Écija\, Sevilla\, España
CATEGORIES:actuaciones de carnaval
END:VEVENT
BEGIN:VEVENT
DTSTART;TZID=Europe/Madrid:20250704T210000
DTEND;TZID=Europe/Madrid:20250704T233000
DTSTAMP:20260420T084724
CREATED:20250610T203444Z
LAST-MODIFIED:20250610T203444Z
UID:21457-1751662800-1751671800@www.carnavaldecadiz.com
SUMMARY:Chirigota Callejera 'LAS QUE TE DEJAN DE PIEDRA' en el Pay-pay
DESCRIPTION:Compra y reserva de localidades en Café Teatro Pay-pay
URL:https://www.carnavaldecadiz.com/event/chirigota-callejera-las-que-te-dejan-de-piedra-en-el-pay-pay/
LOCATION:Café Tatro Pay Pay\, C/ Silencio\, Cádiz\, Cádiz\, 11002
CATEGORIES:actuaciones de carnaval
END:VEVENT
BEGIN:VEVENT
DTSTART;TZID=Europe/Madrid:20250705T190000
DTEND;TZID=Europe/Madrid:20250705T230000
DTSTAMP:20260420T084724
CREATED:20250515T193451Z
LAST-MODIFIED:20250515T193451Z
UID:20857-1751742000-1751756400@www.carnavaldecadiz.com
SUMMARY:I Festival de Carnaval de Verano
DESCRIPTION:Grupos que participan: \n\nChirigota Ecija – AL CIELO CON ÉL\nLa Chirigota del Selu – APARTAMENTOS TURÍSTICOS JUANI WAINJAUS\nChirigota de Mérida 2024 Juego de Tronos\nLAS IGUALES\nLOKACOSTAO\nLOS QUE SOBRABAN\nCHIRIGOTA TARATACHIN\nCHIRIGOTA INFANTIL LOS JARAPALES\nCHIRIGOTA LOS MIMITOS\nCHIRIGOTA LOS FARRAGUAS\n\nZona Infantil con Castillos Hinchables y Juegos para los niños. \nCompra de localidades
URL:https://www.carnavaldecadiz.com/event/i-festival-de-carnaval-de-verano/
LOCATION:Plaza de Toros de Mérida\, calle de Vía Ensanche 1\, Mérida\, Badajoz\, 06800\, Spain
CATEGORIES:actuaciones de carnaval
END:VEVENT
BEGIN:VEVENT
DTSTART;TZID=Europe/Madrid:20250705T210000
DTEND;TZID=Europe/Madrid:20250705T223000
DTSTAMP:20260420T084724
CREATED:20250610T211141Z
LAST-MODIFIED:20250610T211213Z
UID:21470-1751749200-1751754600@www.carnavaldecadiz.com
SUMMARY:'Pa´piratas\, nosotros' en Cuatro Gatos
DESCRIPTION:Venta de localidades en taquilla.
URL:https://www.carnavaldecadiz.com/event/papiratas-nosotros-en-cuatro-gatos/
LOCATION:Cuatro Gatos\, Sevilla\, calle Madre Dolores Marquez 11\, Sevilla\, Sevilla\, 41003\, España
CATEGORIES:actuaciones de carnaval
END:VEVENT
BEGIN:VEVENT
DTSTART;TZID=Europe/Madrid:20250705T210000
DTEND;TZID=Europe/Madrid:20250705T233000
DTSTAMP:20260420T084724
CREATED:20250610T210422Z
LAST-MODIFIED:20250610T210422Z
UID:21466-1751749200-1751758200@www.carnavaldecadiz.com
SUMMARY:Noche de Carnaval en Coín
DESCRIPTION:Actuarán: \n\nComparsa – LA TRIBU\nComparsa – LAS RATAS\nComparsa – LA RESISTENCIA\nChirigota – LOS HERMANOS DEL BUEN FIN\nChirigota – LOS CALAITA\n\nCompra on-line de LOCALIDADES
URL:https://www.carnavaldecadiz.com/event/noche-de-carnaval-en-coin/
LOCATION:Auditorio Parque Leonor Princes de Asturias\,Coín\, Zona Sgal. 3\, 115\, Coín\, Málaga\, 29100\, Spain
CATEGORIES:actuaciones de carnaval
END:VEVENT
BEGIN:VEVENT
DTSTART;TZID=Europe/Madrid:20250705T210000
DTEND;TZID=Europe/Madrid:20250705T233000
DTSTAMP:20260420T084724
CREATED:20250610T213152Z
LAST-MODIFIED:20250610T213152Z
UID:21477-1751749200-1751758200@www.carnavaldecadiz.com
SUMMARY:Comparsa 'LA MAJADERÍA' en el Pay-pay
DESCRIPTION:Compra y reserva de localidades en Café Teatro Pay-pay
URL:https://www.carnavaldecadiz.com/event/comparsa-la-majaderia-en-el-pay-pay/
LOCATION:Café Tatro Pay Pay\, C/ Silencio\, Cádiz\, Cádiz\, 11002
CATEGORIES:actuaciones de carnaval
END:VEVENT
BEGIN:VEVENT
DTSTART;TZID=Europe/Madrid:20250705T210000
DTEND;TZID=Europe/Madrid:20250706T010000
DTSTAMP:20260420T084724
CREATED:20250610T212556Z
LAST-MODIFIED:20250610T212556Z
UID:21474-1751749200-1751763600@www.carnavaldecadiz.com
SUMMARY:Carnaval Mágico
DESCRIPTION:Actuarán: \n\nComparsa – LOS CUERVOS\nChirigota – APARTAMENTOS TURÍSTICOS JUANI WAINJAUS\nComparsa – LATRIBU\nChirigota – LOS JAMES BOND QUE DA GLORIA VERLOS\nChirigota – LOS CALAITA\nComparsa – LOS DEL OTRO BARRIO\n\nCompra on-line de LOCALIDADES
URL:https://www.carnavaldecadiz.com/event/carnaval-magico-2/
LOCATION:Estadio Nuevo Mirandilla\, Plaza Madrid s/n\, Cádiz\, Cádiz\, 11010\, España
CATEGORIES:actuaciones de carnaval
END:VEVENT
BEGIN:VEVENT
DTSTART;TZID=Europe/Madrid:20250705T210000
DTEND;TZID=Europe/Madrid:20250707T235900
DTSTAMP:20260420T084724
CREATED:20250610T200028Z
LAST-MODIFIED:20250704T172140Z
UID:21446-1751749200-1751932740@www.carnavaldecadiz.com
SUMMARY:Concurso de Antologías
DESCRIPTION:ORDEN DE ACTUACIÓN: \n\nMini grupo – Savia nueva\nChirigota – Los tuyos\nAntología – Acordes de Cádiz\nMini coro – Paté de Gabacho\nChirigota – Raza Morad\nAntología – Los cleriguillos\n\nEvento público de libre acceso.
URL:https://www.carnavaldecadiz.com/event/concurso-de-antologias/
LOCATION:Asociación Cultural ‘La Catedral del Arte’\, Cádiz\, calle Algodonales s/n\, Cádiz\, Cádiz\, 11011\, Spain
CATEGORIES:actuaciones de carnaval
END:VEVENT
BEGIN:VEVENT
DTSTART;TZID=Europe/Madrid:20250705T220000
DTEND;TZID=Europe/Madrid:20250705T233000
DTSTAMP:20260420T084724
CREATED:20250624T114554Z
LAST-MODIFIED:20250624T114554Z
UID:21739-1751752800-1751758200@www.carnavaldecadiz.com
SUMMARY:'Chulerías por Carnaval' en Caño18
DESCRIPTION:Reservas 658933689
URL:https://www.carnavaldecadiz.com/event/chulerias-por-carnaval-en-cano18/
LOCATION:Caño 18 Gastrobar\, calle San Juan Bautista\, local 7\, San Fernando\, Cádiz\, 11100
CATEGORIES:actuaciones de carnaval
END:VEVENT
BEGIN:VEVENT
DTSTART;TZID=Europe/Madrid:20250706T220000
DTEND;TZID=Europe/Madrid:20250706T233000
DTSTAMP:20260420T084725
CREATED:20250630T164658Z
LAST-MODIFIED:20250630T164658Z
UID:21833-1751839200-1751844600@www.carnavaldecadiz.com
SUMMARY:Antología 'LOS CAÑAVALEROS' en Bahía Sur
DESCRIPTION:Evento público de libre acceso
URL:https://www.carnavaldecadiz.com/event/antologia-los-canavaleros-en-bahia-sur/
LOCATION:Chiringuito Beach Club\, Bahía Sur\, Avenida Caño Herrera\, San Fernando\, Cádiz\, 11100\, España
CATEGORIES:actuaciones de carnaval
END:VEVENT
BEGIN:VEVENT
DTSTART;VALUE=DATE:20250709
DTEND;VALUE=DATE:20250712
DTSTAMP:20260420T084725
CREATED:20250620T211937Z
LAST-MODIFIED:20250711T191205Z
UID:21669-1752019200-1752278399@www.carnavaldecadiz.com
SUMMARY:XL Concurso de Coplas Antiguas 'El Quini'
DESCRIPTION:Bases e inscripciones. \nORDEN DE ACTUACIÓN\nMiércoles 9 de julio\, a partir de las 21:00h \n\nLos tuyos\nPaté de gabacho\nUn trío de toda la vida\nLos tercios de Cádiz\nLos hermanos hasta el fin\n\nJueves 10 de julio\, a partir de las 21:00h \n\nDando a lata\nSavia Nueva\nLa murga del SXXII\nLos acordes deCádiz\nLos peladores de mariscos\nLos antilógicos\nLos cleriguillos\n\nViernes 11 de julio\, a partir de las 21:00h \n\nLos tuyos\nLa murga del SXXII\nPaté de Gabacho\nSavia nueva\nLos acordes de Cádiz\nUn trío de toda la vida\nLos cleriguillos\n\nEvento público de libre acceso.
URL:https://www.carnavaldecadiz.com/event/xl-concurso-de-coplas-antiguas-el-quini/
LOCATION:AVV Murallas de San Carlos ‘La negrita’\, Cádiz\, calle San German 2\, Cádiz\, Cádiz\, 11004\, Spain
CATEGORIES:actuaciones de carnaval,concurso de carnaval
END:VEVENT
BEGIN:VEVENT
DTSTART;TZID=Europe/Madrid:20250711T210000
DTEND;TZID=Europe/Madrid:20250711T233000
DTSTAMP:20260420T084725
CREATED:20250624T121832Z
LAST-MODIFIED:20250624T121832Z
UID:21745-1752267600-1752276600@www.carnavaldecadiz.com
SUMMARY:Comparsa 'LA MALA' en el Pay-pay
DESCRIPTION:Compra y reserva de entradas en Café Teatro Pay-pay \nComparsa ‘LA MALA’ – Ficha
URL:https://www.carnavaldecadiz.com/event/comparsa-la-mala-en-el-pay-pay/
LOCATION:Café Tatro Pay Pay\, C/ Silencio\, Cádiz\, Cádiz\, 11002
CATEGORIES:actuaciones de carnaval
END:VEVENT
BEGIN:VEVENT
DTSTART;TZID=Europe/Madrid:20250711T210000
DTEND;TZID=Europe/Madrid:20250711T233000
DTSTAMP:20260420T084725
CREATED:20250701T131723Z
LAST-MODIFIED:20250709T114607Z
UID:21875-1752267600-1752276600@www.carnavaldecadiz.com
SUMMARY:Noche de Carnaval Callejero en Medina
DESCRIPTION:Participan: \n\nLos niños de la cueva – LOS COBIJAOS\nLa chirigota del Pasio – DESOMEOKUPOYO\nChirigota de Medina – LOS BREVAHEART\, CORAZÓN DE BREVA\nChirigota – AJUSTES DE CUENTAS\nChirigota de los grillaos – LOS QUE VINIERON POR NIÑAS Y SE LLEVARON 4 PIÑAS\nChirigota – LOS VIEJOS REVERDES\nRomancero – LO QUE HE PASAO PA MÍ SE QUEDA\n\nEvento público de libre acceso.
URL:https://www.carnavaldecadiz.com/event/noche-de-carnaval-callejero-en-medina/
LOCATION:Plaza del Llanete\, Medina Sidonia\, Plaza del Llanete\, Medina Sidonia\, Cádiz\, 11170\, Spain
CATEGORIES:actuaciones de carnaval,carnaval callejero
END:VEVENT
BEGIN:VEVENT
DTSTART;TZID=Europe/Madrid:20250711T213000
DTEND;TZID=Europe/Madrid:20250711T223000
DTSTAMP:20260420T084725
CREATED:20250710T144745Z
LAST-MODIFIED:20250710T144745Z
UID:22020-1752269400-1752273000@www.carnavaldecadiz.com
SUMMARY:Noche de Carnaval de Cádiz en Beas de Granada
DESCRIPTION:
URL:https://www.carnavaldecadiz.com/event/noche-de-carnaval-de-cadiz-en-beas-de-granada/
LOCATION:Plaza Alta\, Beas de Granada\, Plaza Alta\, Beas de Granada\, Granada\, 18184\, Spain
CATEGORIES:actuaciones de carnaval
END:VEVENT
BEGIN:VEVENT
DTSTART;TZID=Europe/Madrid:20250711T213000
DTEND;TZID=Europe/Madrid:20250711T233000
DTSTAMP:20260420T084725
CREATED:20250701T200717Z
LAST-MODIFIED:20250701T200717Z
UID:21897-1752269400-1752276600@www.carnavaldecadiz.com
SUMMARY:II Velada Solidaria con el Sáhara Occidental
DESCRIPTION:Organiza: ‘Cádiz Saharauia’ y IU Cádiz ciudad. \nActuarán: \n\nRomancero – LA COLIRIO\nRomancero – CON MÁS PRISA Y MENOS PAUSIA\nRomancero – LA MESETARIA DE CANDELARIA\nCuarteto – KU KLUX KLAN KLAN\nRomancero – EL PENURTIMO GADITANO\nRomancero – CHORIZONTES: LOS DEL BULO GORDO\n… y algunas sorpresas más.\n\nFila cero a beneficio del programa de ‘Vacaciones en paz’
URL:https://www.carnavaldecadiz.com/event/ii-velada-solidaria-con-el-sahara-occidental/
LOCATION:Plaza de la Libertad\, Cádiz\, Plaza de la Libertad\, Cádiz\, Cádiz\, 11100\, España
CATEGORIES:actuaciones de carnaval
END:VEVENT
BEGIN:VEVENT
DTSTART;TZID=Europe/Madrid:20250711T220000
DTEND;TZID=Europe/Madrid:20250711T233000
DTSTAMP:20260420T084725
CREATED:20250708T154803Z
LAST-MODIFIED:20250708T154803Z
UID:21964-1752271200-1752276600@www.carnavaldecadiz.com
SUMMARY:Noche de Carnaval en Puerto Real
DESCRIPTION:Actuarán: \n\nChirigota – Una mala tarde la tiene cualquiera\nChirigota – Los calaita\nChirigota – Los decenetes\n\nEvento público de libre acceso
URL:https://www.carnavaldecadiz.com/event/noche-de-carnaval-en-puerto-real-2/
LOCATION:Plaza Rafael Alberti\, Puerto Real\, Plaza Rafael Alberti\, Puerto Real\, Cádiz\, 11510\, Spain
CATEGORIES:actuaciones de carnaval
END:VEVENT
BEGIN:VEVENT
DTSTART;TZID=Europe/Madrid:20250711T223000
DTEND;TZID=Europe/Madrid:20250711T233000
DTSTAMP:20260420T084725
CREATED:20250710T150336Z
LAST-MODIFIED:20250710T150336Z
UID:22024-1752273000-1752276600@www.carnavaldecadiz.com
SUMMARY:Carnaval en Sanlúcar
DESCRIPTION:Actuarán: \nChirigota – LOS TIGRES BLUES BAND \nChirigota – LOS DISLEXICOS \nEvento público de libre acceso.
URL:https://www.carnavaldecadiz.com/event/carnaval-en-sanlucar/
LOCATION:Bonanza\, Sanlúcar\, Bonanza\, Sanlúcar de Barrameda\, Cádiz\, 11540\, Spain
CATEGORIES:actuaciones de carnaval
END:VEVENT
BEGIN:VEVENT
DTSTART;TZID=Europe/Madrid:20250712T183000
DTEND;TZID=Europe/Madrid:20250712T223000
DTSTAMP:20260420T084725
CREATED:20250709T220422Z
LAST-MODIFIED:20250709T220422Z
UID:22008-1752345000-1752359400@www.carnavaldecadiz.com
SUMMARY:Fiesta en los Barrios de Cádiz - Barrio de Astilleros
DESCRIPTION:Con la colaboración de la Asociación de Vecinos de Astilleros de Cádiz y las actuaciones de: \n\nGrupo ‘Fit Gipsy Dance’ de Ana Franco\,\nGrupo ‘Danza Urbana’ de Paula Rosendo\,\nChirigota ‘La Familia Topolino’\, \nComparsa ‘Generación Z’\, \nChirigota ‘Los Disléxicos’\nGrupo flamenco ‘Lumbre’.\n\nEvento público de libre acceso.
URL:https://www.carnavaldecadiz.com/event/fiesta-en-los-barrios-de-cadiz-barrio-de-astilleros/
LOCATION:Calle Infanta Leonor\, Cádiz\, calle Infanta Leonor\, Cádiz\, Cádiz\, 11012\, Spain
CATEGORIES:actuaciones de carnaval
END:VEVENT
BEGIN:VEVENT
DTSTART;TZID=Europe/Madrid:20250712T210000
DTEND;TZID=Europe/Madrid:20250712T223000
DTSTAMP:20260420T084725
CREATED:20250630T165046Z
LAST-MODIFIED:20250630T165046Z
UID:21837-1752354000-1752359400@www.carnavaldecadiz.com
SUMMARY:Noche de Romanceros en Conil
DESCRIPTION:Evento público de libre acceso.
URL:https://www.carnavaldecadiz.com/event/noche-de-romanceros-en-conil/
LOCATION:AAVV Las Virtudes-Conil\, calle Dos Hermanas 2A\, Conil de la Frontera\, Cádiz\, 11140\, España
CATEGORIES:actuaciones de carnaval
END:VEVENT
BEGIN:VEVENT
DTSTART;TZID=Europe/Madrid:20250712T210000
DTEND;TZID=Europe/Madrid:20250712T233000
DTSTAMP:20260420T084725
CREATED:20250601T204340Z
LAST-MODIFIED:20250617T182909Z
UID:21205-1752354000-1752363000@www.carnavaldecadiz.com
SUMMARY:Las charlas de la Peña - Victor Jurado
DESCRIPTION:Victor jurado es uno de los componentes con los que han contado autores tan afamados como Juan Carlos Aragon o Jesús Bienvenido\, y uno de los autores que más pueden dar que hablar por no cortarse un pelo con sus letras. En el COAC 2025 su chirigota ‘VOCES ESMAYADAS’ no dejó indiferente a nadie. Con el se asegura una buena charla de carnaval con un intérprete muy carismático.
URL:https://www.carnavaldecadiz.com/event/las-charlas-de-la-pena-victor-jurado/
LOCATION:Monaboba Street Food\, Cádiz\, Plaza del Falla 6\, Cádiz\, Cádiz\, 11003\, Spain
CATEGORIES:actuaciones de carnaval,mesa de debate
END:VEVENT
BEGIN:VEVENT
DTSTART;TZID=Europe/Madrid:20250712T210000
DTEND;TZID=Europe/Madrid:20250712T233000
DTSTAMP:20260420T084725
CREATED:20250701T141105Z
LAST-MODIFIED:20250701T141105Z
UID:21882-1752354000-1752363000@www.carnavaldecadiz.com
SUMMARY:Adrián López 'Waxi' en el Pay-pay
DESCRIPTION:Compra y reserva de entradas en Café Teatro Pay-pay
URL:https://www.carnavaldecadiz.com/event/adrian-lopez-waxi-en-el-pay-pay-3/
LOCATION:Café Tatro Pay Pay\, C/ Silencio\, Cádiz\, Cádiz\, 11002
CATEGORIES:actuaciones de carnaval
ATTACH;FMTTYPE=image/jpeg:https://www.carnavaldecadiz.com/wp-content/uploads/2025/07/0712Pay.jpg
END:VEVENT
BEGIN:VEVENT
DTSTART;TZID=Europe/Madrid:20250712T220000
DTEND;TZID=Europe/Madrid:20250712T233000
DTSTAMP:20260420T084725
CREATED:20250624T123143Z
LAST-MODIFIED:20250624T123143Z
UID:21748-1752357600-1752363000@www.carnavaldecadiz.com
SUMMARY:Carnaval de Cádiz en Calañas
DESCRIPTION:Actuarán entre otras: \n\nChirigota – LOS JAMES BOND\, QUE DA GLORIA VERLOS\nComparsa – EL CEMENTERIO\n\nEntradas anticipadas: \n\nSocios – 5€ \, con consumición.\nNo socios – 10€\n\nEntradas en Taquilla: \n\nSocios – 8€ \, con consumición.\nNo socios – 15€\n\nVenta anticipada: 651921654 / 691500070 / 615631606
URL:https://www.carnavaldecadiz.com/event/carnaval-de-cadiz-en-calanas-2/
LOCATION:Plaza Nuestra Señora de la Coronada\, Calañas\, Plaza Nuestra Señora de la Coronada\, Calañas\, Huelva\, 21309\, Spain
CATEGORIES:actuaciones de carnaval
END:VEVENT
BEGIN:VEVENT
DTSTART;TZID=Europe/Madrid:20250712T220000
DTEND;TZID=Europe/Madrid:20250712T233000
DTSTAMP:20260420T084725
CREATED:20250624T181619Z
LAST-MODIFIED:20250624T181619Z
UID:21752-1752357600-1752363000@www.carnavaldecadiz.com
SUMMARY:Trío de 'Los Molina' en Caño 18
DESCRIPTION:Teléfono de reservas 658933689
URL:https://www.carnavaldecadiz.com/event/trio-de-los-molina-en-cano-18-2/
LOCATION:Caño 18 Gastrobar\, calle San Juan Bautista\, local 7\, San Fernando\, Cádiz\, 11100
CATEGORIES:actuaciones de carnaval
END:VEVENT
BEGIN:VEVENT
DTSTART;VALUE=DATE:20250716
DTEND;VALUE=DATE:20250720
DTSTAMP:20260420T084725
CREATED:20250608T220923Z
LAST-MODIFIED:20250708T003311Z
UID:21367-1752624000-1752969599@www.carnavaldecadiz.com
SUMMARY:Semana Cultural La Salle Viña
DESCRIPTION:PROGRAMA\nMiércoles 16 de julio\, pregón de la semana cultural\, a partir de las 20:30h. \nPregoneros el Cuarteto del Gago: Miguel Ángel Moreno\, Ángel Gago\, Emilio Tello\, Francisco Javier González ‘Chicho’ y José Manuel Figueroa con ‘Ku Klux Klan Klan’ \nCon la participación del cuarteto infantil ‘A que voy yo y lo encuentro’ y el cuarteto juvenil ‘Este cuarteto no da abasto’ \nActuaciones: \n\nLa chirigota de Lubet\nComparsa LA RESISTENCIA\nComparsa EL CEMENTERIO\n\nJueves 17 de julio\, dedicado a la mujer\, a partir de las 19:30h. \nActuaciones:  \n\nChirigota infantil SI TU QUIERES SER FELIZ\nComparsa juvenil LA SELVA\n\nReivindicación de la Asociación Pro Derechos Humanos de Andalucía (APDHA) en defensa de los derechos de la mujer. \nActuaciones: \n\nCoro CÁDIZ\, EL SHOW\nComparsa LA VALLA\nComparsa LA MALA\nComparsa LA CHULITA\n\nViernes 18 de julio\, noche de carnaval\, a partir de las 21:00h. \nActuaciones: \n\nChirigota juvenil LAS GITANERAS\nCoro EL LADO OSCURO\nCoro LAS ENTRAÑAS DE CÁDIZ\nCoro EL GALLINERO\nChirigota LOS SHERIJUEGOS\nComparsa DES-OBDC\nChirigota UNA CHIRIGOTA CON SHONIKET3\n\nSábado 19 de julio\, dedicado al colectivo LGTBIQ+\, a partir de las 19:30h. \nMano a mano: \n\nCoro infantil LA PROMOCIÓN\nCoro juvenil EL CORO DE LA IA\n\nReivindicación de la Asociación Pro Derechos Humanos de Andalucía (APDAHA) en visibilización y educación en los derechos del colectivo LGTBIQ+ \nActuaciones: \n\nComparsa juvenil GENERACIÓN Z\nLa comparsa de Nene Cheza\nChirigota LOS CENADORES RUMANAS\nComparsa LOS PODEROSOS\nChirigota CUANDO TU VAS\, YO VENGO\n\nFiesta del Orgullo en La Viña: Dj\, Drags Queen invitadas y mesa de Glitter. Organizado por Contarte Eventos. \nTodos los eventos son públicos de libre acceso. \n  \n 
URL:https://www.carnavaldecadiz.com/event/semana-cultural-la-salle-vina/
LOCATION:Plaza Manolo Santander\, Cádiz\, Plaza de la Reina\, Cádiz\, Cádiz\, 11002\, España
CATEGORIES:actuaciones de carnaval,conferencia de carnaval,mesa de debate,Mucho más que carnaval
END:VEVENT
BEGIN:VEVENT
DTSTART;TZID=Europe/Madrid:20250716T080000
DTEND;TZID=Europe/Madrid:20250716T170000
DTSTAMP:20260420T084725
CREATED:20250716T113425Z
LAST-MODIFIED:20250716T113425Z
UID:22117-1752652800-1752685200@www.carnavaldecadiz.com
SUMMARY:Festival Benéfico de Carnaval en Sanlúcar
DESCRIPTION:La Hermandad del Carmen de bonanza organiza este Festival Benéfico de Carnaval para recaudar fondos para su obra social\, en el Teatro Municipal de Sanlúcar de Barrameda que se llena de carnaval\, risas y solidaridad con un cartel de lujo: \n\nChirigota infantil “Los del Huerto” (El Puerto de Santa María). CUARTO PREMIO COAC 2025 INFANTIL.\nChirigota Los Tigres Blues Band (Chirigota del Flay).\nChirigota de Los Calaita (Chirigota de Ale «Peluca») – PRIMER PREMIO COAC 2025.\nComparsa La Tribu (Comparsa del «Chapa») – CUARTO PREMIO COAC 2025.\nComparsa El Cementerio (Comparsa del «Jona») – Segundo Premio COAC 2025.\n\nUna noche inolvidable con lo mejor del Carnaval\, ¡por una buena causa! \nPRECIO DE LAS ENTRADAS: \n\nCompra anticipada de entradas: 18€ + gastos de gestión (1.80 euros)\nPrecio de la entrada en taquilla: 22€\n\nNo te quedes sin tu entrada para ti y toda tu familia. \nPUNTOS DE VENTA FÍSICOS: \n\nViajes Eclipse – Camino del Instituto 11 LOCAL 6\nKiosco Playa Bonanza (Cristina – Puerto Barrameda)\nPinturas Paco (C/San Salvador esquina con C/Bolsa)\nBar Triana (C/San Bartolomé 32\, en El Puerto de Santa María)\n\nPUNTO DE VENTA ON-LINE:  https://www.giglon.com/evento/noche-carnavalesca-sanlucar-de-barrameda
URL:https://www.carnavaldecadiz.com/event/festival-benefico-de-carnaval-en-sanlucar/
LOCATION:Cádiz
CATEGORIES:actuaciones de carnaval
END:VEVENT
BEGIN:VEVENT
DTSTART;VALUE=DATE:20250717
DTEND;VALUE=DATE:20250720
DTSTAMP:20260420T084725
CREATED:20250620T210703Z
LAST-MODIFIED:20250719T110944Z
UID:21664-1752710400-1752969599@www.carnavaldecadiz.com
SUMMARY:Concurso de verano de coplas en Candelaria
DESCRIPTION:Orden de actuación de semifinales\nJueves 17 de julio: \n\n20:30 h Savia Nueva Minigrupo\n21:00 h Los Hermanos hasta el fin Antología\n21:30 h Los piriñacas Minigrupo\n22:00 h Los Afortunados Antología\n22:30 h Acordes de Cádiz Minigrupo\n23:00 h Los Cleriguillos Antología\n\nViernes 18 de julio: \n\n20:30 h Un trio de toda la vida Minigrupo\n21:00 h Dando la lata Antología\n21:30 h Los Tercios de Cádiz Minigrupo\n22:00 h Los setenteros Minigrupo\n22:30 h Los tuyos Antología\n23:00 h Paté de Gabacho Antología\n\nSábado\, 19 de julio\, agrupaciones clasificadas: \n\nMinigrupo – Los piriñacas\nMinigrupo – Acordes de Cádiz\nMinigrupo – Un trío de toda la vida\nAntología – Los afortunados\nAntología – Los cleriguillos\nAntología – Los tuyos\nAntología minicoro – Paté de gabacho\n\nLa entrega de premios se realizará el mismo sábado a la conclusión de las actuaciones de las agrupaciones finalistas. \nEvento público de libre acceso.
URL:https://www.carnavaldecadiz.com/event/concurso-de-verano-de-coplas-en-candelaria/
LOCATION:peña La Estrella\, Plaza Candelaria 7\, Cádiz\, Cádiz\, 11005\, España
CATEGORIES:actuaciones de carnaval,concurso de carnaval
END:VEVENT
END:VCALENDAR