BEGIN:VCALENDAR
VERSION:2.0
PRODID:-//Carnaval de C&aacute;diz - ECPv6.15.20//NONSGML v1.0//EN
CALSCALE:GREGORIAN
METHOD:PUBLISH
X-WR-CALNAME:Carnaval de C&aacute;diz
X-ORIGINAL-URL:https://www.carnavaldecadiz.com
X-WR-CALDESC:Eventos para Carnaval de C&aacute;diz
REFRESH-INTERVAL;VALUE=DURATION:PT1H
X-Robots-Tag:noindex
X-PUBLISHED-TTL:PT1H
BEGIN:VTIMEZONE
TZID:Europe/Madrid
BEGIN:DAYLIGHT
TZOFFSETFROM:+0100
TZOFFSETTO:+0200
TZNAME:CEST
DTSTART:20250330T010000
END:DAYLIGHT
BEGIN:STANDARD
TZOFFSETFROM:+0200
TZOFFSETTO:+0100
TZNAME:CET
DTSTART:20251026T010000
END:STANDARD
BEGIN:DAYLIGHT
TZOFFSETFROM:+0100
TZOFFSETTO:+0200
TZNAME:CEST
DTSTART:20260329T010000
END:DAYLIGHT
BEGIN:STANDARD
TZOFFSETFROM:+0200
TZOFFSETTO:+0100
TZNAME:CET
DTSTART:20261025T010000
END:STANDARD
BEGIN:DAYLIGHT
TZOFFSETFROM:+0100
TZOFFSETTO:+0200
TZNAME:CEST
DTSTART:20270328T010000
END:DAYLIGHT
BEGIN:STANDARD
TZOFFSETFROM:+0200
TZOFFSETTO:+0100
TZNAME:CET
DTSTART:20271031T010000
END:STANDARD
END:VTIMEZONE
BEGIN:VEVENT
DTSTART;VALUE=DATE:20260201
DTEND;VALUE=DATE:20260701
DTSTAMP:20260425T012850
CREATED:20260223T154153Z
LAST-MODIFIED:20260223T154153Z
UID:28533-1769904000-1782863999@www.carnavaldecadiz.com
SUMMARY:Exposiciones Casa del Carnaval
DESCRIPTION:Exposiciones en la Casa del Carnaval\n\nEl Carnaval de Cádiz a lápiz – Por Irene Vélez\nCallejerismos – Por Daniello Prodotti\nLa calle es nuestra – Más de 30 años de carnaval en la calle\, por Fernando Miralles\nExposición de los carteles originales del Carnaval de Cádiz\, desde 1984 – Cedidos por el Archivo Histórico Provincial\nExposición ‘Tipos de Cuidado’ – Por Joaquín Hernández ‘Kiki’\nExposición Homenaje a Basilo Ruiz (Antifaz de oro 2003) – Organizado por el Aula de Cultura del Carnaval de Cádiz\nCarnaval de improviso. Retratos Urgentes: La trastienda del COAC – de Julio Álvarez\n\nHorarios de Visitas \n\nDe lunes a sábado de 11:00 a 19:00 horas (última entrada a las 18:00)\nDomingos y festivos de 11:00 a 14:00 horas (última entrada a las 13:00)\n\nEntrada libre.
URL:https://www.carnavaldecadiz.com/event/exposiciones-casa-del-carnaval/
LOCATION:Casa del Carnaval\, Cádiz\, calle Marqués del Real Tesoro 15\, 17\, Cádiz\, Cádiz\, 11001\, España
CATEGORIES:exposiciones
ATTACH;FMTTYPE=image/jpeg:https://www.carnavaldecadiz.com/wp-content/uploads/2026/02/Expos-casa-carnaval.jpg
END:VEVENT
BEGIN:VEVENT
DTSTART;VALUE=DATE:20260401
DTEND;VALUE=DATE:20260601
DTSTAMP:20260425T012850
CREATED:20260331T165109Z
LAST-MODIFIED:20260331T165203Z
UID:29540-1775001600-1780271999@www.carnavaldecadiz.com
SUMMARY:Exposición de 'El Flores' - EL FESTIVAL QUE NUNCA FUE
DESCRIPTION:El Flores\, es un dibujante de cómic e ilustrador cuyo trabajo se mueve entre la narrativa gráfica y la exploración visual de la cultura popular. Su estilo\, marcado por una fuerte identidad y un enfoque expresivo\, conecta lo cotidiano con lo imaginario\, dando vida a universos propios donde el humor\, la música y el entorno andaluz tienen un peso especial. \n“EL FESTIVAL QUE NUNCA FUE” es una exposición compuesta por 7 obras que giran en torno a una idea ficticia: un festival que nunca llegó a celebrarse. Cada pieza representa a uno de los 7 grupos musicales inventados que habrían formado parte del cartel\, construyendo así un relato visual que mezcla nostalgia\, música y creatividad. \nA través de estas obras\, El Flores sugiere historias\, sonidos y estéticas que el espectador completa en su imaginación. La exposición funciona como un archivo de lo que pudo haber sido\, un homenaje a la cultura musical y a esos momentos únicos que\, aunque nunca ocurrieron\, se sienten reales. \nExposición de libre acceso.
URL:https://www.carnavaldecadiz.com/event/exposicion-de-el-flores-el-festival-que-nunca-fue/
LOCATION:La Cara B\, Cádiz\, calle Isabel la Católica 3\, Cádiz\, Cádiz\, 11004\, Spain
CATEGORIES:exposiciones,Mucho más que carnaval
ATTACH;FMTTYPE=image/jpeg:https://www.carnavaldecadiz.com/wp-content/uploads/2026/03/0403Cara.jpg
END:VEVENT
BEGIN:VEVENT
DTSTART;VALUE=DATE:20260425
DTEND;VALUE=DATE:20260427
DTSTAMP:20260425T012850
CREATED:20260422T102028Z
LAST-MODIFIED:20260422T102028Z
UID:30158-1777075200-1777247999@www.carnavaldecadiz.com
SUMMARY:Comparsa LOS HUMANOS en Madrid
DESCRIPTION:Dos actuaciones que tendrán lugar en el Teatro La Latina en Madrid \nSábado 25 de abril a partir de las 12:30h – Compra en línea de LOCALIDADES \nDomingo 26 de abril a partir de las 12:30h – Compra en línea de LOCALIDADES
URL:https://www.carnavaldecadiz.com/event/comparsa-los-humanos-en-madrid/
LOCATION:Teatro la Latina\, Plaza de la cebada 2\, Madrid\, Madrid\, 28005\, España
CATEGORIES:actuaciones de carnaval
ATTACH;FMTTYPE=image/jpeg:https://www.carnavaldecadiz.com/wp-content/uploads/2026/04/0425Madrid-Ares.jpg
END:VEVENT
BEGIN:VEVENT
DTSTART;TZID=Europe/Madrid:20260425T180000
DTEND;TZID=Europe/Madrid:20260425T220000
DTSTAMP:20260425T012850
CREATED:20260422T103630Z
LAST-MODIFIED:20260422T103630Z
UID:30164-1777140000-1777154400@www.carnavaldecadiz.com
SUMMARY:Tarde de Chirigotas en Úbeda
DESCRIPTION:Actuarán: \n\nUNA CHIRIGOTA EN TEORÍA\nLOS AMISH\nUMIRDAH Y PASIENSIAH\n\nPrecios de las entradas: \n\nCompra anticipada 20€\nEn taquilla 25€\n\nVenta de entradas: \n\nAyuntamiento de Úbeda/ Área de Cultura\nHospital de Santiago
URL:https://www.carnavaldecadiz.com/event/tarde-de-chirigotas-en-ubeda/
LOCATION:Teatro SAFA\, Úbeda\, Avenida Cristo Rey\, 25\, Úbeda\, Jaen\, 23400\, Spain
CATEGORIES:actuaciones de carnaval
ATTACH;FMTTYPE=image/jpeg:https://www.carnavaldecadiz.com/wp-content/uploads/2026/04/0425Ubeda.jpg
END:VEVENT
BEGIN:VEVENT
DTSTART;TZID=Europe/Madrid:20260425T190000
DTEND;TZID=Europe/Madrid:20260425T210000
DTSTAMP:20260425T012850
CREATED:20260422T114413Z
LAST-MODIFIED:20260422T114413Z
UID:30174-1777143600-1777150800@www.carnavaldecadiz.com
SUMMARY:Fábulas de Cadi\, Cadi
DESCRIPTION:FÁBULAS DE CADI\, CADI es una divertida ruta cultural guiada por un simpático fraile\, que te descubrirá historias curiosas de la ciudad de Cádiz y su vecindad. \nMás información y reservas historietasdecadiz@gmail.com
URL:https://www.carnavaldecadiz.com/event/fabulas-de-cadi-cadi-8/
LOCATION:Cádiz\, Cádiz\, Cádiz\, España
CATEGORIES:Ruta Cultural
ATTACH;FMTTYPE=image/jpeg:https://www.carnavaldecadiz.com/wp-content/uploads/2026/04/0525Historietas-jpg.jpg
END:VEVENT
BEGIN:VEVENT
DTSTART;TZID=Europe/Madrid:20260425T200000
DTEND;TZID=Europe/Madrid:20260425T213000
DTSTAMP:20260425T012850
CREATED:20260422T121346Z
LAST-MODIFIED:20260422T121346Z
UID:30177-1777147200-1777152600@www.carnavaldecadiz.com
SUMMARY:Concierto de Carnaval 'RAPSODIA DE TANGOS'
DESCRIPTION:Programa: \nEl espectáculo RAPSODIA DE TANGOS es un recorrido narrado por 18 composiciones históricas\, datadas entre 1890 y 1960\, e interpretadas por la Camerata Instrumental L´istesso Tempo. \nEvento público de libre acceso.
URL:https://www.carnavaldecadiz.com/event/concierto-de-carnaval-rapsodia-de-tangos/
LOCATION:Casa del Carnaval\, Cádiz\, calle Marqués del Real Tesoro 15\, 17\, Cádiz\, Cádiz\, 11001\, España
CATEGORIES:actuaciones de carnaval
ATTACH;FMTTYPE=image/jpeg:https://www.carnavaldecadiz.com/wp-content/uploads/2026/04/0425Museo-jpg.jpg
END:VEVENT
BEGIN:VEVENT
DTSTART;TZID=Europe/Madrid:20260425T210000
DTEND;TZID=Europe/Madrid:20260425T233000
DTSTAMP:20260425T012850
CREATED:20260422T102757Z
LAST-MODIFIED:20260422T102757Z
UID:30161-1777150800-1777159800@www.carnavaldecadiz.com
SUMMARY:Chirigota LAS EUROVISIVAS en el Pay-pay
DESCRIPTION:Más información y reservas de localidades en Café Teatro Pay-pay
URL:https://www.carnavaldecadiz.com/event/chirigota-las-eurovisivas-en-el-pay-pay/
LOCATION:Café Tatro Pay Pay\, C/ Silencio\, Cádiz\, Cádiz\, 11002
CATEGORIES:actuaciones de carnaval
ATTACH;FMTTYPE=image/jpeg:https://www.carnavaldecadiz.com/wp-content/uploads/2026/04/0425Pay.jpg
END:VEVENT
BEGIN:VEVENT
DTSTART;TZID=Europe/Madrid:20260425T220000
DTEND;TZID=Europe/Madrid:20260425T230000
DTSTAMP:20260425T012850
CREATED:20260422T101215Z
LAST-MODIFIED:20260422T101215Z
UID:30155-1777154400-1777158000@www.carnavaldecadiz.com
SUMMARY:Noche de Carnaval en Caño 18
DESCRIPTION:Actuará el mini grupo de carnaval formado por: David\, Sergio\, Zeus y Jesús Cruz. \nMás información y reservas: 658933689
URL:https://www.carnavaldecadiz.com/event/noche-de-carnaval-en-cano-18-4/
LOCATION:Caño 18 Gastrobar\, calle San Juan Bautista\, local 7\, San Fernando\, Cádiz\, 11100
CATEGORIES:actuaciones de carnaval
ATTACH;FMTTYPE=image/jpeg:https://www.carnavaldecadiz.com/wp-content/uploads/2026/04/0425Cano-jpg.jpg
END:VEVENT
END:VCALENDAR